{"text_format":"3","workbook":"xlsx","n_sheets":108,"sheets":["General","In rearing (daily)","In rearing (weekly)","In prod (daily)","In prod (weekly)"," Out rearing","Out prod","Out bwt,fc,wc","Dia rear.","Dia prod","Dia bwt,fc,wc","Output Graph","Translation","Tabelle6","Tabelle7","Tabelle8","Tabelle9","Tabelle10","Tabelle11","Tabelle12","Tabelle13","Tabelle14","Tabelle15","Tabelle16","Tabelle17","Tabelle18","Tabelle19","Tabelle20","Tabelle21","Tabelle22","Tabelle23","Tabelle24","Tabelle25","Tabelle26","Tabelle27","Tabelle28","Tabelle29","Tabelle30","Tabelle31","Tabelle32","Tabelle33","Tabelle34","Tabelle35","Tabelle36","Tabelle37","Tabelle38","Tabelle39","Tabelle40","Tabelle41","Tabelle42","Tabelle43","Tabelle44","Tabelle45","Tabelle46","Tabelle47","Tabelle48","Tabelle49","Tabelle50","Tabelle51","Tabelle52","Tabelle53","Tabelle54","Tabelle55","Tabelle56","Tabelle57","Tabelle58","Tabelle59","Tabelle60","Tabelle61","Tabelle62","Tabelle63","Tabelle64","Tabelle65","Tabelle66","Tabelle67","Tabelle68","Tabelle69","Tabelle70","Tabelle71","Tabelle72","Tabelle73","Tabelle74","Tabelle75","Tabelle76","Tabelle77","Tabelle78","Tabelle79","Tabelle80","Tabelle81","Tabelle82","Tabelle83","Tabelle84","Tabelle85","Tabelle86","Tabelle87","Tabelle88","Tabelle89","Tabelle90","Tabelle91","Tabelle92","Tabelle93","Tabelle94","Tabelle95","Tabelle96","Tabelle97","Tabelle98","Tabelle99","Tabelle100"],"not_rendered":{"charts":8,"images":3,"defined_names":17},"unopened":[{"sheet":"Dia rear.","index":8,"reason":"not_a_worksheet"},{"sheet":"Dia prod","index":9,"reason":"not_a_worksheet"},{"sheet":"Dia bwt,fc,wc","index":10,"reason":"not_a_worksheet"},{"sheet":"Output Graph","index":11,"reason":"not_a_worksheet"}],"read":"whole","date_system":"1900"}

{"sheet":"General","index":0,"n_rows":32,"n_cols":10,"rows_kept":32,"merged":[[7,1,20,10],[31,1,44,10]]}
[null,{"$f":"Translation!B6","v":"Rearing Period"},null,null,{"$f":"Translation!B4","v":"LOHMANN BROWN Parent Stock"}]
[]
[{"$f":"Translation!B8","v":"Country:"},{"$nulls":5},{"$f":"Translation!B12","v":"Hatch Date:"}]
[{"$f":"Translation!B9","v":"Owner:"},{"$nulls":5},{"$f":"Translation!B13","v":"Date of Housing:"}]
[{"$f":"Translation!B10","v":"Farm:"},{"$nulls":5},{"$f":"Translation!B14","v":"No. of Females Housed:"}]
[{"$f":"Translation!B11","v":"Flock:"},{"$nulls":5},{"$f":"Translation!B15","v":"No. of Males Housed:"}]
[]
[{"$f":"Translation!B16","v":"Remarks:"}]
{"$rows_empty":16}
[null,{"$f":"Translation!B7","v":"Production Period"},null,null,{"$f":"Translation!B4","v":"LOHMANN BROWN Parent Stock"}]
[]
[{"$f":"Translation!B12","v":"Hatch Date:"},null,null,{"$f":"IF($J$3>0,J3, )","v":"00:00:00"}]
[{"$f":"Translation!B17","v":"Date 18 wks + 0:"},null,null,{"$f":"J3+126","v":"1900-05-05"},null,null,{"$f":"Translation!B13","v":"Date of Housing:"},null,null,{"$f":"D28","v":"1900-05-05"}]
[{"$f":"Translation!B18","v":"No. of hens with 18 weeks:"},null,null,{"$f":"' Out rearing'!C26","v":0},null,null,{"$f":"Translation!B14","v":"No. of Females Housed:"},null,null,{"$f":"D29","v":0}]
[{"$f":"Translation!B19","v":"No. of males with 18 weeks:"},null,null,{"$f":"' Out rearing'!D28","v":0},null,null,{"$f":"Translation!B15","v":"No. of Males Housed:"},null,null,{"$f":"D30","v":0}]
[]
[{"$f":"Translation!B16","v":"Remarks:"}]

{"sheet":"In rearing (daily)","index":1,"n_rows":161,"n_cols":11,"rows_kept":161}
[{"$f":"Translation!B22","v":"Date"},{"$f":"Translation!B23","v":"Age (days)"},{"$f":"Translation!B27","v":"No. of dead females"},{"$f":"Translation!B29","v":"No. of dead males"},{"$f":"Translation!B31","v":"Female Body Wt (g) "},{"$f":"Translation!B32","v":"Male Body Wt (g) "},{"$f":"Translation!B33","v":"Feed cons. (kg/day)"},{"$f":"Translation!B36","v":"Water cons. (l/day)"},{"$f":"Translation!B39","v":"Uniformity (%)"},{"$f":"Translation!B40","v":"a trait you like"},{"$f":"Translation!B16","v":"Remarks:"}]
[{"$f":"IF(General!$J$3>0,General!$J$3+B2, )","v":"00:00:00"},1,{"$nulls":8},0]
[{"$f":"IF(General!$J$3>0,General!$J$3+B3, )","v":"00:00:00"},2]
[{"$f":"IF(General!$J$3>0,General!$J$3+B4, )","v":"00:00:00"},3]
[{"$f":"IF(General!$J$3>0,General!$J$3+B5, )","v":"00:00:00"},4]
[{"$f":"IF(General!$J$3>0,General!$J$3+B6, )","v":"00:00:00"},5]
[{"$f":"IF(General!$J$3>0,General!$J$3+B7, )","v":"00:00:00"},6]
[{"$f":"IF(General!$J$3>0,General!$J$3+B8, )","v":"00:00:00"},7]
[{"$f":"A8","v":"00:00:00"},{"$f":"Translation!$B$26&\" 1\"","v":"Wk 1"},{"$f":"SUM(C2:C8)","v":0},{"$f":"SUM(D2:D8)","v":0},{"$f":"IFERROR(AVERAGE(E2:E8), )","v":0},{"$f":"IFERROR(AVERAGE(F2:F8), )","v":0},{"$f":"SUM(G2:G8)","v":0},{"$f":"SUM(H2:H8)","v":0},{"$f":"IFERROR(AVERAGE(I2:I8), )","v":0},{"$f":"IFERROR(AVERAGE(J2:J8), )","v":0}]
[{"$f":"IF(General!$J$3>0,General!$J$3+B10, )","v":"00:00:00"},8]
[{"$f":"IF(General!$J$3>0,General!$J$3+B11, )","v":"00:00:00"},9,{"$nulls":8},0]
[{"$f":"IF(General!$J$3>0,General!$J$3+B12, )","v":"00:00:00"},10]
[{"$f":"IF(General!$J$3>0,General!$J$3+B13, )","v":"00:00:00"},11]
[{"$f":"IF(General!$J$3>0,General!$J$3+B14, )","v":"00:00:00"},12]
[{"$f":"IF(General!$J$3>0,General!$J$3+B15, )","v":"00:00:00"},13]
[{"$f":"IF(General!$J$3>0,General!$J$3+B16, )","v":"00:00:00"},14]
[{"$f":"A16","v":"00:00:00"},{"$f":"Translation!$B$26&\" 2\"","v":"Wk 2"},{"$f":"SUM(C10:C16)","v":0},{"$f":"SUM(D10:D16)","v":0},{"$f":"IFERROR(AVERAGE(E10:E16), )","v":0},{"$f":"IFERROR(AVERAGE(F10:F16), )","v":0},{"$f":"SUM(G10:G16)","v":0},{"$f":"SUM(H10:H16)","v":0},{"$f":"IFERROR(AVERAGE(I10:I16), )","v":0},{"$f":"IFERROR(AVERAGE(J10:J16), )","v":0}]
[{"$f":"IF(General!$J$3>0,General!$J$3+B18, )","v":"00:00:00"},15]
[{"$f":"IF(General!$J$3>0,General!$J$3+B19, )","v":"00:00:00"},16]
[{"$f":"IF(General!$J$3>0,General!$J$3+B20, )","v":"00:00:00"},17]
[{"$f":"IF(General!$J$3>0,General!$J$3+B21, )","v":"00:00:00"},18]
[{"$f":"IF(General!$J$3>0,General!$J$3+B22, )","v":"00:00:00"},19]
[{"$f":"IF(General!$J$3>0,General!$J$3+B23, )","v":"00:00:00"},20]
[{"$f":"IF(General!$J$3>0,General!$J$3+B24, )","v":"00:00:00"},21]
[{"$f":"A24","v":"00:00:00"},{"$f":"Translation!$B$26&\" 3\"","v":"Wk 3"},{"$f":"SUM(C18:C24)","v":0},{"$f":"SUM(D18:D24)","v":0},{"$f":"IFERROR(AVERAGE(E18:E24), )","v":0},{"$f":"IFERROR(AVERAGE(F18:F24), )","v":0},{"$f":"SUM(G18:G24)","v":0},{"$f":"SUM(H18:H24)","v":0},{"$f":"IFERROR(AVERAGE(I18:I24), )","v":0},{"$f":"IFERROR(AVERAGE(J18:J24), )","v":0}]
[{"$f":"IF(General!$J$3>0,General!$J$3+B26, )","v":"00:00:00"},22]
[{"$f":"IF(General!$J$3>0,General!$J$3+B27, )","v":"00:00:00"},23]
[{"$f":"IF(General!$J$3>0,General!$J$3+B28, )","v":"00:00:00"},24]
[{"$f":"IF(General!$J$3>0,General!$J$3+B29, )","v":"00:00:00"},25]
[{"$f":"IF(General!$J$3>0,General!$J$3+B30, )","v":"00:00:00"},26]
[{"$f":"IF(General!$J$3>0,General!$J$3+B31, )","v":"00:00:00"},27]
[{"$f":"IF(General!$J$3>0,General!$J$3+B32, )","v":"00:00:00"},28]
[{"$f":"A32","v":"00:00:00"},{"$f":"Translation!$B$26&\" 4\"","v":"Wk 4"},{"$f":"SUM(C26:C32)","v":0},{"$f":"SUM(D26:D32)","v":0},{"$f":"IFERROR(AVERAGE(E26:E32), )","v":0},{"$f":"IFERROR(AVERAGE(F26:F32), )","v":0},{"$f":"SUM(G26:G32)","v":0},{"$f":"SUM(H26:H32)","v":0},{"$f":"IFERROR(AVERAGE(I26:I32), )","v":0},{"$f":"IFERROR(AVERAGE(J26:J32), )","v":0}]
[{"$f":"IF(General!$J$3>0,General!$J$3+B34, )","v":"00:00:00"},29]
[{"$f":"IF(General!$J$3>0,General!$J$3+B35, )","v":"00:00:00"},30]
[{"$f":"IF(General!$J$3>0,General!$J$3+B36, )","v":"00:00:00"},31]
[{"$f":"IF(General!$J$3>0,General!$J$3+B37, )","v":"00:00:00"},32]
[{"$f":"IF(General!$J$3>0,General!$J$3+B38, )","v":"00:00:00"},33]
[{"$f":"IF(General!$J$3>0,General!$J$3+B39, )","v":"00:00:00"},34]
[{"$f":"IF(General!$J$3>0,General!$J$3+B40, )","v":"00:00:00"},35]
[{"$f":"A40","v":"00:00:00"},{"$f":"Translation!$B$26&\" 5\"","v":"Wk 5"},{"$f":"SUM(C34:C40)","v":0},{"$f":"SUM(D34:D40)","v":0},{"$f":"IFERROR(AVERAGE(E34:E40), )","v":0},{"$f":"IFERROR(AVERAGE(F34:F40), )","v":0},{"$f":"SUM(G34:G40)","v":0},{"$f":"SUM(H34:H40)","v":0},{"$f":"IFERROR(AVERAGE(I34:I40), )","v":0},{"$f":"IFERROR(AVERAGE(J34:J40), )","v":0}]
[{"$f":"IF(General!$J$3>0,General!$J$3+B42, )","v":"00:00:00"},36]
[{"$f":"IF(General!$J$3>0,General!$J$3+B43, )","v":"00:00:00"},37]
[{"$f":"IF(General!$J$3>0,General!$J$3+B44, )","v":"00:00:00"},38]
[{"$f":"IF(General!$J$3>0,General!$J$3+B45, )","v":"00:00:00"},39]
[{"$f":"IF(General!$J$3>0,General!$J$3+B46, )","v":"00:00:00"},40]
[{"$f":"IF(General!$J$3>0,General!$J$3+B47, )","v":"00:00:00"},41]
[{"$f":"IF(General!$J$3>0,General!$J$3+B48, )","v":"00:00:00"},42]
[{"$f":"A48","v":"00:00:00"},{"$f":"Translation!$B$26&\" 6\"","v":"Wk 6"},{"$f":"SUM(C42:C48)","v":0},{"$f":"SUM(D42:D48)","v":0},{"$f":"IFERROR(AVERAGE(E42:E48), )","v":0},{"$f":"IFERROR(AVERAGE(F42:F48), )","v":0},{"$f":"SUM(G42:G48)","v":0},{"$f":"SUM(H42:H48)","v":0},{"$f":"IFERROR(AVERAGE(I42:I48), )","v":0},{"$f":"IFERROR(AVERAGE(J42:J48), )","v":0}]
[{"$f":"IF(General!$J$3>0,General!$J$3+B50, )","v":"00:00:00"},43]
[{"$f":"IF(General!$J$3>0,General!$J$3+B51, )","v":"00:00:00"},44]
[{"$f":"IF(General!$J$3>0,General!$J$3+B52, )","v":"00:00:00"},45]
[{"$f":"IF(General!$J$3>0,General!$J$3+B53, )","v":"00:00:00"},46]
[{"$f":"IF(General!$J$3>0,General!$J$3+B54, )","v":"00:00:00"},47]
[{"$f":"IF(General!$J$3>0,General!$J$3+B55, )","v":"00:00:00"},48]
[{"$f":"IF(General!$J$3>0,General!$J$3+B56, )","v":"00:00:00"},49]
[{"$f":"A56","v":"00:00:00"},{"$f":"Translation!$B$26&\" 7\"","v":"Wk 7"},{"$f":"SUM(C50:C56)","v":0},{"$f":"SUM(D50:D56)","v":0},{"$f":"IFERROR(AVERAGE(E50:E56), )","v":0},{"$f":"IFERROR(AVERAGE(F50:F56), )","v":0},{"$f":"SUM(G50:G56)","v":0},{"$f":"SUM(H50:H56)","v":0},{"$f":"IFERROR(AVERAGE(I50:I56), )","v":0},{"$f":"IFERROR(AVERAGE(J50:J56), )","v":0}]
[{"$f":"IF(General!$J$3>0,General!$J$3+B58, )","v":"00:00:00"},50]
[{"$f":"IF(General!$J$3>0,General!$J$3+B59, )","v":"00:00:00"},51]
[{"$f":"IF(General!$J$3>0,General!$J$3+B60, )","v":"00:00:00"},52]
[{"$f":"IF(General!$J$3>0,General!$J$3+B61, )","v":"00:00:00"},53]
[{"$f":"IF(General!$J$3>0,General!$J$3+B62, )","v":"00:00:00"},54]
[{"$f":"IF(General!$J$3>0,General!$J$3+B63, )","v":"00:00:00"},55]
[{"$f":"IF(General!$J$3>0,General!$J$3+B64, )","v":"00:00:00"},56]
[{"$f":"A64","v":"00:00:00"},{"$f":"Translation!$B$26&\" 8\"","v":"Wk 8"},{"$f":"SUM(C58:C64)","v":0},{"$f":"SUM(D58:D64)","v":0},{"$f":"IFERROR(AVERAGE(E58:E64), )","v":0},{"$f":"IFERROR(AVERAGE(F58:F64), )","v":0},{"$f":"SUM(G58:G64)","v":0},{"$f":"SUM(H58:H64)","v":0},{"$f":"IFERROR(AVERAGE(I58:I64), )","v":0},{"$f":"IFERROR(AVERAGE(J58:J64), )","v":0}]
[{"$f":"IF(General!$J$3>0,General!$J$3+B66, )","v":"00:00:00"},57]
[{"$f":"IF(General!$J$3>0,General!$J$3+B67, )","v":"00:00:00"},58]
[{"$f":"IF(General!$J$3>0,General!$J$3+B68, )","v":"00:00:00"},59]
[{"$f":"IF(General!$J$3>0,General!$J$3+B69, )","v":"00:00:00"},60]
[{"$f":"IF(General!$J$3>0,General!$J$3+B70, )","v":"00:00:00"},61]
[{"$f":"IF(General!$J$3>0,General!$J$3+B71, )","v":"00:00:00"},62]
[{"$f":"IF(General!$J$3>0,General!$J$3+B72, )","v":"00:00:00"},63]
[{"$f":"A72","v":"00:00:00"},{"$f":"Translation!$B$26&\" 9\"","v":"Wk 9"},{"$f":"SUM(C66:C72)","v":0},{"$f":"SUM(D66:D72)","v":0},{"$f":"IFERROR(AVERAGE(E66:E72), )","v":0},{"$f":"IFERROR(AVERAGE(F66:F72), )","v":0},{"$f":"SUM(G66:G72)","v":0},{"$f":"SUM(H66:H72)","v":0},{"$f":"IFERROR(AVERAGE(I66:I72), )","v":0},{"$f":"IFERROR(AVERAGE(J66:J72), )","v":0}]
[{"$f":"IF(General!$J$3>0,General!$J$3+B74, )","v":"00:00:00"},64]
[{"$f":"IF(General!$J$3>0,General!$J$3+B75, )","v":"00:00:00"},65]
[{"$f":"IF(General!$J$3>0,General!$J$3+B76, )","v":"00:00:00"},66]
[{"$f":"IF(General!$J$3>0,General!$J$3+B77, )","v":"00:00:00"},67]
[{"$f":"IF(General!$J$3>0,General!$J$3+B78, )","v":"00:00:00"},68]
[{"$f":"IF(General!$J$3>0,General!$J$3+B79, )","v":"00:00:00"},69]
[{"$f":"IF(General!$J$3>0,General!$J$3+B80, )","v":"00:00:00"},70]
[{"$f":"A80","v":"00:00:00"},{"$f":"Translation!$B$26&\" 10\"","v":"Wk 10"},{"$f":"SUM(C74:C80)","v":0},{"$f":"SUM(D74:D80)","v":0},{"$f":"IFERROR(AVERAGE(E74:E80), )","v":0},{"$f":"IFERROR(AVERAGE(F74:F80), )","v":0},{"$f":"SUM(G74:G80)","v":0},{"$f":"SUM(H74:H80)","v":0},{"$f":"IFERROR(AVERAGE(I74:I80), )","v":0},{"$f":"IFERROR(AVERAGE(J74:J80), )","v":0}]
[{"$f":"IF(General!$J$3>0,General!$J$3+B82, )","v":"00:00:00"},71]
[{"$f":"IF(General!$J$3>0,General!$J$3+B83, )","v":"00:00:00"},72]
[{"$f":"IF(General!$J$3>0,General!$J$3+B84, )","v":"00:00:00"},73]
[{"$f":"IF(General!$J$3>0,General!$J$3+B85, )","v":"00:00:00"},74]
[{"$f":"IF(General!$J$3>0,General!$J$3+B86, )","v":"00:00:00"},75]
[{"$f":"IF(General!$J$3>0,General!$J$3+B87, )","v":"00:00:00"},76]
[{"$f":"IF(General!$J$3>0,General!$J$3+B88, )","v":"00:00:00"},77]
[{"$f":"A88","v":"00:00:00"},{"$f":"Translation!$B$26&\" 11\"","v":"Wk 11"},{"$f":"SUM(C82:C88)","v":0},{"$f":"SUM(D82:D88)","v":0},{"$f":"IFERROR(AVERAGE(E82:E88), )","v":0},{"$f":"IFERROR(AVERAGE(F82:F88), )","v":0},{"$f":"SUM(G82:G88)","v":0},{"$f":"SUM(H82:H88)","v":0},{"$f":"IFERROR(AVERAGE(I82:I88), )","v":0},{"$f":"IFERROR(AVERAGE(J82:J88), )","v":0}]
[{"$f":"IF(General!$J$3>0,General!$J$3+B90, )","v":"00:00:00"},78]
[{"$f":"IF(General!$J$3>0,General!$J$3+B91, )","v":"00:00:00"},79]
[{"$f":"IF(General!$J$3>0,General!$J$3+B92, )","v":"00:00:00"},80]
[{"$f":"IF(General!$J$3>0,General!$J$3+B93, )","v":"00:00:00"},81]
[{"$f":"IF(General!$J$3>0,General!$J$3+B94, )","v":"00:00:00"},82]
[{"$f":"IF(General!$J$3>0,General!$J$3+B95, )","v":"00:00:00"},83]
[{"$f":"IF(General!$J$3>0,General!$J$3+B96, )","v":"00:00:00"},84]
[{"$f":"A96","v":"00:00:00"},{"$f":"Translation!$B$26&\" 12\"","v":"Wk 12"},{"$f":"SUM(C90:C96)","v":0},{"$f":"SUM(D90:D96)","v":0},{"$f":"IFERROR(AVERAGE(E90:E96), )","v":0},{"$f":"IFERROR(AVERAGE(F90:F96), )","v":0},{"$f":"SUM(G90:G96)","v":0},{"$f":"SUM(H90:H96)","v":0},{"$f":"IFERROR(AVERAGE(I90:I96), )","v":0},{"$f":"IFERROR(AVERAGE(J90:J96), )","v":0}]
[{"$f":"IF(General!$J$3>0,General!$J$3+B98, )","v":"00:00:00"},85]
[{"$f":"IF(General!$J$3>0,General!$J$3+B99, )","v":"00:00:00"},86]
[{"$f":"IF(General!$J$3>0,General!$J$3+B100, )","v":"00:00:00"},87]
[{"$f":"IF(General!$J$3>0,General!$J$3+B101, )","v":"00:00:00"},88]
[{"$f":"IF(General!$J$3>0,General!$J$3+B102, )","v":"00:00:00"},89]
[{"$f":"IF(General!$J$3>0,General!$J$3+B103, )","v":"00:00:00"},90]
[{"$f":"IF(General!$J$3>0,General!$J$3+B104, )","v":"00:00:00"},91]
[{"$f":"A104","v":"00:00:00"},{"$f":"Translation!$B$26&\" 13\"","v":"Wk 13"},{"$f":"SUM(C98:C104)","v":0},{"$f":"SUM(D98:D104)","v":0},{"$f":"IFERROR(AVERAGE(E98:E104), )","v":0},{"$f":"IFERROR(AVERAGE(F98:F104), )","v":0},{"$f":"SUM(G98:G104)","v":0},{"$f":"SUM(H98:H104)","v":0},{"$f":"IFERROR(AVERAGE(I98:I104), )","v":0},{"$f":"IFERROR(AVERAGE(J98:J104), )","v":0}]
[{"$f":"IF(General!$J$3>0,General!$J$3+B106, )","v":"00:00:00"},92]
[{"$f":"IF(General!$J$3>0,General!$J$3+B107, )","v":"00:00:00"},93]
[{"$f":"IF(General!$J$3>0,General!$J$3+B108, )","v":"00:00:00"},94]
[{"$f":"IF(General!$J$3>0,General!$J$3+B109, )","v":"00:00:00"},95]
[{"$f":"IF(General!$J$3>0,General!$J$3+B110, )","v":"00:00:00"},96]
[{"$f":"IF(General!$J$3>0,General!$J$3+B111, )","v":"00:00:00"},97]
[{"$f":"IF(General!$J$3>0,General!$J$3+B112, )","v":"00:00:00"},98]
[{"$f":"A112","v":"00:00:00"},{"$f":"Translation!$B$26&\" 14\"","v":"Wk 14"},{"$f":"SUM(C106:C112)","v":0},{"$f":"SUM(D106:D112)","v":0},{"$f":"IFERROR(AVERAGE(E106:E112), )","v":0},{"$f":"IFERROR(AVERAGE(F106:F112), )","v":0},{"$f":"SUM(G106:G112)","v":0},{"$f":"SUM(H106:H112)","v":0},{"$f":"IFERROR(AVERAGE(I106:I112), )","v":0},{"$f":"IFERROR(AVERAGE(J106:J112), )","v":0}]
[{"$f":"IF(General!$J$3>0,General!$J$3+B114, )","v":"00:00:00"},99]
[{"$f":"IF(General!$J$3>0,General!$J$3+B115, )","v":"00:00:00"},100]
[{"$f":"IF(General!$J$3>0,General!$J$3+B116, )","v":"00:00:00"},101]
[{"$f":"IF(General!$J$3>0,General!$J$3+B117, )","v":"00:00:00"},102]
[{"$f":"IF(General!$J$3>0,General!$J$3+B118, )","v":"00:00:00"},103]
[{"$f":"IF(General!$J$3>0,General!$J$3+B119, )","v":"00:00:00"},104]
[{"$f":"IF(General!$J$3>0,General!$J$3+B120, )","v":"00:00:00"},105]
[{"$f":"A120","v":"00:00:00"},{"$f":"Translation!$B$26&\" 15\"","v":"Wk 15"},{"$f":"SUM(C114:C120)","v":0},{"$f":"SUM(D114:D120)","v":0},{"$f":"IFERROR(AVERAGE(E114:E120), )","v":0},{"$f":"IFERROR(AVERAGE(F114:F120), )","v":0},{"$f":"SUM(G114:G120)","v":0},{"$f":"SUM(H114:H120)","v":0},{"$f":"IFERROR(AVERAGE(I114:I120), )","v":0},{"$f":"IFERROR(AVERAGE(J114:J120), )","v":0}]
[{"$f":"IF(General!$J$3>0,General!$J$3+B122, )","v":"00:00:00"},106]
[{"$f":"IF(General!$J$3>0,General!$J$3+B123, )","v":"00:00:00"},107]
[{"$f":"IF(General!$J$3>0,General!$J$3+B124, )","v":"00:00:00"},108]
[{"$f":"IF(General!$J$3>0,General!$J$3+B125, )","v":"00:00:00"},109]
[{"$f":"IF(General!$J$3>0,General!$J$3+B126, )","v":"00:00:00"},110]
[{"$f":"IF(General!$J$3>0,General!$J$3+B127, )","v":"00:00:00"},111]
[{"$f":"IF(General!$J$3>0,General!$J$3+B128, )","v":"00:00:00"},112]
[{"$f":"A128","v":"00:00:00"},{"$f":"Translation!$B$26&\" 16\"","v":"Wk 16"},{"$f":"SUM(C122:C128)","v":0},{"$f":"SUM(D122:D128)","v":0},{"$f":"IFERROR(AVERAGE(E122:E128), )","v":0},{"$f":"IFERROR(AVERAGE(F122:F128), )","v":0},{"$f":"SUM(G122:G128)","v":0},{"$f":"SUM(H122:H128)","v":0},{"$f":"IFERROR(AVERAGE(I122:I128), )","v":0},{"$f":"IFERROR(AVERAGE(J122:J128), )","v":0}]
[{"$f":"IF(General!$J$3>0,General!$J$3+B130, )","v":"00:00:00"},113]
[{"$f":"IF(General!$J$3>0,General!$J$3+B131, )","v":"00:00:00"},114]
[{"$f":"IF(General!$J$3>0,General!$J$3+B132, )","v":"00:00:00"},115]
[{"$f":"IF(General!$J$3>0,General!$J$3+B133, )","v":"00:00:00"},116]
[{"$f":"IF(General!$J$3>0,General!$J$3+B134, )","v":"00:00:00"},117]
[{"$f":"IF(General!$J$3>0,General!$J$3+B135, )","v":"00:00:00"},118]
[{"$f":"IF(General!$J$3>0,General!$J$3+B136, )","v":"00:00:00"},119]
[{"$f":"A136","v":"00:00:00"},{"$f":"Translation!$B$26&\" 17\"","v":"Wk 17"},{"$f":"SUM(C130:C136)","v":0},{"$f":"SUM(D130:D136)","v":0},{"$f":"IFERROR(AVERAGE(E130:E136), )","v":0},{"$f":"IFERROR(AVERAGE(F130:F136), )","v":0},{"$f":"SUM(G130:G136)","v":0},{"$f":"SUM(H130:H136)","v":0},{"$f":"IFERROR(AVERAGE(I130:I136), )","v":0},{"$f":"IFERROR(AVERAGE(J130:J136), )","v":0}]
[{"$f":"IF(General!$J$3>0,General!$J$3+B138, )","v":"00:00:00"},120]
[{"$f":"IF(General!$J$3>0,General!$J$3+B139, )","v":"00:00:00"},121]
[{"$f":"IF(General!$J$3>0,General!$J$3+B140, )","v":"00:00:00"},122]
[{"$f":"IF(General!$J$3>0,General!$J$3+B141, )","v":"00:00:00"},123]
[{"$f":"IF(General!$J$3>0,General!$J$3+B142, )","v":"00:00:00"},124]
[{"$f":"IF(General!$J$3>0,General!$J$3+B143, )","v":"00:00:00"},125]
[{"$f":"IF(General!$J$3>0,General!$J$3+B144, )","v":"00:00:00"},126]
[{"$f":"A144","v":"00:00:00"},{"$f":"Translation!$B$26&\" 18\"","v":"Wk 18"},{"$f":"SUM(C138:C144)","v":0},{"$f":"SUM(D138:D144)","v":0},{"$f":"IFERROR(AVERAGE(E138:E144), )","v":0},{"$f":"IFERROR(AVERAGE(F138:F144), )","v":0},{"$f":"SUM(G138:G144)","v":0},{"$f":"SUM(H138:H144)","v":0},{"$f":"IFERROR(AVERAGE(I138:I144), )","v":0},{"$f":"IFERROR(AVERAGE(J138:J144), )","v":0}]
[{"$f":"IF(General!$J$3>0,General!$J$3+B146, )","v":"00:00:00"},127]
[{"$f":"IF(General!$J$3>0,General!$J$3+B147, )","v":"00:00:00"},128]
[{"$f":"IF(General!$J$3>0,General!$J$3+B148, )","v":"00:00:00"},129]
[{"$f":"IF(General!$J$3>0,General!$J$3+B149, )","v":"00:00:00"},130]
[{"$f":"IF(General!$J$3>0,General!$J$3+B150, )","v":"00:00:00"},131]
[{"$f":"IF(General!$J$3>0,General!$J$3+B151, )","v":"00:00:00"},132]
[{"$f":"IF(General!$J$3>0,General!$J$3+B152, )","v":"00:00:00"},133]
[{"$f":"A152","v":"00:00:00"},{"$f":"Translation!$B$26&\" 19\"","v":"Wk 19"},{"$f":"SUM(C146:C152)","v":0},{"$f":"SUM(D146:D152)","v":0},{"$f":"IFERROR(AVERAGE(E146:E152), )","v":0},{"$f":"IFERROR(AVERAGE(F146:F152), )","v":0},{"$f":"SUM(G146:G152)","v":0},{"$f":"SUM(H146:H152)","v":0},{"$f":"IFERROR(AVERAGE(I146:I152), )","v":0},{"$f":"IFERROR(AVERAGE(J146:J152), )","v":0}]
[{"$f":"IF(General!$J$3>0,General!$J$3+B154, )","v":"00:00:00"},134]
[{"$f":"IF(General!$J$3>0,General!$J$3+B155, )","v":"00:00:00"},135]
[{"$f":"IF(General!$J$3>0,General!$J$3+B156, )","v":"00:00:00"},136]
[{"$f":"IF(General!$J$3>0,General!$J$3+B157, )","v":"00:00:00"},137]
[{"$f":"IF(General!$J$3>0,General!$J$3+B158, )","v":"00:00:00"},138]
[{"$f":"IF(General!$J$3>0,General!$J$3+B159, )","v":"00:00:00"},139]
[{"$f":"IF(General!$J$3>0,General!$J$3+B160, )","v":"00:00:00"},140]
[{"$f":"A160","v":"00:00:00"},{"$f":"Translation!$B$26&\" 20\"","v":"Wk 20"},{"$f":"SUM(C154:C160)","v":0},{"$f":"SUM(D154:D160)","v":0},{"$f":"IFERROR(AVERAGE(E154:E160), )","v":0},{"$f":"IFERROR(AVERAGE(F154:F160), )","v":0},{"$f":"SUM(G154:G160)","v":0},{"$f":"SUM(H154:H160)","v":0},{"$f":"IFERROR(AVERAGE(I154:I160), )","v":0},{"$f":"IFERROR(AVERAGE(J154:J160), )","v":0}]

{"sheet":"In rearing (weekly)","index":2,"n_rows":22,"n_cols":15,"rows_kept":22,"merged":[[0,2,0,3],[0,4,0,5],[0,8,0,9],[0,10,0,11]]}
[null,null,{"$f":"Translation!B21","v":"alternative"},null,{"$f":"Translation!B21","v":"alternative"},{"$nulls":3},{"$f":"Translation!B21","v":"alternative"},null,{"$f":"Translation!B21","v":"alternative"}]
[{"$f":"Translation!B22","v":"Date"},{"$f":"Translation!B24","v":"Week of Age"},{"$f":"Translation!B27","v":"No. of dead females"},{"$f":"Translation!B28","v":"% fem. mortality / week"},{"$f":"Translation!B29","v":"No. of dead males"},{"$f":"Translation!B30","v":"% male mortality / week"},{"$f":"Translation!B31","v":"Female Body Wt (g) "},{"$f":"Translation!B32","v":"Male Body Wt (g) "},{"$f":"Translation!B34","v":"Feed cons. (kg/wk)"},{"$f":"Translation!B35","v":"Feed cons. (g/bd/d)"},{"$f":"Translation!B37","v":"Water cons. (l/wk)"},{"$f":"Translation!B38","v":"Water cons. (ml/bd/d)"},{"$f":"Translation!B39","v":"Uniformity (%)"},{"$f":"Translation!B40","v":"a trait you like"},{"$f":"Translation!B16","v":"Remarks:"}]
[{"$f":"'In rearing (daily)'!$A$9","v":"00:00:00"},1,{"$f":"'In rearing (daily)'!$C$9","v":0},null,{"$f":"'In rearing (daily)'!$D$9","v":0},null,{"$f":"'In rearing (daily)'!$E$9","v":0},{"$f":"'In rearing (daily)'!$F$9","v":0},{"$f":"'In rearing (daily)'!$G$9","v":0},null,{"$f":"'In rearing (daily)'!$H$9","v":0},null,{"$f":"'In rearing (daily)'!$I$9","v":0},{"$f":"'In rearing (daily)'!$J$9","v":0}]
[{"$f":"'In rearing (daily)'!$A$17","v":"00:00:00"},2,{"$f":"'In rearing (daily)'!$C$17","v":0},null,{"$f":"'In rearing (daily)'!$D$17","v":0},null,{"$f":"'In rearing (daily)'!$E$17","v":0},{"$f":"'In rearing (daily)'!$F$17","v":0},{"$f":"'In rearing (daily)'!$G$17","v":0},null,{"$f":"'In rearing (daily)'!$H$17","v":0},null,{"$f":"'In rearing (daily)'!$I$17","v":0},{"$f":"'In rearing (daily)'!$J$17","v":0}]
[{"$f":"'In rearing (daily)'!$A$25","v":"00:00:00"},3,{"$f":"'In rearing (daily)'!$C$25","v":0},null,{"$f":"'In rearing (daily)'!$D$25","v":0},null,{"$f":"'In rearing (daily)'!$E$25","v":0},{"$f":"'In rearing (daily)'!$F$25","v":0},{"$f":"'In rearing (daily)'!$G$25","v":0},null,{"$f":"'In rearing (daily)'!$H$25","v":0},null,{"$f":"'In rearing (daily)'!$I$25","v":0},{"$f":"'In rearing (daily)'!$J$25","v":0}]
[{"$f":"'In rearing (daily)'!$A$33","v":"00:00:00"},4,{"$f":"'In rearing (daily)'!$C$33","v":0},null,{"$f":"'In rearing (daily)'!$D$33","v":0},null,{"$f":"'In rearing (daily)'!$E$33","v":0},{"$f":"'In rearing (daily)'!$F$33","v":0},{"$f":"'In rearing (daily)'!$G$33","v":0},null,{"$f":"'In rearing (daily)'!$H$33","v":0},null,{"$f":"'In rearing (daily)'!$I$33","v":0},{"$f":"'In rearing (daily)'!$J$33","v":0}]
[{"$f":"'In rearing (daily)'!$A$41","v":"00:00:00"},5,{"$f":"'In rearing (daily)'!$C$41","v":0},null,{"$f":"'In rearing (daily)'!$D$41","v":0},null,{"$f":"'In rearing (daily)'!$E$41","v":0},{"$f":"'In rearing (daily)'!$F$41","v":0},{"$f":"'In rearing (daily)'!$G$41","v":0},null,{"$f":"'In rearing (daily)'!$H$41","v":0},null,{"$f":"'In rearing (daily)'!$I$41","v":0},{"$f":"'In rearing (daily)'!$J$41","v":0}]
[{"$f":"'In rearing (daily)'!$A$49","v":"00:00:00"},6,{"$f":"'In rearing (daily)'!$C$49","v":0},null,{"$f":"'In rearing (daily)'!$D$49","v":0},null,{"$f":"'In rearing (daily)'!$E$49","v":0},{"$f":"'In rearing (daily)'!$F$49","v":0},{"$f":"'In rearing (daily)'!$G$49","v":0},null,{"$f":"'In rearing (daily)'!$H$49","v":0},null,{"$f":"'In rearing (daily)'!$I$49","v":0},{"$f":"'In rearing (daily)'!$J$49","v":0}]
[{"$f":"'In rearing (daily)'!$A$57","v":"00:00:00"},7,{"$f":"'In rearing (daily)'!$C$57","v":0},null,{"$f":"'In rearing (daily)'!$D$57","v":0},null,{"$f":"'In rearing (daily)'!$E$57","v":0},{"$f":"'In rearing (daily)'!$F$57","v":0},{"$f":"'In rearing (daily)'!$G$57","v":0},null,{"$f":"'In rearing (daily)'!$H$57","v":0},null,{"$f":"'In rearing (daily)'!$I$57","v":0},{"$f":"'In rearing (daily)'!$J$57","v":0}]
[{"$f":"'In rearing (daily)'!$A$65","v":"00:00:00"},8,{"$f":"'In rearing (daily)'!$C$65","v":0},null,{"$f":"'In rearing (daily)'!$D$65","v":0},null,{"$f":"'In rearing (daily)'!$E$65","v":0},{"$f":"'In rearing (daily)'!$F$65","v":0},{"$f":"'In rearing (daily)'!$G$65","v":0},null,{"$f":"'In rearing (daily)'!$H$65","v":0},null,{"$f":"'In rearing (daily)'!$I$65","v":0},{"$f":"'In rearing (daily)'!$J$65","v":0}]
[{"$f":"'In rearing (daily)'!$A$73","v":"00:00:00"},9,{"$f":"'In rearing (daily)'!$C$73","v":0},null,{"$f":"'In rearing (daily)'!$D$73","v":0},null,{"$f":"'In rearing (daily)'!$E$73","v":0},{"$f":"'In rearing (daily)'!$F$73","v":0},{"$f":"'In rearing (daily)'!$G$73","v":0},null,{"$f":"'In rearing (daily)'!$H$73","v":0},null,{"$f":"'In rearing (daily)'!$I$73","v":0},{"$f":"'In rearing (daily)'!$J$73","v":0}]
[{"$f":"'In rearing (daily)'!$A$81","v":"00:00:00"},10,{"$f":"'In rearing (daily)'!$C$81","v":0},null,{"$f":"'In rearing (daily)'!$D$81","v":0},null,{"$f":"'In rearing (daily)'!$E$81","v":0},{"$f":"'In rearing (daily)'!$F$81","v":0},{"$f":"'In rearing (daily)'!$G$81","v":0},null,{"$f":"'In rearing (daily)'!$H$81","v":0},null,{"$f":"'In rearing (daily)'!$I$81","v":0},{"$f":"'In rearing (daily)'!$J$81","v":0}]
[{"$f":"'In rearing (daily)'!$A$89","v":"00:00:00"},11,{"$f":"'In rearing (daily)'!$C$89","v":0},null,{"$f":"'In rearing (daily)'!$D$89","v":0},null,{"$f":"'In rearing (daily)'!$E$89","v":0},{"$f":"'In rearing (daily)'!$F$89","v":0},{"$f":"'In rearing (daily)'!$G$89","v":0},null,{"$f":"'In rearing (daily)'!$H$89","v":0},null,{"$f":"'In rearing (daily)'!$I$89","v":0},{"$f":"'In rearing (daily)'!$J$89","v":0}]
[{"$f":"'In rearing (daily)'!$A$97","v":"00:00:00"},12,{"$f":"'In rearing (daily)'!$C$97","v":0},null,{"$f":"'In rearing (daily)'!$D$97","v":0},null,{"$f":"'In rearing (daily)'!$E$97","v":0},{"$f":"'In rearing (daily)'!$F$97","v":0},{"$f":"'In rearing (daily)'!$G$97","v":0},null,{"$f":"'In rearing (daily)'!$H$97","v":0},null,{"$f":"'In rearing (daily)'!$I$97","v":0},{"$f":"'In rearing (daily)'!$J$97","v":0}]
[{"$f":"'In rearing (daily)'!$A$105","v":"00:00:00"},13,{"$f":"'In rearing (daily)'!$C$105","v":0},null,{"$f":"'In rearing (daily)'!$D$105","v":0},null,{"$f":"'In rearing (daily)'!$E$105","v":0},{"$f":"'In rearing (daily)'!$F$105","v":0},{"$f":"'In rearing (daily)'!$G$105","v":0},null,{"$f":"'In rearing (daily)'!$H$105","v":0},null,{"$f":"'In rearing (daily)'!$I$105","v":0},{"$f":"'In rearing (daily)'!$J$105","v":0}]
[{"$f":"'In rearing (daily)'!$A$113","v":"00:00:00"},14,{"$f":"'In rearing (daily)'!$C$113","v":0},null,{"$f":"'In rearing (daily)'!$D$113","v":0},null,{"$f":"'In rearing (daily)'!$E$113","v":0},{"$f":"'In rearing (daily)'!$F$113","v":0},{"$f":"'In rearing (daily)'!$G$113","v":0},null,{"$f":"'In rearing (daily)'!$H$113","v":0},null,{"$f":"'In rearing (daily)'!$I$113","v":0},{"$f":"'In rearing (daily)'!$J$113","v":0}]
[{"$f":"'In rearing (daily)'!$A$121","v":"00:00:00"},15,{"$f":"'In rearing (daily)'!$C$121","v":0},null,{"$f":"'In rearing (daily)'!$D$121","v":0},null,{"$f":"'In rearing (daily)'!$E$121","v":0},{"$f":"'In rearing (daily)'!$F$121","v":0},{"$f":"'In rearing (daily)'!$G$121","v":0},null,{"$f":"'In rearing (daily)'!$H$121","v":0},null,{"$f":"'In rearing (daily)'!$I$121","v":0},{"$f":"'In rearing (daily)'!$J$121","v":0}]
[{"$f":"'In rearing (daily)'!$A$129","v":"00:00:00"},16,{"$f":"'In rearing (daily)'!$C$129","v":0},null,{"$f":"'In rearing (daily)'!$D$129","v":0},null,{"$f":"'In rearing (daily)'!$E$129","v":0},{"$f":"'In rearing (daily)'!$F$129","v":0},{"$f":"'In rearing (daily)'!$G$129","v":0},null,{"$f":"'In rearing (daily)'!$H$129","v":0},null,{"$f":"'In rearing (daily)'!$I$129","v":0},{"$f":"'In rearing (daily)'!$J$129","v":0}]
[{"$f":"'In rearing (daily)'!$A$137","v":"00:00:00"},17,{"$f":"'In rearing (daily)'!$C$137","v":0},null,{"$f":"'In rearing (daily)'!$D$137","v":0},null,{"$f":"'In rearing (daily)'!$E$137","v":0},{"$f":"'In rearing (daily)'!$F$137","v":0},{"$f":"'In rearing (daily)'!$G$137","v":0},null,{"$f":"'In rearing (daily)'!$H$137","v":0},null,{"$f":"'In rearing (daily)'!$I$137","v":0},{"$f":"'In rearing (daily)'!$J$137","v":0}]
[{"$f":"'In rearing (daily)'!$A$145","v":"00:00:00"},18,{"$f":"'In rearing (daily)'!$C$145","v":0},null,{"$f":"'In rearing (daily)'!$D$145","v":0},null,{"$f":"'In rearing (daily)'!$E$145","v":0},{"$f":"'In rearing (daily)'!$F$145","v":0},{"$f":"'In rearing (daily)'!$G$145","v":0},null,{"$f":"'In rearing (daily)'!$H$145","v":0},null,{"$f":"'In rearing (daily)'!$I$145","v":0},{"$f":"'In rearing (daily)'!$J$145","v":0}]
[{"$f":"'In rearing (daily)'!$A$153","v":"00:00:00"},19,{"$f":"'In rearing (daily)'!$C$153","v":0},null,{"$f":"'In rearing (daily)'!$D$153","v":0},null,{"$f":"'In rearing (daily)'!$E$153","v":0},{"$f":"'In rearing (daily)'!$F$153","v":0},{"$f":"'In rearing (daily)'!$G$153","v":0},null,{"$f":"'In rearing (daily)'!$H$153","v":0},null,{"$f":"'In rearing (daily)'!$I$153","v":0},{"$f":"'In rearing (daily)'!$J$153","v":0}]
[{"$f":"'In rearing (daily)'!$A$161","v":"00:00:00"},20,{"$f":"'In rearing (daily)'!$C$161","v":0},null,{"$f":"'In rearing (daily)'!$D$161","v":0},null,{"$f":"'In rearing (daily)'!$E$161","v":0},{"$f":"'In rearing (daily)'!$F$161","v":0},{"$f":"'In rearing (daily)'!$G$161","v":0},null,{"$f":"'In rearing (daily)'!$H$161","v":0},null,{"$f":"'In rearing (daily)'!$I$161","v":0},{"$f":"'In rearing (daily)'!$J$161","v":0}]

{"sheet":"In prod (daily)","index":3,"n_rows":529,"n_cols":15,"rows_kept":529}
[{"$f":"Translation!B22","v":"Date"},{"$f":"Translation!B23","v":"Age (days)"},{"$f":"Translation!B27","v":"No. of dead females"},{"$f":"Translation!B29","v":"No. of dead males"},{"$f":"Translation!B55","v":"No. of eggs/ week"},{"$f":"Translation!B57","v":"No. of hatching eggs/wk"},{"$f":"Translation!B59","v":"No. of eggs set"},{"$f":"Translation!B60","v":"No. of fem. chicks hatched"},{"$f":"Translation!B31","v":"Female Body Wt (g) "},{"$f":"Translation!B32","v":"Male Body Wt (g) "},{"$f":"Translation!B33","v":"Feed cons. (kg/day)"},{"$f":"Translation!B36","v":"Water cons. (l/day)"},{"$f":"Translation!B40","v":"a trait you like"},{"$f":"Translation!B16","v":"Remarks:"},"KW"]
[{"$f":"IF(General!$J$3>0,General!$J$3+B2, )","v":"00:00:00"},99,{"$nulls":12},105]
[{"$f":"IF(General!$J$3>0,General!$J$3+B3, )","v":"00:00:00"},100,{"$nulls":12},112]
[{"$f":"IF(General!$J$3>0,General!$J$3+B4, )","v":"00:00:00"},101,{"$nulls":12},119]
[{"$f":"IF(General!$J$3>0,General!$J$3+B5, )","v":"00:00:00"},102,{"$nulls":12},126]
[{"$f":"IF(General!$J$3>0,General!$J$3+B6, )","v":"00:00:00"},103,{"$nulls":12},133]
[{"$f":"IF(General!$J$3>0,General!$J$3+B7, )","v":"00:00:00"},104,{"$nulls":12},140]
[{"$f":"IF(General!$J$3>0,General!$J$3+B8, )","v":"00:00:00"},105,{"$nulls":12},147]
[{"$f":"A8","v":"00:00:00"},{"$f":"Translation!$B$26&\" 15\"","v":"Wk 15"},{"$f":"SUM(C2:C8)","v":0},0,0,0,0,0,{"$f":"IFERROR(AVERAGE(I2:I8), )","v":0},{"$f":"IFERROR(AVERAGE(J2:J8), )","v":0},{"$f":"SUM(K2:K8)","v":0},{"$f":"SUM(L2:L8)","v":0},{"$f":"IFERROR(AVERAGE(M2:M8), )","v":0},null,154]
[{"$f":"IF(General!$J$3>0,General!$J$3+B10, )","v":"00:00:00"},106,{"$nulls":12},161]
[{"$f":"IF(General!$J$3>0,General!$J$3+B11, )","v":"00:00:00"},107,{"$nulls":12},168]
[{"$f":"IF(General!$J$3>0,General!$J$3+B12, )","v":"00:00:00"},108,{"$nulls":12},175]
[{"$f":"IF(General!$J$3>0,General!$J$3+B13, )","v":"00:00:00"},109,{"$nulls":12},182]
[{"$f":"IF(General!$J$3>0,General!$J$3+B14, )","v":"00:00:00"},110,{"$nulls":12},189]
[{"$f":"IF(General!$J$3>0,General!$J$3+B15, )","v":"00:00:00"},111,{"$nulls":12},196]
[{"$f":"IF(General!$J$3>0,General!$J$3+B16, )","v":"00:00:00"},112,{"$nulls":12},203]
[{"$f":"A16","v":"00:00:00"},{"$f":"Translation!$B$26&\" 16\"","v":"Wk 16"},{"$f":"SUM(C10:C16)","v":0},0,0,0,0,0,{"$f":"IFERROR(AVERAGE(I10:I16), )","v":0},{"$f":"IFERROR(AVERAGE(J10:J16), )","v":0},{"$f":"SUM(K10:K16)","v":0},{"$f":"SUM(L10:L16)","v":0},{"$f":"IFERROR(AVERAGE(M10:M16), )","v":0},null,210]
[{"$f":"IF(General!$J$3>0,General!$J$3+B18, )","v":"00:00:00"},113,{"$nulls":12},217]
[{"$f":"IF(General!$J$3>0,General!$J$3+B19, )","v":"00:00:00"},114,{"$nulls":12},224]
[{"$f":"IF(General!$J$3>0,General!$J$3+B20, )","v":"00:00:00"},115,{"$nulls":12},231]
[{"$f":"IF(General!$J$3>0,General!$J$3+B21, )","v":"00:00:00"},116,{"$nulls":12},238]
[{"$f":"IF(General!$J$3>0,General!$J$3+B22, )","v":"00:00:00"},117,{"$nulls":12},245]
[{"$f":"IF(General!$J$3>0,General!$J$3+B23, )","v":"00:00:00"},118,{"$nulls":12},252]
[{"$f":"IF(General!$J$3>0,General!$J$3+B24, )","v":"00:00:00"},119,{"$nulls":12},259]
[{"$f":"A24","v":"00:00:00"},{"$f":"Translation!$B$26&\" 17\"","v":"Wk 17"},{"$f":"SUM(C18:C24)","v":0},0,0,0,0,0,{"$f":"IFERROR(AVERAGE(I18:I24), )","v":0},{"$f":"IFERROR(AVERAGE(J18:J24), )","v":0},{"$f":"SUM(K18:K24)","v":0},{"$f":"SUM(L18:L24)","v":0},{"$f":"IFERROR(AVERAGE(M18:M24), )","v":0},null,266]
[{"$f":"IF(General!$J$3>0,General!$J$3+B26, )","v":"00:00:00"},120,{"$nulls":12},273]
[{"$f":"IF(General!$J$3>0,General!$J$3+B27, )","v":"00:00:00"},121,{"$nulls":12},280]
[{"$f":"IF(General!$J$3>0,General!$J$3+B28, )","v":"00:00:00"},122,{"$nulls":12},287]
[{"$f":"IF(General!$J$3>0,General!$J$3+B29, )","v":"00:00:00"},123,{"$nulls":12},294]
[{"$f":"IF(General!$J$3>0,General!$J$3+B30, )","v":"00:00:00"},124,{"$nulls":12},301]
[{"$f":"IF(General!$J$3>0,General!$J$3+B31, )","v":"00:00:00"},125,{"$nulls":12},308]
[{"$f":"IF(General!$J$3>0,General!$J$3+B32, )","v":"00:00:00"},126,{"$nulls":12},315]
[{"$f":"A32","v":"00:00:00"},{"$f":"Translation!$B$26&\" 18\"","v":"Wk 18"},{"$f":"SUM(C26:C32)","v":0},0,0,0,0,0,{"$f":"IFERROR(AVERAGE(I26:I32), )","v":0},{"$f":"IFERROR(AVERAGE(J26:J32), )","v":0},{"$f":"SUM(K26:K32)","v":0},{"$f":"SUM(L26:L32)","v":0},{"$f":"IFERROR(AVERAGE(M26:M32), )","v":0},null,322]
[{"$f":"IF(General!$J$3>0,General!$J$3+B34, )","v":"00:00:00"},127,{"$nulls":12},329]
[{"$f":"IF(General!$J$3>0,General!$J$3+B35, )","v":"00:00:00"},128,{"$nulls":12},336]
[{"$f":"IF(General!$J$3>0,General!$J$3+B36, )","v":"00:00:00"},129,{"$nulls":12},343]
[{"$f":"IF(General!$J$3>0,General!$J$3+B37, )","v":"00:00:00"},130,{"$nulls":12},350]
[{"$f":"IF(General!$J$3>0,General!$J$3+B38, )","v":"00:00:00"},131,{"$nulls":12},357]
[{"$f":"IF(General!$J$3>0,General!$J$3+B39, )","v":"00:00:00"},132,{"$nulls":12},364]
[{"$f":"IF(General!$J$3>0,General!$J$3+B40, )","v":"00:00:00"},133,{"$nulls":12},371]
[{"$f":"A40","v":"00:00:00"},{"$f":"Translation!$B$26&\" 19\"","v":"Wk 19"},{"$f":"SUM(C34:C40)","v":0},0,0,0,0,0,{"$f":"IFERROR(AVERAGE(I34:I40), )","v":0},{"$f":"IFERROR(AVERAGE(J34:J40), )","v":0},{"$f":"SUM(K34:K40)","v":0},{"$f":"SUM(L34:L40)","v":0},{"$f":"IFERROR(AVERAGE(M34:M40), )","v":0},null,378]
[{"$f":"IF(General!$J$3>0,General!$J$3+B42, )","v":"00:00:00"},134,{"$nulls":12},385]
[{"$f":"IF(General!$J$3>0,General!$J$3+B43, )","v":"00:00:00"},135,{"$nulls":12},392]
[{"$f":"IF(General!$J$3>0,General!$J$3+B44, )","v":"00:00:00"},136,{"$nulls":12},399]
[{"$f":"IF(General!$J$3>0,General!$J$3+B45, )","v":"00:00:00"},137,{"$nulls":12},406]
[{"$f":"IF(General!$J$3>0,General!$J$3+B46, )","v":"00:00:00"},138,{"$nulls":12},413]
[{"$f":"IF(General!$J$3>0,General!$J$3+B47, )","v":"00:00:00"},139,{"$nulls":12},420]
[{"$f":"IF(General!$J$3>0,General!$J$3+B48, )","v":"00:00:00"},140,{"$nulls":12},427]
[{"$f":"A48","v":"00:00:00"},{"$f":"Translation!$B$26&\" 20\"","v":"Wk 20"},{"$f":"SUM(C42:C48)","v":0},0,0,0,0,0,{"$f":"IFERROR(AVERAGE(I42:I48), )","v":0},{"$f":"IFERROR(AVERAGE(J42:J48), )","v":0},{"$f":"SUM(K42:K48)","v":0},{"$f":"SUM(L42:L48)","v":0},{"$f":"IFERROR(AVERAGE(M42:M48), )","v":0},null,434]
[{"$f":"IF(General!$J$3>0,General!$J$3+B50, )","v":"00:00:00"},141,{"$nulls":12},441]
[{"$f":"IF(General!$J$3>0,General!$J$3+B51, )","v":"00:00:00"},142,{"$nulls":12},448]
[{"$f":"IF(General!$J$3>0,General!$J$3+B52, )","v":"00:00:00"},143,{"$nulls":12},455]
[{"$f":"IF(General!$J$3>0,General!$J$3+B53, )","v":"00:00:00"},144,{"$nulls":12},462]
[{"$f":"IF(General!$J$3>0,General!$J$3+B54, )","v":"00:00:00"},145,{"$nulls":12},469]
[{"$f":"IF(General!$J$3>0,General!$J$3+B55, )","v":"00:00:00"},146,{"$nulls":12},476]
[{"$f":"IF(General!$J$3>0,General!$J$3+B56, )","v":"00:00:00"},147,{"$nulls":12},483]
[{"$f":"A56","v":"00:00:00"},{"$f":"Translation!$B$26&\" 21\"","v":"Wk 21"},{"$f":"SUM(C50:C56)","v":0},0,0,0,0,0,{"$f":"IFERROR(AVERAGE(I50:I56), )","v":0},{"$f":"IFERROR(AVERAGE(J50:J56), )","v":0},{"$f":"SUM(K50:K56)","v":0},{"$f":"SUM(L50:L56)","v":0},{"$f":"IFERROR(AVERAGE(M50:M56), )","v":0},null,490]
[{"$f":"IF(General!$J$3>0,General!$J$3+B58, )","v":"00:00:00"},148,{"$nulls":12},497]
[{"$f":"IF(General!$J$3>0,General!$J$3+B59, )","v":"00:00:00"},149,{"$nulls":12},504]
[{"$f":"IF(General!$J$3>0,General!$J$3+B60, )","v":"00:00:00"},150,{"$nulls":12},511]
[{"$f":"IF(General!$J$3>0,General!$J$3+B61, )","v":"00:00:00"},151,{"$nulls":12},518]
[{"$f":"IF(General!$J$3>0,General!$J$3+B62, )","v":"00:00:00"},152,{"$nulls":12},525]
[{"$f":"IF(General!$J$3>0,General!$J$3+B63, )","v":"00:00:00"},153,{"$nulls":12},532]
[{"$f":"IF(General!$J$3>0,General!$J$3+B64, )","v":"00:00:00"},154,{"$nulls":12},539]
[{"$f":"A64","v":"00:00:00"},{"$f":"Translation!$B$26&\" 22\"","v":"Wk 22"},{"$f":"SUM(C58:C64)","v":0},0,0,0,0,0,{"$f":"IFERROR(AVERAGE(I58:I64), )","v":0},{"$f":"IFERROR(AVERAGE(J58:J64), )","v":0},{"$f":"SUM(K58:K64)","v":0},{"$f":"SUM(L58:L64)","v":0},{"$f":"IFERROR(AVERAGE(M58:M64), )","v":0},null,546]
[{"$f":"IF(General!$J$3>0,General!$J$3+B66, )","v":"00:00:00"},155,{"$nulls":12},553]
[{"$f":"IF(General!$J$3>0,General!$J$3+B67, )","v":"00:00:00"},156,{"$nulls":12},560]
[{"$f":"IF(General!$J$3>0,General!$J$3+B68, )","v":"00:00:00"},157]
[{"$f":"IF(General!$J$3>0,General!$J$3+B69, )","v":"00:00:00"},158]
[{"$f":"IF(General!$J$3>0,General!$J$3+B70, )","v":"00:00:00"},159]
[{"$f":"IF(General!$J$3>0,General!$J$3+B71, )","v":"00:00:00"},160]
[{"$f":"IF(General!$J$3>0,General!$J$3+B72, )","v":"00:00:00"},161]
[{"$f":"A72","v":"00:00:00"},{"$f":"Translation!$B$26&\" 23\"","v":"Wk 23"},{"$f":"SUM(C66:C72)","v":0},0,0,0,0,0,{"$f":"IFERROR(AVERAGE(I66:I72), )","v":0},{"$f":"IFERROR(AVERAGE(J66:J72), )","v":0},{"$f":"SUM(K66:K72)","v":0},{"$f":"SUM(L66:L72)","v":0},{"$f":"IFERROR(AVERAGE(M66:M72), )","v":0}]
[{"$f":"IF(General!$J$3>0,General!$J$3+B74, )","v":"00:00:00"},162]
[{"$f":"IF(General!$J$3>0,General!$J$3+B75, )","v":"00:00:00"},163]
[{"$f":"IF(General!$J$3>0,General!$J$3+B76, )","v":"00:00:00"},164]
[{"$f":"IF(General!$J$3>0,General!$J$3+B77, )","v":"00:00:00"},165]
[{"$f":"IF(General!$J$3>0,General!$J$3+B78, )","v":"00:00:00"},166]
[{"$f":"IF(General!$J$3>0,General!$J$3+B79, )","v":"00:00:00"},167]
[{"$f":"IF(General!$J$3>0,General!$J$3+B80, )","v":"00:00:00"},168]
[{"$f":"A80","v":"00:00:00"},{"$f":"Translation!$B$26&\" 24\"","v":"Wk 24"},{"$f":"SUM(C74:C80)","v":0},0,0,0,0,0,{"$f":"IFERROR(AVERAGE(I74:I80), )","v":0},{"$f":"IFERROR(AVERAGE(J74:J80), )","v":0},{"$f":"SUM(K74:K80)","v":0},{"$f":"SUM(L74:L80)","v":0},{"$f":"IFERROR(AVERAGE(M74:M80), )","v":0}]
[{"$f":"IF(General!$J$3>0,General!$J$3+B82, )","v":"00:00:00"},169]
[{"$f":"IF(General!$J$3>0,General!$J$3+B83, )","v":"00:00:00"},170]
[{"$f":"IF(General!$J$3>0,General!$J$3+B84, )","v":"00:00:00"},171]
[{"$f":"IF(General!$J$3>0,General!$J$3+B85, )","v":"00:00:00"},172]
[{"$f":"IF(General!$J$3>0,General!$J$3+B86, )","v":"00:00:00"},173]
[{"$f":"IF(General!$J$3>0,General!$J$3+B87, )","v":"00:00:00"},174]
[{"$f":"IF(General!$J$3>0,General!$J$3+B88, )","v":"00:00:00"},175]
[{"$f":"A88","v":"00:00:00"},{"$f":"Translation!$B$26&\" 25\"","v":"Wk 25"},{"$f":"SUM(C82:C88)","v":0},0,0,0,0,0,{"$f":"IFERROR(AVERAGE(I82:I88), )","v":0},{"$f":"IFERROR(AVERAGE(J82:J88), )","v":0},{"$f":"SUM(K82:K88)","v":0},{"$f":"SUM(L82:L88)","v":0},{"$f":"IFERROR(AVERAGE(M82:M88), )","v":0}]
[{"$f":"IF(General!$J$3>0,General!$J$3+B90, )","v":"00:00:00"},176]
[{"$f":"IF(General!$J$3>0,General!$J$3+B91, )","v":"00:00:00"},177]
[{"$f":"IF(General!$J$3>0,General!$J$3+B92, )","v":"00:00:00"},178]
[{"$f":"IF(General!$J$3>0,General!$J$3+B93, )","v":"00:00:00"},179]
[{"$f":"IF(General!$J$3>0,General!$J$3+B94, )","v":"00:00:00"},180]
[{"$f":"IF(General!$J$3>0,General!$J$3+B95, )","v":"00:00:00"},181]
[{"$f":"IF(General!$J$3>0,General!$J$3+B96, )","v":"00:00:00"},182]
[{"$f":"A96","v":"00:00:00"},{"$f":"Translation!$B$26&\" 26\"","v":"Wk 26"},{"$f":"SUM(C90:C96)","v":0},0,0,0,0,0,{"$f":"IFERROR(AVERAGE(I90:I96), )","v":0},{"$f":"IFERROR(AVERAGE(J90:J96), )","v":0},{"$f":"SUM(K90:K96)","v":0},{"$f":"SUM(L90:L96)","v":0},{"$f":"IFERROR(AVERAGE(M90:M96), )","v":0}]
[{"$f":"IF(General!$J$3>0,General!$J$3+B98, )","v":"00:00:00"},183]
[{"$f":"IF(General!$J$3>0,General!$J$3+B99, )","v":"00:00:00"},184]
[{"$f":"IF(General!$J$3>0,General!$J$3+B100, )","v":"00:00:00"},185]
[{"$f":"IF(General!$J$3>0,General!$J$3+B101, )","v":"00:00:00"},186]
[{"$f":"IF(General!$J$3>0,General!$J$3+B102, )","v":"00:00:00"},187]
[{"$f":"IF(General!$J$3>0,General!$J$3+B103, )","v":"00:00:00"},188]
[{"$f":"IF(General!$J$3>0,General!$J$3+B104, )","v":"00:00:00"},189]
[{"$f":"A104","v":"00:00:00"},{"$f":"Translation!$B$26&\" 27\"","v":"Wk 27"},{"$f":"SUM(C98:C104)","v":0},0,0,0,0,0,{"$f":"IFERROR(AVERAGE(I98:I104), )","v":0},{"$f":"IFERROR(AVERAGE(J98:J104), )","v":0},{"$f":"SUM(K98:K104)","v":0},{"$f":"SUM(L98:L104)","v":0},{"$f":"IFERROR(AVERAGE(M98:M104), )","v":0}]
[{"$f":"IF(General!$J$3>0,General!$J$3+B106, )","v":"00:00:00"},190]
[{"$f":"IF(General!$J$3>0,General!$J$3+B107, )","v":"00:00:00"},191]
[{"$f":"IF(General!$J$3>0,General!$J$3+B108, )","v":"00:00:00"},192]
[{"$f":"IF(General!$J$3>0,General!$J$3+B109, )","v":"00:00:00"},193]
[{"$f":"IF(General!$J$3>0,General!$J$3+B110, )","v":"00:00:00"},194]
[{"$f":"IF(General!$J$3>0,General!$J$3+B111, )","v":"00:00:00"},195]
[{"$f":"IF(General!$J$3>0,General!$J$3+B112, )","v":"00:00:00"},196]
[{"$f":"A112","v":"00:00:00"},{"$f":"Translation!$B$26&\" 28\"","v":"Wk 28"},{"$f":"SUM(C106:C112)","v":0},0,0,0,0,0,{"$f":"IFERROR(AVERAGE(I106:I112), )","v":0},{"$f":"IFERROR(AVERAGE(J106:J112), )","v":0},{"$f":"SUM(K106:K112)","v":0},{"$f":"SUM(L106:L112)","v":0},{"$f":"IFERROR(AVERAGE(M106:M112), )","v":0}]
[{"$f":"IF(General!$J$3>0,General!$J$3+B114, )","v":"00:00:00"},197]
[{"$f":"IF(General!$J$3>0,General!$J$3+B115, )","v":"00:00:00"},198]
[{"$f":"IF(General!$J$3>0,General!$J$3+B116, )","v":"00:00:00"},199]
[{"$f":"IF(General!$J$3>0,General!$J$3+B117, )","v":"00:00:00"},200]
[{"$f":"IF(General!$J$3>0,General!$J$3+B118, )","v":"00:00:00"},201]
[{"$f":"IF(General!$J$3>0,General!$J$3+B119, )","v":"00:00:00"},202]
[{"$f":"IF(General!$J$3>0,General!$J$3+B120, )","v":"00:00:00"},203]
[{"$f":"A120","v":"00:00:00"},{"$f":"Translation!$B$26&\" 29\"","v":"Wk 29"},{"$f":"SUM(C114:C120)","v":0},0,0,0,0,0,{"$f":"IFERROR(AVERAGE(I114:I120), )","v":0},{"$f":"IFERROR(AVERAGE(J114:J120), )","v":0},{"$f":"SUM(K114:K120)","v":0},{"$f":"SUM(L114:L120)","v":0},{"$f":"IFERROR(AVERAGE(M114:M120), )","v":0}]
[{"$f":"IF(General!$J$3>0,General!$J$3+B122, )","v":"00:00:00"},204]
[{"$f":"IF(General!$J$3>0,General!$J$3+B123, )","v":"00:00:00"},205]
[{"$f":"IF(General!$J$3>0,General!$J$3+B124, )","v":"00:00:00"},206]
[{"$f":"IF(General!$J$3>0,General!$J$3+B125, )","v":"00:00:00"},207]
[{"$f":"IF(General!$J$3>0,General!$J$3+B126, )","v":"00:00:00"},208]
[{"$f":"IF(General!$J$3>0,General!$J$3+B127, )","v":"00:00:00"},209]
[{"$f":"IF(General!$J$3>0,General!$J$3+B128, )","v":"00:00:00"},210]
[{"$f":"A128","v":"00:00:00"},{"$f":"Translation!$B$26&\" 30\"","v":"Wk 30"},{"$f":"SUM(C122:C128)","v":0},0,0,0,0,0,{"$f":"IFERROR(AVERAGE(I122:I128), )","v":0},{"$f":"IFERROR(AVERAGE(J122:J128), )","v":0},{"$f":"SUM(K122:K128)","v":0},{"$f":"SUM(L122:L128)","v":0},{"$f":"IFERROR(AVERAGE(M122:M128), )","v":0}]
[{"$f":"IF(General!$J$3>0,General!$J$3+B130, )","v":"00:00:00"},211]
[{"$f":"IF(General!$J$3>0,General!$J$3+B131, )","v":"00:00:00"},212]
[{"$f":"IF(General!$J$3>0,General!$J$3+B132, )","v":"00:00:00"},213]
[{"$f":"IF(General!$J$3>0,General!$J$3+B133, )","v":"00:00:00"},214]
[{"$f":"IF(General!$J$3>0,General!$J$3+B134, )","v":"00:00:00"},215]
[{"$f":"IF(General!$J$3>0,General!$J$3+B135, )","v":"00:00:00"},216]
[{"$f":"IF(General!$J$3>0,General!$J$3+B136, )","v":"00:00:00"},217]
[{"$f":"A136","v":"00:00:00"},{"$f":"Translation!$B$26&\" 31\"","v":"Wk 31"},{"$f":"SUM(C130:C136)","v":0},0,0,0,0,0,{"$f":"IFERROR(AVERAGE(I130:I136), )","v":0},{"$f":"IFERROR(AVERAGE(J130:J136), )","v":0},{"$f":"SUM(K130:K136)","v":0},{"$f":"SUM(L130:L136)","v":0},{"$f":"IFERROR(AVERAGE(M130:M136), )","v":0}]
[{"$f":"IF(General!$J$3>0,General!$J$3+B138, )","v":"00:00:00"},218]
[{"$f":"IF(General!$J$3>0,General!$J$3+B139, )","v":"00:00:00"},219]
[{"$f":"IF(General!$J$3>0,General!$J$3+B140, )","v":"00:00:00"},220]
[{"$f":"IF(General!$J$3>0,General!$J$3+B141, )","v":"00:00:00"},221]
[{"$f":"IF(General!$J$3>0,General!$J$3+B142, )","v":"00:00:00"},222]
[{"$f":"IF(General!$J$3>0,General!$J$3+B143, )","v":"00:00:00"},223]
[{"$f":"IF(General!$J$3>0,General!$J$3+B144, )","v":"00:00:00"},224]
[{"$f":"A144","v":"00:00:00"},{"$f":"Translation!$B$26&\" 32\"","v":"Wk 32"},{"$f":"SUM(C138:C144)","v":0},0,0,0,0,0,{"$f":"IFERROR(AVERAGE(I138:I144), )","v":0},{"$f":"IFERROR(AVERAGE(J138:J144), )","v":0},{"$f":"SUM(K138:K144)","v":0},{"$f":"SUM(L138:L144)","v":0},{"$f":"IFERROR(AVERAGE(M138:M144), )","v":0}]
[{"$f":"IF(General!$J$3>0,General!$J$3+B146, )","v":"00:00:00"},225]
[{"$f":"IF(General!$J$3>0,General!$J$3+B147, )","v":"00:00:00"},226]
[{"$f":"IF(General!$J$3>0,General!$J$3+B148, )","v":"00:00:00"},227]
[{"$f":"IF(General!$J$3>0,General!$J$3+B149, )","v":"00:00:00"},228]
[{"$f":"IF(General!$J$3>0,General!$J$3+B150, )","v":"00:00:00"},229]
[{"$f":"IF(General!$J$3>0,General!$J$3+B151, )","v":"00:00:00"},230]
[{"$f":"IF(General!$J$3>0,General!$J$3+B152, )","v":"00:00:00"},231]
[{"$f":"A152","v":"00:00:00"},{"$f":"Translation!$B$26&\" 33\"","v":"Wk 33"},{"$f":"SUM(C146:C152)","v":0},0,0,0,0,0,{"$f":"IFERROR(AVERAGE(I146:I152), )","v":0},{"$f":"IFERROR(AVERAGE(J146:J152), )","v":0},{"$f":"SUM(K146:K152)","v":0},{"$f":"SUM(L146:L152)","v":0},{"$f":"IFERROR(AVERAGE(M146:M152), )","v":0}]
[{"$f":"IF(General!$J$3>0,General!$J$3+B154, )","v":"00:00:00"},232]
[{"$f":"IF(General!$J$3>0,General!$J$3+B155, )","v":"00:00:00"},233]
[{"$f":"IF(General!$J$3>0,General!$J$3+B156, )","v":"00:00:00"},234]
[{"$f":"IF(General!$J$3>0,General!$J$3+B157, )","v":"00:00:00"},235]
[{"$f":"IF(General!$J$3>0,General!$J$3+B158, )","v":"00:00:00"},236]
[{"$f":"IF(General!$J$3>0,General!$J$3+B159, )","v":"00:00:00"},237]
[{"$f":"IF(General!$J$3>0,General!$J$3+B160, )","v":"00:00:00"},238]
[{"$f":"A160","v":"00:00:00"},{"$f":"Translation!$B$26&\" 34\"","v":"Wk 34"},{"$f":"SUM(C154:C160)","v":0},0,0,0,0,0,{"$f":"IFERROR(AVERAGE(I154:I160), )","v":0},{"$f":"IFERROR(AVERAGE(J154:J160), )","v":0},{"$f":"SUM(K154:K160)","v":0},{"$f":"SUM(L154:L160)","v":0},{"$f":"IFERROR(AVERAGE(M154:M160), )","v":0}]
[{"$f":"IF(General!$J$3>0,General!$J$3+B162, )","v":"00:00:00"},239]
[{"$f":"IF(General!$J$3>0,General!$J$3+B163, )","v":"00:00:00"},240]
[{"$f":"IF(General!$J$3>0,General!$J$3+B164, )","v":"00:00:00"},241]
[{"$f":"IF(General!$J$3>0,General!$J$3+B165, )","v":"00:00:00"},242]
[{"$f":"IF(General!$J$3>0,General!$J$3+B166, )","v":"00:00:00"},243]
[{"$f":"IF(General!$J$3>0,General!$J$3+B167, )","v":"00:00:00"},244]
[{"$f":"IF(General!$J$3>0,General!$J$3+B168, )","v":"00:00:00"},245]
[{"$f":"A168","v":"00:00:00"},{"$f":"Translation!$B$26&\" 35\"","v":"Wk 35"},{"$f":"SUM(C162:C168)","v":0},0,0,0,0,0,{"$f":"IFERROR(AVERAGE(I162:I168), )","v":0},{"$f":"IFERROR(AVERAGE(J162:J168), )","v":0},{"$f":"SUM(K162:K168)","v":0},{"$f":"SUM(L162:L168)","v":0},{"$f":"IFERROR(AVERAGE(M162:M168), )","v":0}]
[{"$f":"IF(General!$J$3>0,General!$J$3+B170, )","v":"00:00:00"},246]
[{"$f":"IF(General!$J$3>0,General!$J$3+B171, )","v":"00:00:00"},247]
[{"$f":"IF(General!$J$3>0,General!$J$3+B172, )","v":"00:00:00"},248]
[{"$f":"IF(General!$J$3>0,General!$J$3+B173, )","v":"00:00:00"},249]
[{"$f":"IF(General!$J$3>0,General!$J$3+B174, )","v":"00:00:00"},250]
[{"$f":"IF(General!$J$3>0,General!$J$3+B175, )","v":"00:00:00"},251]
[{"$f":"IF(General!$J$3>0,General!$J$3+B176, )","v":"00:00:00"},252]
[{"$f":"A176","v":"00:00:00"},{"$f":"Translation!$B$26&\" 36\"","v":"Wk 36"},{"$f":"SUM(C170:C176)","v":0},0,0,0,0,0,{"$f":"IFERROR(AVERAGE(I170:I176), )","v":0},{"$f":"IFERROR(AVERAGE(J170:J176), )","v":0},{"$f":"SUM(K170:K176)","v":0},{"$f":"SUM(L170:L176)","v":0},{"$f":"IFERROR(AVERAGE(M170:M176), )","v":0}]
[{"$f":"IF(General!$J$3>0,General!$J$3+B178, )","v":"00:00:00"},253]
[{"$f":"IF(General!$J$3>0,General!$J$3+B179, )","v":"00:00:00"},254]
[{"$f":"IF(General!$J$3>0,General!$J$3+B180, )","v":"00:00:00"},255]
[{"$f":"IF(General!$J$3>0,General!$J$3+B181, )","v":"00:00:00"},256]
[{"$f":"IF(General!$J$3>0,General!$J$3+B182, )","v":"00:00:00"},257]
[{"$f":"IF(General!$J$3>0,General!$J$3+B183, )","v":"00:00:00"},258]
[{"$f":"IF(General!$J$3>0,General!$J$3+B184, )","v":"00:00:00"},259]
[{"$f":"A184","v":"00:00:00"},{"$f":"Translation!$B$26&\" 37\"","v":"Wk 37"},{"$f":"SUM(C178:C184)","v":0},0,0,0,0,0,{"$f":"IFERROR(AVERAGE(I178:I184), )","v":0},{"$f":"IFERROR(AVERAGE(J178:J184), )","v":0},{"$f":"SUM(K178:K184)","v":0},{"$f":"SUM(L178:L184)","v":0},{"$f":"IFERROR(AVERAGE(M178:M184), )","v":0}]
[{"$f":"IF(General!$J$3>0,General!$J$3+B186, )","v":"00:00:00"},260]
[{"$f":"IF(General!$J$3>0,General!$J$3+B187, )","v":"00:00:00"},261]
[{"$f":"IF(General!$J$3>0,General!$J$3+B188, )","v":"00:00:00"},262]
[{"$f":"IF(General!$J$3>0,General!$J$3+B189, )","v":"00:00:00"},263]
[{"$f":"IF(General!$J$3>0,General!$J$3+B190, )","v":"00:00:00"},264]
[{"$f":"IF(General!$J$3>0,General!$J$3+B191, )","v":"00:00:00"},265]
[{"$f":"IF(General!$J$3>0,General!$J$3+B192, )","v":"00:00:00"},266]
[{"$f":"A192","v":"00:00:00"},{"$f":"Translation!$B$26&\" 38\"","v":"Wk 38"},{"$f":"SUM(C186:C192)","v":0},0,0,0,0,0,{"$f":"IFERROR(AVERAGE(I186:I192), )","v":0},{"$f":"IFERROR(AVERAGE(J186:J192), )","v":0},{"$f":"SUM(K186:K192)","v":0},{"$f":"SUM(L186:L192)","v":0},{"$f":"IFERROR(AVERAGE(M186:M192), )","v":0}]
[{"$f":"IF(General!$J$3>0,General!$J$3+B194, )","v":"00:00:00"},267]
[{"$f":"IF(General!$J$3>0,General!$J$3+B195, )","v":"00:00:00"},268]
[{"$f":"IF(General!$J$3>0,General!$J$3+B196, )","v":"00:00:00"},269]
[{"$f":"IF(General!$J$3>0,General!$J$3+B197, )","v":"00:00:00"},270]
[{"$f":"IF(General!$J$3>0,General!$J$3+B198, )","v":"00:00:00"},271]
[{"$f":"IF(General!$J$3>0,General!$J$3+B199, )","v":"00:00:00"},272]
[{"$f":"IF(General!$J$3>0,General!$J$3+B200, )","v":"00:00:00"},273]
[{"$f":"A200","v":"00:00:00"},{"$f":"Translation!$B$26&\" 39\"","v":"Wk 39"},{"$f":"SUM(C194:C200)","v":0},0,0,0,0,0,{"$f":"IFERROR(AVERAGE(I194:I200), )","v":0},{"$f":"IFERROR(AVERAGE(J194:J200), )","v":0},{"$f":"SUM(K194:K200)","v":0},{"$f":"SUM(L194:L200)","v":0},{"$f":"IFERROR(AVERAGE(M194:M200), )","v":0}]
[{"$f":"IF(General!$J$3>0,General!$J$3+B202, )","v":"00:00:00"},274]
[{"$f":"IF(General!$J$3>0,General!$J$3+B203, )","v":"00:00:00"},275]
[{"$f":"IF(General!$J$3>0,General!$J$3+B204, )","v":"00:00:00"},276]
[{"$f":"IF(General!$J$3>0,General!$J$3+B205, )","v":"00:00:00"},277]
[{"$f":"IF(General!$J$3>0,General!$J$3+B206, )","v":"00:00:00"},278]
[{"$f":"IF(General!$J$3>0,General!$J$3+B207, )","v":"00:00:00"},279]
[{"$f":"IF(General!$J$3>0,General!$J$3+B208, )","v":"00:00:00"},280]
[{"$f":"A208","v":"00:00:00"},{"$f":"Translation!$B$26&\" 40\"","v":"Wk 40"},{"$f":"SUM(C202:C208)","v":0},0,0,0,0,0,{"$f":"IFERROR(AVERAGE(I202:I208), )","v":0},{"$f":"IFERROR(AVERAGE(J202:J208), )","v":0},{"$f":"SUM(K202:K208)","v":0},{"$f":"SUM(L202:L208)","v":0},{"$f":"IFERROR(AVERAGE(M202:M208), )","v":0}]
[{"$f":"IF(General!$J$3>0,General!$J$3+B210, )","v":"00:00:00"},281]
[{"$f":"IF(General!$J$3>0,General!$J$3+B211, )","v":"00:00:00"},282]
[{"$f":"IF(General!$J$3>0,General!$J$3+B212, )","v":"00:00:00"},283]
[{"$f":"IF(General!$J$3>0,General!$J$3+B213, )","v":"00:00:00"},284]
[{"$f":"IF(General!$J$3>0,General!$J$3+B214, )","v":"00:00:00"},285]
[{"$f":"IF(General!$J$3>0,General!$J$3+B215, )","v":"00:00:00"},286]
[{"$f":"IF(General!$J$3>0,General!$J$3+B216, )","v":"00:00:00"},287]
[{"$f":"A216","v":"00:00:00"},{"$f":"Translation!$B$26&\" 41\"","v":"Wk 41"},{"$f":"SUM(C210:C216)","v":0},0,0,0,0,0,{"$f":"IFERROR(AVERAGE(I210:I216), )","v":0},{"$f":"IFERROR(AVERAGE(J210:J216), )","v":0},{"$f":"SUM(K210:K216)","v":0},{"$f":"SUM(L210:L216)","v":0},{"$f":"IFERROR(AVERAGE(M210:M216), )","v":0}]
[{"$f":"IF(General!$J$3>0,General!$J$3+B218, )","v":"00:00:00"},288]
[{"$f":"IF(General!$J$3>0,General!$J$3+B219, )","v":"00:00:00"},289]
[{"$f":"IF(General!$J$3>0,General!$J$3+B220, )","v":"00:00:00"},290]
[{"$f":"IF(General!$J$3>0,General!$J$3+B221, )","v":"00:00:00"},291]
[{"$f":"IF(General!$J$3>0,General!$J$3+B222, )","v":"00:00:00"},292]
[{"$f":"IF(General!$J$3>0,General!$J$3+B223, )","v":"00:00:00"},293]
[{"$f":"IF(General!$J$3>0,General!$J$3+B224, )","v":"00:00:00"},294]
[{"$f":"A224","v":"00:00:00"},{"$f":"Translation!$B$26&\"42\"","v":"Wk42"},{"$f":"SUM(C218:C224)","v":0},0,0,0,0,0,{"$f":"IFERROR(AVERAGE(I218:I224), )","v":0},{"$f":"IFERROR(AVERAGE(J218:J224), )","v":0},{"$f":"SUM(K218:K224)","v":0},{"$f":"SUM(L218:L224)","v":0},{"$f":"IFERROR(AVERAGE(M218:M224), )","v":0}]
[{"$f":"IF(General!$J$3>0,General!$J$3+B226, )","v":"00:00:00"},295]
[{"$f":"IF(General!$J$3>0,General!$J$3+B227, )","v":"00:00:00"},296]
[{"$f":"IF(General!$J$3>0,General!$J$3+B228, )","v":"00:00:00"},297]
[{"$f":"IF(General!$J$3>0,General!$J$3+B229, )","v":"00:00:00"},298]
[{"$f":"IF(General!$J$3>0,General!$J$3+B230, )","v":"00:00:00"},299]
[{"$f":"IF(General!$J$3>0,General!$J$3+B231, )","v":"00:00:00"},300]
[{"$f":"IF(General!$J$3>0,General!$J$3+B232, )","v":"00:00:00"},301]
[{"$f":"A232","v":"00:00:00"},{"$f":"Translation!$B$26&\" 43\"","v":"Wk 43"},{"$f":"SUM(C226:C232)","v":0},0,0,0,0,0,{"$f":"IFERROR(AVERAGE(I226:I232), )","v":0},{"$f":"IFERROR(AVERAGE(J226:J232), )","v":0},{"$f":"SUM(K226:K232)","v":0},{"$f":"SUM(L226:L232)","v":0},{"$f":"IFERROR(AVERAGE(M226:M232), )","v":0}]
[{"$f":"IF(General!$J$3>0,General!$J$3+B234, )","v":"00:00:00"},302]
[{"$f":"IF(General!$J$3>0,General!$J$3+B235, )","v":"00:00:00"},303]
[{"$f":"IF(General!$J$3>0,General!$J$3+B236, )","v":"00:00:00"},304]
[{"$f":"IF(General!$J$3>0,General!$J$3+B237, )","v":"00:00:00"},305]
[{"$f":"IF(General!$J$3>0,General!$J$3+B238, )","v":"00:00:00"},306]
[{"$f":"IF(General!$J$3>0,General!$J$3+B239, )","v":"00:00:00"},307]
[{"$f":"IF(General!$J$3>0,General!$J$3+B240, )","v":"00:00:00"},308]
[{"$f":"A240","v":"00:00:00"},{"$f":"Translation!$B$26&\" 44\"","v":"Wk 44"},{"$f":"SUM(C234:C240)","v":0},0,0,0,0,0,{"$f":"IFERROR(AVERAGE(I234:I240), )","v":0},{"$f":"IFERROR(AVERAGE(J234:J240), )","v":0},{"$f":"SUM(K234:K240)","v":0},{"$f":"SUM(L234:L240)","v":0},{"$f":"IFERROR(AVERAGE(M234:M240), )","v":0}]
[{"$f":"IF(General!$J$3>0,General!$J$3+B242, )","v":"00:00:00"},309]
[{"$f":"IF(General!$J$3>0,General!$J$3+B243, )","v":"00:00:00"},310]
[{"$f":"IF(General!$J$3>0,General!$J$3+B244, )","v":"00:00:00"},311]
[{"$f":"IF(General!$J$3>0,General!$J$3+B245, )","v":"00:00:00"},312]
[{"$f":"IF(General!$J$3>0,General!$J$3+B246, )","v":"00:00:00"},313]
[{"$f":"IF(General!$J$3>0,General!$J$3+B247, )","v":"00:00:00"},314]
[{"$f":"IF(General!$J$3>0,General!$J$3+B248, )","v":"00:00:00"},315]
[{"$f":"A248","v":"00:00:00"},{"$f":"Translation!$B$26&\" 45\"","v":"Wk 45"},{"$f":"SUM(C242:C248)","v":0},0,0,0,0,0,{"$f":"IFERROR(AVERAGE(I242:I248), )","v":0},{"$f":"IFERROR(AVERAGE(J242:J248), )","v":0},{"$f":"SUM(K242:K248)","v":0},{"$f":"SUM(L242:L248)","v":0},{"$f":"IFERROR(AVERAGE(M242:M248), )","v":0}]
[{"$f":"IF(General!$J$3>0,General!$J$3+B250, )","v":"00:00:00"},316]
[{"$f":"IF(General!$J$3>0,General!$J$3+B251, )","v":"00:00:00"},317]
[{"$f":"IF(General!$J$3>0,General!$J$3+B252, )","v":"00:00:00"},318]
[{"$f":"IF(General!$J$3>0,General!$J$3+B253, )","v":"00:00:00"},319]
[{"$f":"IF(General!$J$3>0,General!$J$3+B254, )","v":"00:00:00"},320]
[{"$f":"IF(General!$J$3>0,General!$J$3+B255, )","v":"00:00:00"},321]
[{"$f":"IF(General!$J$3>0,General!$J$3+B256, )","v":"00:00:00"},322]
[{"$f":"A256","v":"00:00:00"},{"$f":"Translation!$B$26&\" 46\"","v":"Wk 46"},{"$f":"SUM(C250:C256)","v":0},0,0,0,0,0,{"$f":"IFERROR(AVERAGE(I250:I256), )","v":0},{"$f":"IFERROR(AVERAGE(J250:J256), )","v":0},{"$f":"SUM(K250:K256)","v":0},{"$f":"SUM(L250:L256)","v":0},{"$f":"IFERROR(AVERAGE(M250:M256), )","v":0}]
[{"$f":"IF(General!$J$3>0,General!$J$3+B258, )","v":"00:00:00"},323]
[{"$f":"IF(General!$J$3>0,General!$J$3+B259, )","v":"00:00:00"},324]
[{"$f":"IF(General!$J$3>0,General!$J$3+B260, )","v":"00:00:00"},325]
[{"$f":"IF(General!$J$3>0,General!$J$3+B261, )","v":"00:00:00"},326]
[{"$f":"IF(General!$J$3>0,General!$J$3+B262, )","v":"00:00:00"},327]
[{"$f":"IF(General!$J$3>0,General!$J$3+B263, )","v":"00:00:00"},328]
[{"$f":"IF(General!$J$3>0,General!$J$3+B264, )","v":"00:00:00"},329]
[{"$f":"A264","v":"00:00:00"},{"$f":"Translation!$B$26&\" 47\"","v":"Wk 47"},{"$f":"SUM(C258:C264)","v":0},0,0,0,0,0,{"$f":"IFERROR(AVERAGE(I258:I264), )","v":0},{"$f":"IFERROR(AVERAGE(J258:J264), )","v":0},{"$f":"SUM(K258:K264)","v":0},{"$f":"SUM(L258:L264)","v":0},{"$f":"IFERROR(AVERAGE(M258:M264), )","v":0}]
[{"$f":"IF(General!$J$3>0,General!$J$3+B266, )","v":"00:00:00"},330]
[{"$f":"IF(General!$J$3>0,General!$J$3+B267, )","v":"00:00:00"},331]
[{"$f":"IF(General!$J$3>0,General!$J$3+B268, )","v":"00:00:00"},332]
[{"$f":"IF(General!$J$3>0,General!$J$3+B269, )","v":"00:00:00"},333]
[{"$f":"IF(General!$J$3>0,General!$J$3+B270, )","v":"00:00:00"},334]
[{"$f":"IF(General!$J$3>0,General!$J$3+B271, )","v":"00:00:00"},335]
[{"$f":"IF(General!$J$3>0,General!$J$3+B272, )","v":"00:00:00"},336]
[{"$f":"A272","v":"00:00:00"},{"$f":"Translation!$B$26&\" 48\"","v":"Wk 48"},{"$f":"SUM(C266:C272)","v":0},0,0,0,0,0,{"$f":"IFERROR(AVERAGE(I266:I272), )","v":0},{"$f":"IFERROR(AVERAGE(J266:J272), )","v":0},{"$f":"SUM(K266:K272)","v":0},{"$f":"SUM(L266:L272)","v":0},{"$f":"IFERROR(AVERAGE(M266:M272), )","v":0}]
[{"$f":"IF(General!$J$3>0,General!$J$3+B274, )","v":"00:00:00"},337]
[{"$f":"IF(General!$J$3>0,General!$J$3+B275, )","v":"00:00:00"},338]
[{"$f":"IF(General!$J$3>0,General!$J$3+B276, )","v":"00:00:00"},339]
[{"$f":"IF(General!$J$3>0,General!$J$3+B277, )","v":"00:00:00"},340]
[{"$f":"IF(General!$J$3>0,General!$J$3+B278, )","v":"00:00:00"},341]
[{"$f":"IF(General!$J$3>0,General!$J$3+B279, )","v":"00:00:00"},342]
[{"$f":"IF(General!$J$3>0,General!$J$3+B280, )","v":"00:00:00"},343]
[{"$f":"A280","v":"00:00:00"},{"$f":"Translation!$B$26&\" 49\"","v":"Wk 49"},{"$f":"SUM(C274:C280)","v":0},0,0,0,0,0,{"$f":"IFERROR(AVERAGE(I274:I280), )","v":0},{"$f":"IFERROR(AVERAGE(J274:J280), )","v":0},{"$f":"SUM(K274:K280)","v":0},{"$f":"SUM(L274:L280)","v":0},{"$f":"IFERROR(AVERAGE(M274:M280), )","v":0}]
[{"$f":"IF(General!$J$3>0,General!$J$3+B282, )","v":"00:00:00"},344]
[{"$f":"IF(General!$J$3>0,General!$J$3+B283, )","v":"00:00:00"},345]
[{"$f":"IF(General!$J$3>0,General!$J$3+B284, )","v":"00:00:00"},346]
[{"$f":"IF(General!$J$3>0,General!$J$3+B285, )","v":"00:00:00"},347]
[{"$f":"IF(General!$J$3>0,General!$J$3+B286, )","v":"00:00:00"},348]
[{"$f":"IF(General!$J$3>0,General!$J$3+B287, )","v":"00:00:00"},349]
[{"$f":"IF(General!$J$3>0,General!$J$3+B288, )","v":"00:00:00"},350]
[{"$f":"A288","v":"00:00:00"},{"$f":"Translation!$B$26&\" 50\"","v":"Wk 50"},{"$f":"SUM(C282:C288)","v":0},0,0,0,0,0,{"$f":"IFERROR(AVERAGE(I282:I288), )","v":0},{"$f":"IFERROR(AVERAGE(J282:J288), )","v":0},{"$f":"SUM(K282:K288)","v":0},{"$f":"SUM(L282:L288)","v":0},{"$f":"IFERROR(AVERAGE(M282:M288), )","v":0}]
[{"$f":"IF(General!$J$3>0,General!$J$3+B290, )","v":"00:00:00"},351]
[{"$f":"IF(General!$J$3>0,General!$J$3+B291, )","v":"00:00:00"},352]
[{"$f":"IF(General!$J$3>0,General!$J$3+B292, )","v":"00:00:00"},353]
[{"$f":"IF(General!$J$3>0,General!$J$3+B293, )","v":"00:00:00"},354]
[{"$f":"IF(General!$J$3>0,General!$J$3+B294, )","v":"00:00:00"},355]
[{"$f":"IF(General!$J$3>0,General!$J$3+B295, )","v":"00:00:00"},356]
[{"$f":"IF(General!$J$3>0,General!$J$3+B296, )","v":"00:00:00"},357]
[{"$f":"A296","v":"00:00:00"},{"$f":"Translation!$B$26&\" 51\"","v":"Wk 51"},{"$f":"SUM(C290:C296)","v":0},0,0,0,0,0,{"$f":"IFERROR(AVERAGE(I290:I296), )","v":0},{"$f":"IFERROR(AVERAGE(J290:J296), )","v":0},{"$f":"SUM(K290:K296)","v":0},{"$f":"SUM(L290:L296)","v":0},{"$f":"IFERROR(AVERAGE(M290:M296), )","v":0}]
[{"$f":"IF(General!$J$3>0,General!$J$3+B298, )","v":"00:00:00"},358]
[{"$f":"IF(General!$J$3>0,General!$J$3+B299, )","v":"00:00:00"},359]
[{"$f":"IF(General!$J$3>0,General!$J$3+B300, )","v":"00:00:00"},360]
[{"$f":"IF(General!$J$3>0,General!$J$3+B301, )","v":"00:00:00"},361]
[{"$f":"IF(General!$J$3>0,General!$J$3+B302, )","v":"00:00:00"},362]
[{"$f":"IF(General!$J$3>0,General!$J$3+B303, )","v":"00:00:00"},363]
[{"$f":"IF(General!$J$3>0,General!$J$3+B304, )","v":"00:00:00"},364]
[{"$f":"A304","v":"00:00:00"},{"$f":"Translation!$B$26&\" 52\"","v":"Wk 52"},{"$f":"SUM(C298:C304)","v":0},0,0,0,0,0,{"$f":"IFERROR(AVERAGE(I298:I304), )","v":0},{"$f":"IFERROR(AVERAGE(J298:J304), )","v":0},{"$f":"SUM(K298:K304)","v":0},{"$f":"SUM(L298:L304)","v":0},{"$f":"IFERROR(AVERAGE(M298:M304), )","v":0}]
[{"$f":"IF(General!$J$3>0,General!$J$3+B306, )","v":"00:00:00"},365]
[{"$f":"IF(General!$J$3>0,General!$J$3+B307, )","v":"00:00:00"},366]
[{"$f":"IF(General!$J$3>0,General!$J$3+B308, )","v":"00:00:00"},367]
[{"$f":"IF(General!$J$3>0,General!$J$3+B309, )","v":"00:00:00"},368]
[{"$f":"IF(General!$J$3>0,General!$J$3+B310, )","v":"00:00:00"},369]
[{"$f":"IF(General!$J$3>0,General!$J$3+B311, )","v":"00:00:00"},370]
[{"$f":"IF(General!$J$3>0,General!$J$3+B312, )","v":"00:00:00"},371]
[{"$f":"A312","v":"00:00:00"},{"$f":"Translation!$B$26&\" 53\"","v":"Wk 53"},{"$f":"SUM(C306:C312)","v":0},0,0,0,0,0,{"$f":"IFERROR(AVERAGE(I306:I312), )","v":0},{"$f":"IFERROR(AVERAGE(J306:J312), )","v":0},{"$f":"SUM(K306:K312)","v":0},{"$f":"SUM(L306:L312)","v":0},{"$f":"IFERROR(AVERAGE(M306:M312), )","v":0}]
[{"$f":"IF(General!$J$3>0,General!$J$3+B314, )","v":"00:00:00"},372]
[{"$f":"IF(General!$J$3>0,General!$J$3+B315, )","v":"00:00:00"},373]
[{"$f":"IF(General!$J$3>0,General!$J$3+B316, )","v":"00:00:00"},374]
[{"$f":"IF(General!$J$3>0,General!$J$3+B317, )","v":"00:00:00"},375]
[{"$f":"IF(General!$J$3>0,General!$J$3+B318, )","v":"00:00:00"},376]
[{"$f":"IF(General!$J$3>0,General!$J$3+B319, )","v":"00:00:00"},377]
[{"$f":"IF(General!$J$3>0,General!$J$3+B320, )","v":"00:00:00"},378]
[{"$f":"A320","v":"00:00:00"},{"$f":"Translation!$B$26&\" 54\"","v":"Wk 54"},{"$f":"SUM(C314:C320)","v":0},0,0,0,0,0,{"$f":"IFERROR(AVERAGE(I314:I320), )","v":0},{"$f":"IFERROR(AVERAGE(J314:J320), )","v":0},{"$f":"SUM(K314:K320)","v":0},{"$f":"SUM(L314:L320)","v":0},{"$f":"IFERROR(AVERAGE(M314:M320), )","v":0}]
[{"$f":"IF(General!$J$3>0,General!$J$3+B322, )","v":"00:00:00"},379]
[{"$f":"IF(General!$J$3>0,General!$J$3+B323, )","v":"00:00:00"},380]
[{"$f":"IF(General!$J$3>0,General!$J$3+B324, )","v":"00:00:00"},381]
[{"$f":"IF(General!$J$3>0,General!$J$3+B325, )","v":"00:00:00"},382]
[{"$f":"IF(General!$J$3>0,General!$J$3+B326, )","v":"00:00:00"},383]
[{"$f":"IF(General!$J$3>0,General!$J$3+B327, )","v":"00:00:00"},384]
[{"$f":"IF(General!$J$3>0,General!$J$3+B328, )","v":"00:00:00"},385]
[{"$f":"A328","v":"00:00:00"},{"$f":"Translation!$B$26&\" 55\"","v":"Wk 55"},{"$f":"SUM(C322:C328)","v":0},0,0,0,0,0,{"$f":"IFERROR(AVERAGE(I322:I328), )","v":0},{"$f":"IFERROR(AVERAGE(J322:J328), )","v":0},{"$f":"SUM(K322:K328)","v":0},{"$f":"SUM(L322:L328)","v":0},{"$f":"IFERROR(AVERAGE(M322:M328), )","v":0}]
[{"$f":"IF(General!$J$3>0,General!$J$3+B330, )","v":"00:00:00"},386]
[{"$f":"IF(General!$J$3>0,General!$J$3+B331, )","v":"00:00:00"},387]
[{"$f":"IF(General!$J$3>0,General!$J$3+B332, )","v":"00:00:00"},388]
[{"$f":"IF(General!$J$3>0,General!$J$3+B333, )","v":"00:00:00"},389]
[{"$f":"IF(General!$J$3>0,General!$J$3+B334, )","v":"00:00:00"},390]
[{"$f":"IF(General!$J$3>0,General!$J$3+B335, )","v":"00:00:00"},391]
[{"$f":"IF(General!$J$3>0,General!$J$3+B336, )","v":"00:00:00"},392]
[{"$f":"A336","v":"00:00:00"},{"$f":"Translation!$B$26&\" 56\"","v":"Wk 56"},{"$f":"SUM(C330:C336)","v":0},0,0,0,0,0,{"$f":"IFERROR(AVERAGE(I330:I336), )","v":0},{"$f":"IFERROR(AVERAGE(J330:J336), )","v":0},{"$f":"SUM(K330:K336)","v":0},{"$f":"SUM(L330:L336)","v":0},{"$f":"IFERROR(AVERAGE(M330:M336), )","v":0}]
[{"$f":"IF(General!$J$3>0,General!$J$3+B338, )","v":"00:00:00"},393]
[{"$f":"IF(General!$J$3>0,General!$J$3+B339, )","v":"00:00:00"},394]
[{"$f":"IF(General!$J$3>0,General!$J$3+B340, )","v":"00:00:00"},395]
[{"$f":"IF(General!$J$3>0,General!$J$3+B341, )","v":"00:00:00"},396]
[{"$f":"IF(General!$J$3>0,General!$J$3+B342, )","v":"00:00:00"},397]
[{"$f":"IF(General!$J$3>0,General!$J$3+B343, )","v":"00:00:00"},398]
[{"$f":"IF(General!$J$3>0,General!$J$3+B344, )","v":"00:00:00"},399]
[{"$f":"A344","v":"00:00:00"},{"$f":"Translation!$B$26&\" 57\"","v":"Wk 57"},{"$f":"SUM(C338:C344)","v":0},0,0,0,0,0,{"$f":"IFERROR(AVERAGE(I338:I344), )","v":0},{"$f":"IFERROR(AVERAGE(J338:J344), )","v":0},{"$f":"SUM(K338:K344)","v":0},{"$f":"SUM(L338:L344)","v":0},{"$f":"IFERROR(AVERAGE(M338:M344), )","v":0}]
[{"$f":"IF(General!$J$3>0,General!$J$3+B346, )","v":"00:00:00"},400]
[{"$f":"IF(General!$J$3>0,General!$J$3+B347, )","v":"00:00:00"},401]
[{"$f":"IF(General!$J$3>0,General!$J$3+B348, )","v":"00:00:00"},402]
[{"$f":"IF(General!$J$3>0,General!$J$3+B349, )","v":"00:00:00"},403]
[{"$f":"IF(General!$J$3>0,General!$J$3+B350, )","v":"00:00:00"},404]
[{"$f":"IF(General!$J$3>0,General!$J$3+B351, )","v":"00:00:00"},405]
[{"$f":"IF(General!$J$3>0,General!$J$3+B352, )","v":"00:00:00"},406]
[{"$f":"A352","v":"00:00:00"},{"$f":"Translation!$B$26&\" 58\"","v":"Wk 58"},{"$f":"SUM(C346:C352)","v":0},0,0,0,0,0,{"$f":"IFERROR(AVERAGE(I346:I352), )","v":0},{"$f":"IFERROR(AVERAGE(J346:J352), )","v":0},{"$f":"SUM(K346:K352)","v":0},{"$f":"SUM(L346:L352)","v":0},{"$f":"IFERROR(AVERAGE(M346:M352), )","v":0}]
[{"$f":"IF(General!$J$3>0,General!$J$3+B354, )","v":"00:00:00"},407]
[{"$f":"IF(General!$J$3>0,General!$J$3+B355, )","v":"00:00:00"},408]
[{"$f":"IF(General!$J$3>0,General!$J$3+B356, )","v":"00:00:00"},409]
[{"$f":"IF(General!$J$3>0,General!$J$3+B357, )","v":"00:00:00"},410]
[{"$f":"IF(General!$J$3>0,General!$J$3+B358, )","v":"00:00:00"},411]
[{"$f":"IF(General!$J$3>0,General!$J$3+B359, )","v":"00:00:00"},412]
[{"$f":"IF(General!$J$3>0,General!$J$3+B360, )","v":"00:00:00"},413]
[{"$f":"A360","v":"00:00:00"},{"$f":"Translation!$B$26&\" 59\"","v":"Wk 59"},{"$f":"SUM(C354:C360)","v":0},0,0,0,0,0,{"$f":"IFERROR(AVERAGE(I354:I360), )","v":0},{"$f":"IFERROR(AVERAGE(J354:J360), )","v":0},{"$f":"SUM(K354:K360)","v":0},{"$f":"SUM(L354:L360)","v":0},{"$f":"IFERROR(AVERAGE(M354:M360), )","v":0}]
[{"$f":"IF(General!$J$3>0,General!$J$3+B362, )","v":"00:00:00"},414]
[{"$f":"IF(General!$J$3>0,General!$J$3+B363, )","v":"00:00:00"},415]
[{"$f":"IF(General!$J$3>0,General!$J$3+B364, )","v":"00:00:00"},416]
[{"$f":"IF(General!$J$3>0,General!$J$3+B365, )","v":"00:00:00"},417]
[{"$f":"IF(General!$J$3>0,General!$J$3+B366, )","v":"00:00:00"},418]
[{"$f":"IF(General!$J$3>0,General!$J$3+B367, )","v":"00:00:00"},419]
[{"$f":"IF(General!$J$3>0,General!$J$3+B368, )","v":"00:00:00"},420]
[{"$f":"A368","v":"00:00:00"},{"$f":"Translation!$B$26&\" 60\"","v":"Wk 60"},{"$f":"SUM(C362:C368)","v":0},0,0,0,0,0,{"$f":"IFERROR(AVERAGE(I362:I368), )","v":0},{"$f":"IFERROR(AVERAGE(J362:J368), )","v":0},{"$f":"SUM(K362:K368)","v":0},{"$f":"SUM(L362:L368)","v":0},{"$f":"IFERROR(AVERAGE(M362:M368), )","v":0}]
[{"$f":"IF(General!$J$3>0,General!$J$3+B370, )","v":"00:00:00"},421]
[{"$f":"IF(General!$J$3>0,General!$J$3+B371, )","v":"00:00:00"},422]
[{"$f":"IF(General!$J$3>0,General!$J$3+B372, )","v":"00:00:00"},423]
[{"$f":"IF(General!$J$3>0,General!$J$3+B373, )","v":"00:00:00"},424]
[{"$f":"IF(General!$J$3>0,General!$J$3+B374, )","v":"00:00:00"},425]
[{"$f":"IF(General!$J$3>0,General!$J$3+B375, )","v":"00:00:00"},426]
[{"$f":"IF(General!$J$3>0,General!$J$3+B376, )","v":"00:00:00"},427]
[{"$f":"A376","v":"00:00:00"},{"$f":"Translation!$B$26&\" 61\"","v":"Wk 61"},{"$f":"SUM(C370:C376)","v":0},0,0,0,0,0,{"$f":"IFERROR(AVERAGE(I370:I376), )","v":0},{"$f":"IFERROR(AVERAGE(J370:J376), )","v":0},{"$f":"SUM(K370:K376)","v":0},{"$f":"SUM(L370:L376)","v":0},{"$f":"IFERROR(AVERAGE(M370:M376), )","v":0}]
[{"$f":"IF(General!$J$3>0,General!$J$3+B378, )","v":"00:00:00"},428]
[{"$f":"IF(General!$J$3>0,General!$J$3+B379, )","v":"00:00:00"},429]
[{"$f":"IF(General!$J$3>0,General!$J$3+B380, )","v":"00:00:00"},430]
[{"$f":"IF(General!$J$3>0,General!$J$3+B381, )","v":"00:00:00"},431]
[{"$f":"IF(General!$J$3>0,General!$J$3+B382, )","v":"00:00:00"},432]
[{"$f":"IF(General!$J$3>0,General!$J$3+B383, )","v":"00:00:00"},433]
[{"$f":"IF(General!$J$3>0,General!$J$3+B384, )","v":"00:00:00"},434]
[{"$f":"A384","v":"00:00:00"},{"$f":"Translation!$B$26&\" 62\"","v":"Wk 62"},{"$f":"SUM(C378:C384)","v":0},0,0,0,0,0,{"$f":"IFERROR(AVERAGE(I378:I384), )","v":0},{"$f":"IFERROR(AVERAGE(J378:J384), )","v":0},{"$f":"SUM(K378:K384)","v":0},{"$f":"SUM(L378:L384)","v":0},{"$f":"IFERROR(AVERAGE(M378:M384), )","v":0}]
[{"$f":"IF(General!$J$3>0,General!$J$3+B386, )","v":"00:00:00"},435]
[{"$f":"IF(General!$J$3>0,General!$J$3+B387, )","v":"00:00:00"},436]
[{"$f":"IF(General!$J$3>0,General!$J$3+B388, )","v":"00:00:00"},437]
[{"$f":"IF(General!$J$3>0,General!$J$3+B389, )","v":"00:00:00"},438]
[{"$f":"IF(General!$J$3>0,General!$J$3+B390, )","v":"00:00:00"},439]
[{"$f":"IF(General!$J$3>0,General!$J$3+B391, )","v":"00:00:00"},440]
[{"$f":"IF(General!$J$3>0,General!$J$3+B392, )","v":"00:00:00"},441]
[{"$f":"A392","v":"00:00:00"},{"$f":"Translation!$B$26&\" 63\"","v":"Wk 63"},{"$f":"SUM(C386:C392)","v":0},0,0,0,0,0,{"$f":"IFERROR(AVERAGE(I386:I392), )","v":0},{"$f":"IFERROR(AVERAGE(J386:J392), )","v":0},{"$f":"SUM(K386:K392)","v":0},{"$f":"SUM(L386:L392)","v":0},{"$f":"IFERROR(AVERAGE(M386:M392), )","v":0}]
[{"$f":"IF(General!$J$3>0,General!$J$3+B394, )","v":"00:00:00"},442]
[{"$f":"IF(General!$J$3>0,General!$J$3+B395, )","v":"00:00:00"},443]
[{"$f":"IF(General!$J$3>0,General!$J$3+B396, )","v":"00:00:00"},444]
[{"$f":"IF(General!$J$3>0,General!$J$3+B397, )","v":"00:00:00"},445]
[{"$f":"IF(General!$J$3>0,General!$J$3+B398, )","v":"00:00:00"},446]
[{"$f":"IF(General!$J$3>0,General!$J$3+B399, )","v":"00:00:00"},447]
[{"$f":"IF(General!$J$3>0,General!$J$3+B400, )","v":"00:00:00"},448]
[{"$f":"A400","v":"00:00:00"},{"$f":"Translation!$B$26&\" 64\"","v":"Wk 64"},{"$f":"SUM(C394:C400)","v":0},0,0,0,0,0,{"$f":"IFERROR(AVERAGE(I394:I400), )","v":0},{"$f":"IFERROR(AVERAGE(J394:J400), )","v":0},{"$f":"SUM(K394:K400)","v":0},{"$f":"SUM(L394:L400)","v":0},{"$f":"IFERROR(AVERAGE(M394:M400), )","v":0}]
[{"$f":"IF(General!$J$3>0,General!$J$3+B402, )","v":"00:00:00"},449]
[{"$f":"IF(General!$J$3>0,General!$J$3+B403, )","v":"00:00:00"},450]
[{"$f":"IF(General!$J$3>0,General!$J$3+B404, )","v":"00:00:00"},451]
[{"$f":"IF(General!$J$3>0,General!$J$3+B405, )","v":"00:00:00"},452]
[{"$f":"IF(General!$J$3>0,General!$J$3+B406, )","v":"00:00:00"},453]
[{"$f":"IF(General!$J$3>0,General!$J$3+B407, )","v":"00:00:00"},454]
[{"$f":"IF(General!$J$3>0,General!$J$3+B408, )","v":"00:00:00"},455]
[{"$f":"A408","v":"00:00:00"},{"$f":"Translation!$B$26&\" 65\"","v":"Wk 65"},{"$f":"SUM(C402:C408)","v":0},0,0,0,0,0,{"$f":"IFERROR(AVERAGE(I402:I408), )","v":0},{"$f":"IFERROR(AVERAGE(J402:J408), )","v":0},{"$f":"SUM(K402:K408)","v":0},{"$f":"SUM(L402:L408)","v":0},{"$f":"IFERROR(AVERAGE(M402:M408), )","v":0}]
[{"$f":"IF(General!$J$3>0,General!$J$3+B410, )","v":"00:00:00"},456]
[{"$f":"IF(General!$J$3>0,General!$J$3+B411, )","v":"00:00:00"},457]
[{"$f":"IF(General!$J$3>0,General!$J$3+B412, )","v":"00:00:00"},458]
[{"$f":"IF(General!$J$3>0,General!$J$3+B413, )","v":"00:00:00"},459]
[{"$f":"IF(General!$J$3>0,General!$J$3+B414, )","v":"00:00:00"},460]
[{"$f":"IF(General!$J$3>0,General!$J$3+B415, )","v":"00:00:00"},461]
[{"$f":"IF(General!$J$3>0,General!$J$3+B416, )","v":"00:00:00"},462]
[{"$f":"A416","v":"00:00:00"},{"$f":"Translation!$B$26&\" 66\"","v":"Wk 66"},{"$f":"SUM(C410:C416)","v":0},0,0,0,0,0,{"$f":"IFERROR(AVERAGE(I410:I416), )","v":0},{"$f":"IFERROR(AVERAGE(J410:J416), )","v":0},{"$f":"SUM(K410:K416)","v":0},{"$f":"SUM(L410:L416)","v":0},{"$f":"IFERROR(AVERAGE(M410:M416), )","v":0}]
[{"$f":"IF(General!$J$3>0,General!$J$3+B418, )","v":"00:00:00"},463]
[{"$f":"IF(General!$J$3>0,General!$J$3+B419, )","v":"00:00:00"},464]
[{"$f":"IF(General!$J$3>0,General!$J$3+B420, )","v":"00:00:00"},465]
[{"$f":"IF(General!$J$3>0,General!$J$3+B421, )","v":"00:00:00"},466]
[{"$f":"IF(General!$J$3>0,General!$J$3+B422, )","v":"00:00:00"},467]
[{"$f":"IF(General!$J$3>0,General!$J$3+B423, )","v":"00:00:00"},468]
[{"$f":"IF(General!$J$3>0,General!$J$3+B424, )","v":"00:00:00"},469]
[{"$f":"A424","v":"00:00:00"},{"$f":"Translation!$B$26&\" 67\"","v":"Wk 67"},{"$f":"SUM(C418:C424)","v":0},0,0,0,0,0,{"$f":"IFERROR(AVERAGE(I418:I424), )","v":0},{"$f":"IFERROR(AVERAGE(J418:J424), )","v":0},{"$f":"SUM(K418:K424)","v":0},{"$f":"SUM(L418:L424)","v":0},{"$f":"IFERROR(AVERAGE(M418:M424), )","v":0}]
[{"$f":"IF(General!$J$3>0,General!$J$3+B426, )","v":"00:00:00"},470]
[{"$f":"IF(General!$J$3>0,General!$J$3+B427, )","v":"00:00:00"},471]
[{"$f":"IF(General!$J$3>0,General!$J$3+B428, )","v":"00:00:00"},472]
[{"$f":"IF(General!$J$3>0,General!$J$3+B429, )","v":"00:00:00"},473]
[{"$f":"IF(General!$J$3>0,General!$J$3+B430, )","v":"00:00:00"},474]
[{"$f":"IF(General!$J$3>0,General!$J$3+B431, )","v":"00:00:00"},475]
[{"$f":"IF(General!$J$3>0,General!$J$3+B432, )","v":"00:00:00"},476]
[{"$f":"A432","v":"00:00:00"},{"$f":"Translation!$B$26&\" 68\"","v":"Wk 68"},{"$f":"SUM(C426:C432)","v":0},0,0,0,0,0,{"$f":"IFERROR(AVERAGE(I426:I432), )","v":0},{"$f":"IFERROR(AVERAGE(J426:J432), )","v":0},{"$f":"SUM(K426:K432)","v":0},{"$f":"SUM(L426:L432)","v":0},{"$f":"IFERROR(AVERAGE(M426:M432), )","v":0}]
[{"$f":"IF(General!$J$3>0,General!$J$3+B434, )","v":"00:00:00"},477]
[{"$f":"IF(General!$J$3>0,General!$J$3+B435, )","v":"00:00:00"},478]
[{"$f":"IF(General!$J$3>0,General!$J$3+B436, )","v":"00:00:00"},479]
[{"$f":"IF(General!$J$3>0,General!$J$3+B437, )","v":"00:00:00"},480]
[{"$f":"IF(General!$J$3>0,General!$J$3+B438, )","v":"00:00:00"},481]
[{"$f":"IF(General!$J$3>0,General!$J$3+B439, )","v":"00:00:00"},482]
[{"$f":"IF(General!$J$3>0,General!$J$3+B440, )","v":"00:00:00"},483]
[{"$f":"A440","v":"00:00:00"},{"$f":"Translation!$B$26&\" 69\"","v":"Wk 69"},{"$f":"SUM(C434:C440)","v":0},0,0,0,0,0,{"$f":"IFERROR(AVERAGE(I434:I440), )","v":0},{"$f":"IFERROR(AVERAGE(J434:J440), )","v":0},{"$f":"SUM(K434:K440)","v":0},{"$f":"SUM(L434:L440)","v":0},{"$f":"IFERROR(AVERAGE(M434:M440), )","v":0}]
[{"$f":"IF(General!$J$3>0,General!$J$3+B442, )","v":"00:00:00"},484]
[{"$f":"IF(General!$J$3>0,General!$J$3+B443, )","v":"00:00:00"},485]
[{"$f":"IF(General!$J$3>0,General!$J$3+B444, )","v":"00:00:00"},486]
[{"$f":"IF(General!$J$3>0,General!$J$3+B445, )","v":"00:00:00"},487]
[{"$f":"IF(General!$J$3>0,General!$J$3+B446, )","v":"00:00:00"},488]
[{"$f":"IF(General!$J$3>0,General!$J$3+B447, )","v":"00:00:00"},489]
[{"$f":"IF(General!$J$3>0,General!$J$3+B448, )","v":"00:00:00"},490]
[{"$f":"A448","v":"00:00:00"},{"$f":"Translation!$B$26&\" 70\"","v":"Wk 70"},{"$f":"SUM(C442:C448)","v":0},0,0,0,0,0,{"$f":"IFERROR(AVERAGE(I442:I448), )","v":0},{"$f":"IFERROR(AVERAGE(J442:J448), )","v":0},{"$f":"SUM(K442:K448)","v":0},{"$f":"SUM(L442:L448)","v":0},{"$f":"IFERROR(AVERAGE(M442:M448), )","v":0}]
[{"$f":"IF(General!$J$3>0,General!$J$3+B450, )","v":"00:00:00"},491]
[{"$f":"IF(General!$J$3>0,General!$J$3+B451, )","v":"00:00:00"},492]
[{"$f":"IF(General!$J$3>0,General!$J$3+B452, )","v":"00:00:00"},493]
[{"$f":"IF(General!$J$3>0,General!$J$3+B453, )","v":"00:00:00"},494]
[{"$f":"IF(General!$J$3>0,General!$J$3+B454, )","v":"00:00:00"},495]
[{"$f":"IF(General!$J$3>0,General!$J$3+B455, )","v":"00:00:00"},496]
[{"$f":"IF(General!$J$3>0,General!$J$3+B456, )","v":"00:00:00"},497]
[{"$f":"A456","v":"00:00:00"},{"$f":"Translation!$B$26&\" 71\"","v":"Wk 71"},{"$f":"SUM(C450:C456)","v":0},0,0,0,0,0,{"$f":"IFERROR(AVERAGE(I450:I456), )","v":0},{"$f":"IFERROR(AVERAGE(J450:J456), )","v":0},{"$f":"SUM(K450:K456)","v":0},{"$f":"SUM(L450:L456)","v":0},{"$f":"IFERROR(AVERAGE(M450:M456), )","v":0}]
[{"$f":"IF(General!$J$3>0,General!$J$3+B458, )","v":"00:00:00"},498]
[{"$f":"IF(General!$J$3>0,General!$J$3+B459, )","v":"00:00:00"},499]
[{"$f":"IF(General!$J$3>0,General!$J$3+B460, )","v":"00:00:00"},500]
[{"$f":"IF(General!$J$3>0,General!$J$3+B461, )","v":"00:00:00"},501]
[{"$f":"IF(General!$J$3>0,General!$J$3+B462, )","v":"00:00:00"},502]
[{"$f":"IF(General!$J$3>0,General!$J$3+B463, )","v":"00:00:00"},503]
[{"$f":"IF(General!$J$3>0,General!$J$3+B464, )","v":"00:00:00"},504]
[{"$f":"A464","v":"00:00:00"},{"$f":"Translation!$B$26&\" 72\"","v":"Wk 72"},{"$f":"SUM(C458:C464)","v":0},0,0,0,0,0,{"$f":"IFERROR(AVERAGE(I458:I464), )","v":0},{"$f":"IFERROR(AVERAGE(J458:J464), )","v":0},{"$f":"SUM(K458:K464)","v":0},{"$f":"SUM(L458:L464)","v":0},{"$f":"IFERROR(AVERAGE(M458:M464), )","v":0}]
[{"$f":"IF(General!$J$3>0,General!$J$3+B466, )","v":"00:00:00"},505]
[{"$f":"IF(General!$J$3>0,General!$J$3+B467, )","v":"00:00:00"},506]
[{"$f":"IF(General!$J$3>0,General!$J$3+B468, )","v":"00:00:00"},507]
[{"$f":"IF(General!$J$3>0,General!$J$3+B469, )","v":"00:00:00"},508]
[{"$f":"IF(General!$J$3>0,General!$J$3+B470, )","v":"00:00:00"},509]
[{"$f":"IF(General!$J$3>0,General!$J$3+B471, )","v":"00:00:00"},510]
[{"$f":"IF(General!$J$3>0,General!$J$3+B472, )","v":"00:00:00"},511]
[{"$f":"A472","v":"00:00:00"},{"$f":"Translation!$B$26&\" 73\"","v":"Wk 73"},{"$f":"SUM(C466:C472)","v":0},0,0,0,0,0,{"$f":"IFERROR(AVERAGE(I466:I472), )","v":0},{"$f":"IFERROR(AVERAGE(J466:J472), )","v":0},{"$f":"SUM(K466:K472)","v":0},{"$f":"SUM(L466:L472)","v":0},{"$f":"IFERROR(AVERAGE(M466:M472), )","v":0}]
[{"$f":"IF(General!$J$3>0,General!$J$3+B474, )","v":"00:00:00"},512]
[{"$f":"IF(General!$J$3>0,General!$J$3+B475, )","v":"00:00:00"},513]
[{"$f":"IF(General!$J$3>0,General!$J$3+B476, )","v":"00:00:00"},514]
[{"$f":"IF(General!$J$3>0,General!$J$3+B477, )","v":"00:00:00"},515]
[{"$f":"IF(General!$J$3>0,General!$J$3+B478, )","v":"00:00:00"},516]
[{"$f":"IF(General!$J$3>0,General!$J$3+B479, )","v":"00:00:00"},517]
[{"$f":"IF(General!$J$3>0,General!$J$3+B480, )","v":"00:00:00"},518]
[{"$f":"A480","v":"00:00:00"},{"$f":"Translation!$B$26&\" 74\"","v":"Wk 74"},{"$f":"SUM(C474:C480)","v":0},0,0,0,0,0,{"$f":"IFERROR(AVERAGE(I474:I480), )","v":0},{"$f":"IFERROR(AVERAGE(J474:J480), )","v":0},{"$f":"SUM(K474:K480)","v":0},{"$f":"SUM(L474:L480)","v":0},{"$f":"IFERROR(AVERAGE(M474:M480), )","v":0}]
[{"$f":"IF(General!$J$3>0,General!$J$3+B482, )","v":"00:00:00"},519]
[{"$f":"IF(General!$J$3>0,General!$J$3+B483, )","v":"00:00:00"},520]
[{"$f":"IF(General!$J$3>0,General!$J$3+B484, )","v":"00:00:00"},521]
[{"$f":"IF(General!$J$3>0,General!$J$3+B485, )","v":"00:00:00"},522]
[{"$f":"IF(General!$J$3>0,General!$J$3+B486, )","v":"00:00:00"},523]
[{"$f":"IF(General!$J$3>0,General!$J$3+B487, )","v":"00:00:00"},524]
[{"$f":"IF(General!$J$3>0,General!$J$3+B488, )","v":"00:00:00"},525]
[{"$f":"A488","v":"00:00:00"},{"$f":"Translation!$B$26&\" 75\"","v":"Wk 75"},{"$f":"SUM(C482:C488)","v":0},0,0,0,0,0,{"$f":"IFERROR(AVERAGE(I482:I488), )","v":0},{"$f":"IFERROR(AVERAGE(J482:J488), )","v":0},{"$f":"SUM(K482:K488)","v":0},{"$f":"SUM(L482:L488)","v":0},{"$f":"IFERROR(AVERAGE(M482:M488), )","v":0}]
[{"$f":"IF(General!$J$3>0,General!$J$3+B490, )","v":"00:00:00"},526]
[{"$f":"IF(General!$J$3>0,General!$J$3+B491, )","v":"00:00:00"},527]
[{"$f":"IF(General!$J$3>0,General!$J$3+B492, )","v":"00:00:00"},528]
[{"$f":"IF(General!$J$3>0,General!$J$3+B493, )","v":"00:00:00"},529]
[{"$f":"IF(General!$J$3>0,General!$J$3+B494, )","v":"00:00:00"},530]
[{"$f":"IF(General!$J$3>0,General!$J$3+B495, )","v":"00:00:00"},531]
[{"$f":"IF(General!$J$3>0,General!$J$3+B496, )","v":"00:00:00"},532]
[{"$f":"A496","v":"00:00:00"},{"$f":"Translation!$B$26&\" 76\"","v":"Wk 76"},{"$f":"SUM(C490:C496)","v":0},0,0,0,0,0,{"$f":"IFERROR(AVERAGE(I490:I496), )","v":0},{"$f":"IFERROR(AVERAGE(J490:J496), )","v":0},{"$f":"SUM(K490:K496)","v":0},{"$f":"SUM(L490:L496)","v":0},{"$f":"IFERROR(AVERAGE(M490:M496), )","v":0}]
[{"$f":"IF(General!$J$3>0,General!$J$3+B498, )","v":"00:00:00"},533]
[{"$f":"IF(General!$J$3>0,General!$J$3+B499, )","v":"00:00:00"},534]
[{"$f":"IF(General!$J$3>0,General!$J$3+B500, )","v":"00:00:00"},535]
[{"$f":"IF(General!$J$3>0,General!$J$3+B501, )","v":"00:00:00"},536]
[{"$f":"IF(General!$J$3>0,General!$J$3+B502, )","v":"00:00:00"},537]
[{"$f":"IF(General!$J$3>0,General!$J$3+B503, )","v":"00:00:00"},538]
[{"$f":"IF(General!$J$3>0,General!$J$3+B504, )","v":"00:00:00"},539]
[{"$f":"A504","v":"00:00:00"},{"$f":"Translation!$B$26&\" 77\"","v":"Wk 77"},{"$f":"SUM(C498:C504)","v":0},0,0,0,0,0,{"$f":"IFERROR(AVERAGE(I498:I504), )","v":0},{"$f":"IFERROR(AVERAGE(J498:J504), )","v":0},{"$f":"SUM(K498:K504)","v":0},{"$f":"SUM(L498:L504)","v":0},{"$f":"IFERROR(AVERAGE(M498:M504), )","v":0}]
[{"$f":"IF(General!$J$3>0,General!$J$3+B506, )","v":"00:00:00"},540]
[{"$f":"IF(General!$J$3>0,General!$J$3+B507, )","v":"00:00:00"},541]
[{"$f":"IF(General!$J$3>0,General!$J$3+B508, )","v":"00:00:00"},542]
[{"$f":"IF(General!$J$3>0,General!$J$3+B509, )","v":"00:00:00"},543]
[{"$f":"IF(General!$J$3>0,General!$J$3+B510, )","v":"00:00:00"},544]
[{"$f":"IF(General!$J$3>0,General!$J$3+B511, )","v":"00:00:00"},545]
[{"$f":"IF(General!$J$3>0,General!$J$3+B512, )","v":"00:00:00"},546]
[{"$f":"A512","v":"00:00:00"},{"$f":"Translation!$B$26&\" 78\"","v":"Wk 78"},{"$f":"SUM(C506:C512)","v":0},0,0,0,0,0,{"$f":"IFERROR(AVERAGE(I506:I512), )","v":0},{"$f":"IFERROR(AVERAGE(J506:J512), )","v":0},{"$f":"SUM(K506:K512)","v":0},{"$f":"SUM(L506:L512)","v":0},{"$f":"IFERROR(AVERAGE(M506:M512), )","v":0}]
[{"$f":"IF(General!$J$3>0,General!$J$3+B514, )","v":"00:00:00"},547]
[{"$f":"IF(General!$J$3>0,General!$J$3+B515, )","v":"00:00:00"},548]
[{"$f":"IF(General!$J$3>0,General!$J$3+B516, )","v":"00:00:00"},549]
[{"$f":"IF(General!$J$3>0,General!$J$3+B517, )","v":"00:00:00"},550]
[{"$f":"IF(General!$J$3>0,General!$J$3+B518, )","v":"00:00:00"},551]
[{"$f":"IF(General!$J$3>0,General!$J$3+B519, )","v":"00:00:00"},552]
[{"$f":"IF(General!$J$3>0,General!$J$3+B520, )","v":"00:00:00"},553]
[{"$f":"A520","v":"00:00:00"},{"$f":"Translation!$B$26&\" 79\"","v":"Wk 79"},{"$f":"SUM(C514:C520)","v":0},0,0,0,0,0,{"$f":"IFERROR(AVERAGE(I514:I520), )","v":0},{"$f":"IFERROR(AVERAGE(J514:J520), )","v":0},{"$f":"SUM(K514:K520)","v":0},{"$f":"SUM(L514:L520)","v":0},{"$f":"IFERROR(AVERAGE(M514:M520), )","v":0}]
[{"$f":"IF(General!$J$3>0,General!$J$3+B522, )","v":"00:00:00"},554]
[{"$f":"IF(General!$J$3>0,General!$J$3+B523, )","v":"00:00:00"},555]
[{"$f":"IF(General!$J$3>0,General!$J$3+B524, )","v":"00:00:00"},556]
[{"$f":"IF(General!$J$3>0,General!$J$3+B525, )","v":"00:00:00"},557]
[{"$f":"IF(General!$J$3>0,General!$J$3+B526, )","v":"00:00:00"},558]
[{"$f":"IF(General!$J$3>0,General!$J$3+B527, )","v":"00:00:00"},559]
[{"$f":"IF(General!$J$3>0,General!$J$3+B528, )","v":"00:00:00"},560]
[{"$f":"A528","v":"00:00:00"},{"$f":"Translation!$B$26&\" 80\"","v":"Wk 80"},{"$f":"SUM(C522:C528)","v":0},0,0,0,0,0,{"$f":"IFERROR(AVERAGE(I522:I528), )","v":0},{"$f":"IFERROR(AVERAGE(J522:J528), )","v":0},{"$f":"SUM(K522:K528)","v":0},{"$f":"SUM(L522:L528)","v":0},{"$f":"IFERROR(AVERAGE(M522:M528), )","v":0}]

{"sheet":"In prod (weekly)","index":4,"n_rows":68,"n_cols":22,"rows_kept":68,"merged":[[0,2,0,3],[0,4,0,5],[0,6,0,7],[0,8,0,9],[0,11,0,12],[0,15,0,16],[0,17,0,18]]}
[null,null,{"$f":"Translation!B21","v":"alternative"},null,{"$f":"Translation!$B$21","v":"alternative"},null,{"$f":"Translation!$B$21","v":"alternative"},null,{"$f":"Translation!$B$21","v":"alternative"},null,null,{"$f":"Translation!$B$21","v":"alternative"},{"$nulls":3},{"$f":"Translation!$B$21","v":"alternative"},null,{"$f":"Translation!$B$21","v":"alternative"}]
[{"$f":"Translation!B22","v":"Date"},{"$f":"Translation!B25","v":"Wk of Age"},{"$f":"Translation!B27","v":"No. of dead females"},{"$f":"Translation!B28","v":"% fem. mortality / week"},{"$f":"Translation!B29","v":"No. of dead males"},{"$f":"Translation!B30","v":"% male mortality / week"},{"$f":"Translation!B55","v":"No. of eggs/ week"},{"$f":"Translation!B56","v":"% prod. /HD"},{"$f":"Translation!B57","v":"No. of hatching eggs/wk"},{"$f":"Translation!B58","v":"% hatching eggs / wk"},{"$f":"Translation!B59","v":"No. of eggs set"},{"$f":"Translation!B60","v":"No. of fem. chicks hatched"},{"$f":"Translation!B61","v":"% fem. hatch"},{"$f":"Translation!B31","v":"Female Body Wt (g) "},{"$f":"Translation!B32","v":"Male Body Wt (g) "},{"$f":"Translation!B34","v":"Feed cons. (kg/wk)"},{"$f":"Translation!B35","v":"Feed cons. (g/bd/d)"},{"$f":"Translation!B37","v":"Water cons. (l/wk)"},{"$f":"Translation!B38","v":"Water cons. (ml/bd/d)"},{"$f":"Translation!B40","v":"a trait you like"},{"$f":"Translation!B16","v":"Remarks:"},"Days"]
[{"$f":"IF(General!$J$29>0,'In prod (daily)'!$A$9, )","v":"00:00:00"},15,{"$f":"'In prod (daily)'!$C$9","v":0},null,{"$f":"'In prod (daily)'!$D$9","v":0},null,{"$f":"'In prod (daily)'!$E$9","v":0},null,{"$f":"'In prod (daily)'!$F$9","v":0},null,{"$f":"'In prod (daily)'!$G$9","v":0},{"$f":"'In prod (daily)'!$H$9","v":0},null,{"$f":"'In prod (daily)'!$I$9","v":0},{"$f":"'In prod (daily)'!$J$9","v":0},{"$f":"'In prod (daily)'!$K$9","v":0},null,{"$f":"'In prod (daily)'!$L$9","v":0},null,{"$f":"'In prod (daily)'!$M$9","v":0},null,105]
[{"$f":"IF(General!$J$29>0,A3+7, )","v":"00:00:00"},16,{"$f":"'In prod (daily)'!$C$17","v":0},null,{"$f":"'In prod (daily)'!$D$17","v":0},null,{"$f":"'In prod (daily)'!$E$17","v":0},null,{"$f":"'In prod (daily)'!$F$17","v":0},null,{"$f":"'In prod (daily)'!$G$17","v":0},{"$f":"'In prod (daily)'!$H$17","v":0},null,{"$f":"'In prod (daily)'!$I$17","v":0},{"$f":"'In prod (daily)'!$J$17","v":0},{"$f":"'In prod (daily)'!$K$17","v":0},null,{"$f":"'In prod (daily)'!$L$17","v":0},null,{"$f":"'In prod (daily)'!$M$17","v":0},null,112]
[{"$f":"IF(General!$J$29>0,A4+7, )","v":"00:00:00"},17,{"$f":"'In prod (daily)'!$C$25","v":0},null,{"$f":"'In prod (daily)'!$D$25","v":0},null,{"$f":"'In prod (daily)'!$E$25","v":0},null,{"$f":"'In prod (daily)'!$F$25","v":0},null,{"$f":"'In prod (daily)'!$G$25","v":0},{"$f":"'In prod (daily)'!$H$25","v":0},null,{"$f":"'In prod (daily)'!$I$25","v":0},{"$f":"'In prod (daily)'!$J$25","v":0},{"$f":"'In prod (daily)'!$K$25","v":0},null,{"$f":"'In prod (daily)'!$L$25","v":0},null,{"$f":"'In prod (daily)'!$M$25","v":0},null,119]
[{"$f":"IF(General!$J$29>0,A5+7, )","v":"00:00:00"},18,{"$f":"'In prod (daily)'!$C$33","v":0},null,{"$f":"'In prod (daily)'!$D$33","v":0},null,{"$f":"'In prod (daily)'!$E$33","v":0},null,{"$f":"'In prod (daily)'!$F$33","v":0},null,{"$f":"'In prod (daily)'!$G$33","v":0},{"$f":"'In prod (daily)'!$H$33","v":0},null,{"$f":"'In prod (daily)'!$I$33","v":0},{"$f":"'In prod (daily)'!$J$33","v":0},{"$f":"'In prod (daily)'!$K$33","v":0},null,{"$f":"'In prod (daily)'!$L$33","v":0},null,{"$f":"'In prod (daily)'!$M$33","v":0},null,126]
[{"$f":"IF(General!$J$29>0,A6+7, )","v":"00:00:00"},19,{"$f":"'In prod (daily)'!$C$41","v":0},null,{"$f":"'In prod (daily)'!$D$41","v":0},null,{"$f":"'In prod (daily)'!$E$41","v":0},null,{"$f":"'In prod (daily)'!$F$41","v":0},null,{"$f":"'In prod (daily)'!$G$41","v":0},{"$f":"'In prod (daily)'!$H$41","v":0},null,{"$f":"'In prod (daily)'!$I$41","v":0},{"$f":"'In prod (daily)'!$J$41","v":0},{"$f":"'In prod (daily)'!$K$41","v":0},null,{"$f":"'In prod (daily)'!$L$41","v":0},null,{"$f":"'In prod (daily)'!$M$41","v":0},null,133]
[{"$f":"IF(General!$J$29>0,A7+7, )","v":"00:00:00"},20,{"$f":"'In prod (daily)'!$C$49","v":0},null,{"$f":"'In prod (daily)'!$D$49","v":0},null,{"$f":"'In prod (daily)'!$E$49","v":0},null,{"$f":"'In prod (daily)'!$F$49","v":0},null,{"$f":"'In prod (daily)'!$G$49","v":0},{"$f":"'In prod (daily)'!$H$49","v":0},null,{"$f":"'In prod (daily)'!$I$49","v":0},{"$f":"'In prod (daily)'!$J$49","v":0},{"$f":"'In prod (daily)'!$K$49","v":0},null,{"$f":"'In prod (daily)'!$L$49","v":0},null,{"$f":"'In prod (daily)'!$M$49","v":0},null,140]
[{"$f":"IF(General!$J$29>0,A8+7, )","v":"00:00:00"},21,{"$f":"'In prod (daily)'!$C$57","v":0},null,{"$f":"'In prod (daily)'!$D$57","v":0},null,{"$f":"'In prod (daily)'!$E$57","v":0},null,{"$f":"'In prod (daily)'!$F$57","v":0},null,{"$f":"'In prod (daily)'!$G$57","v":0},{"$f":"'In prod (daily)'!$H$57","v":0},null,{"$f":"'In prod (daily)'!$I$57","v":0},{"$f":"'In prod (daily)'!$J$57","v":0},{"$f":"'In prod (daily)'!$K$57","v":0},null,{"$f":"'In prod (daily)'!$L$57","v":0},null,{"$f":"'In prod (daily)'!$M$57","v":0},null,147]
[{"$f":"IF(General!$J$29>0,A9+7, )","v":"00:00:00"},22,{"$f":"'In prod (daily)'!$C$65","v":0},null,{"$f":"'In prod (daily)'!$D$65","v":0},null,{"$f":"'In prod (daily)'!$E$65","v":0},null,{"$f":"'In prod (daily)'!$F$65","v":0},null,{"$f":"'In prod (daily)'!$G$65","v":0},{"$f":"'In prod (daily)'!$H$65","v":0},null,{"$f":"'In prod (daily)'!$I$65","v":0},{"$f":"'In prod (daily)'!$J$65","v":0},{"$f":"'In prod (daily)'!$K$65","v":0},null,{"$f":"'In prod (daily)'!$L$65","v":0},null,{"$f":"'In prod (daily)'!$M$65","v":0},null,154]
[{"$f":"IF(General!$J$29>0,A10+7, )","v":"00:00:00"},23,{"$f":"'In prod (daily)'!$C$73","v":0},null,{"$f":"'In prod (daily)'!$D$73","v":0},null,{"$f":"'In prod (daily)'!$E$73","v":0},null,{"$f":"'In prod (daily)'!$F$73","v":0},null,{"$f":"'In prod (daily)'!$G$73","v":0},{"$f":"'In prod (daily)'!$H$73","v":0},null,{"$f":"'In prod (daily)'!$I$73","v":0},{"$f":"'In prod (daily)'!$J$73","v":0},{"$f":"'In prod (daily)'!$K$73","v":0},null,{"$f":"'In prod (daily)'!$L$73","v":0},null,{"$f":"'In prod (daily)'!$M$73","v":0},null,161]
[{"$f":"IF(General!$J$29>0,A11+7, )","v":"00:00:00"},24,{"$f":"'In prod (daily)'!$C$81","v":0},null,{"$f":"'In prod (daily)'!$D$81","v":0},null,{"$f":"'In prod (daily)'!$E$81","v":0},null,{"$f":"'In prod (daily)'!$F$81","v":0},null,{"$f":"'In prod (daily)'!$G$81","v":0},{"$f":"'In prod (daily)'!$H$81","v":0},null,{"$f":"'In prod (daily)'!$I$81","v":0},{"$f":"'In prod (daily)'!$J$81","v":0},{"$f":"'In prod (daily)'!$K$81","v":0},null,{"$f":"'In prod (daily)'!$L$81","v":0},null,{"$f":"'In prod (daily)'!$M$81","v":0},null,168]
[{"$f":"IF(General!$J$29>0,A12+7, )","v":"00:00:00"},25,{"$f":"'In prod (daily)'!$C$89","v":0},null,{"$f":"'In prod (daily)'!$D$89","v":0},null,{"$f":"'In prod (daily)'!$E$89","v":0},null,{"$f":"'In prod (daily)'!$F$89","v":0},null,{"$f":"'In prod (daily)'!$G$89","v":0},{"$f":"'In prod (daily)'!$H$89","v":0},null,{"$f":"'In prod (daily)'!$I$89","v":0},{"$f":"'In prod (daily)'!$J$89","v":0},{"$f":"'In prod (daily)'!$K$89","v":0},null,{"$f":"'In prod (daily)'!$L$89","v":0},null,{"$f":"'In prod (daily)'!$M$89","v":0},null,175]
[{"$f":"IF(General!$J$29>0,A13+7, )","v":"00:00:00"},26,{"$f":"'In prod (daily)'!$C$97","v":0},null,{"$f":"'In prod (daily)'!$D$97","v":0},null,{"$f":"'In prod (daily)'!$E$97","v":0},null,{"$f":"'In prod (daily)'!$F$97","v":0},null,{"$f":"'In prod (daily)'!$G$97","v":0},{"$f":"'In prod (daily)'!$H$97","v":0},null,{"$f":"'In prod (daily)'!$I$97","v":0},{"$f":"'In prod (daily)'!$J$97","v":0},{"$f":"'In prod (daily)'!$K$97","v":0},null,{"$f":"'In prod (daily)'!$L$97","v":0},null,{"$f":"'In prod (daily)'!$M$97","v":0},null,182]
[{"$f":"IF(General!$J$29>0,A14+7, )","v":"00:00:00"},27,{"$f":"'In prod (daily)'!$C$105","v":0},null,{"$f":"'In prod (daily)'!$D$105","v":0},null,{"$f":"'In prod (daily)'!$E$105","v":0},null,{"$f":"'In prod (daily)'!$F$105","v":0},null,{"$f":"'In prod (daily)'!$G$105","v":0},{"$f":"'In prod (daily)'!$H$105","v":0},null,{"$f":"'In prod (daily)'!$I$105","v":0},{"$f":"'In prod (daily)'!$J$105","v":0},{"$f":"'In prod (daily)'!$K$105","v":0},null,{"$f":"'In prod (daily)'!$L$105","v":0},null,{"$f":"'In prod (daily)'!$M$105","v":0},null,189]
[{"$f":"IF(General!$J$29>0,A15+7, )","v":"00:00:00"},28,{"$f":"'In prod (daily)'!$C$113","v":0},null,{"$f":"'In prod (daily)'!$D$113","v":0},null,{"$f":"'In prod (daily)'!$E$113","v":0},null,{"$f":"'In prod (daily)'!$F$113","v":0},null,{"$f":"'In prod (daily)'!$G$113","v":0},{"$f":"'In prod (daily)'!$H$113","v":0},null,{"$f":"'In prod (daily)'!$I$113","v":0},{"$f":"'In prod (daily)'!$J$113","v":0},{"$f":"'In prod (daily)'!$K$113","v":0},null,{"$f":"'In prod (daily)'!$L$113","v":0},null,{"$f":"'In prod (daily)'!$M$113","v":0},null,196]
[{"$f":"IF(General!$J$29>0,A16+7, )","v":"00:00:00"},29,{"$f":"'In prod (daily)'!$C$121","v":0},null,{"$f":"'In prod (daily)'!$D$121","v":0},null,{"$f":"'In prod (daily)'!$E$121","v":0},null,{"$f":"'In prod (daily)'!$F$121","v":0},null,{"$f":"'In prod (daily)'!$G$121","v":0},{"$f":"'In prod (daily)'!$H$121","v":0},null,{"$f":"'In prod (daily)'!$I$121","v":0},{"$f":"'In prod (daily)'!$J$121","v":0},{"$f":"'In prod (daily)'!$K$121","v":0},null,{"$f":"'In prod (daily)'!$L$121","v":0},null,{"$f":"'In prod (daily)'!$M$121","v":0},null,203]
[{"$f":"IF(General!$J$29>0,A17+7, )","v":"00:00:00"},30,{"$f":"'In prod (daily)'!$C$129","v":0},null,{"$f":"'In prod (daily)'!$D$129","v":0},null,{"$f":"'In prod (daily)'!$E$129","v":0},null,{"$f":"'In prod (daily)'!$F$129","v":0},null,{"$f":"'In prod (daily)'!$G$129","v":0},{"$f":"'In prod (daily)'!$H$129","v":0},null,{"$f":"'In prod (daily)'!$I$129","v":0},{"$f":"'In prod (daily)'!$J$129","v":0},{"$f":"'In prod (daily)'!$K$129","v":0},null,{"$f":"'In prod (daily)'!$L$129","v":0},null,{"$f":"'In prod (daily)'!$M$129","v":0},null,210]
[{"$f":"IF(General!$J$29>0,A18+7, )","v":"00:00:00"},31,{"$f":"'In prod (daily)'!$C$137","v":0},null,{"$f":"'In prod (daily)'!$D$137","v":0},null,{"$f":"'In prod (daily)'!$E$137","v":0},null,{"$f":"'In prod (daily)'!$F$137","v":0},null,{"$f":"'In prod (daily)'!$G$137","v":0},{"$f":"'In prod (daily)'!$H$137","v":0},null,{"$f":"'In prod (daily)'!$I$137","v":0},{"$f":"'In prod (daily)'!$J$137","v":0},{"$f":"'In prod (daily)'!$K$137","v":0},null,{"$f":"'In prod (daily)'!$L$137","v":0},null,{"$f":"'In prod (daily)'!$M$137","v":0},null,217]
[{"$f":"IF(General!$J$29>0,A19+7, )","v":"00:00:00"},32,{"$f":"'In prod (daily)'!$C$145","v":0},null,{"$f":"'In prod (daily)'!$D$145","v":0},null,{"$f":"'In prod (daily)'!$E$145","v":0},null,{"$f":"'In prod (daily)'!$F$145","v":0},null,{"$f":"'In prod (daily)'!$G$145","v":0},{"$f":"'In prod (daily)'!$H$145","v":0},null,{"$f":"'In prod (daily)'!$I$145","v":0},{"$f":"'In prod (daily)'!$J$145","v":0},{"$f":"'In prod (daily)'!$K$145","v":0},null,{"$f":"'In prod (daily)'!$L$145","v":0},null,{"$f":"'In prod (daily)'!$M$145","v":0},null,224]
[{"$f":"IF(General!$J$29>0,A20+7, )","v":"00:00:00"},33,{"$f":"'In prod (daily)'!$C$153","v":0},null,{"$f":"'In prod (daily)'!$D$153","v":0},null,{"$f":"'In prod (daily)'!$E$153","v":0},null,{"$f":"'In prod (daily)'!$F$153","v":0},null,{"$f":"'In prod (daily)'!$G$153","v":0},{"$f":"'In prod (daily)'!$H$153","v":0},null,{"$f":"'In prod (daily)'!$I$153","v":0},{"$f":"'In prod (daily)'!$J$153","v":0},{"$f":"'In prod (daily)'!$K$153","v":0},null,{"$f":"'In prod (daily)'!$L$153","v":0},null,{"$f":"'In prod (daily)'!$M$153","v":0},null,231]
[{"$f":"IF(General!$J$29>0,A21+7, )","v":"00:00:00"},34,{"$f":"'In prod (daily)'!$C$161","v":0},null,{"$f":"'In prod (daily)'!$D$161","v":0},null,{"$f":"'In prod (daily)'!$E$161","v":0},null,{"$f":"'In prod (daily)'!$F$161","v":0},null,{"$f":"'In prod (daily)'!$G$161","v":0},{"$f":"'In prod (daily)'!$H$161","v":0},null,{"$f":"'In prod (daily)'!$I$161","v":0},{"$f":"'In prod (daily)'!$J$161","v":0},{"$f":"'In prod (daily)'!$K$161","v":0},null,{"$f":"'In prod (daily)'!$L$161","v":0},null,{"$f":"'In prod (daily)'!$M$161","v":0},null,238]
[{"$f":"IF(General!$J$29>0,A22+7, )","v":"00:00:00"},35,{"$f":"'In prod (daily)'!$C$169","v":0},null,{"$f":"'In prod (daily)'!$D$169","v":0},null,{"$f":"'In prod (daily)'!$E$169","v":0},null,{"$f":"'In prod (daily)'!$F$169","v":0},null,{"$f":"'In prod (daily)'!$G$169","v":0},{"$f":"'In prod (daily)'!$H$169","v":0},null,{"$f":"'In prod (daily)'!$I$169","v":0},{"$f":"'In prod (daily)'!$J$169","v":0},{"$f":"'In prod (daily)'!$K$169","v":0},null,{"$f":"'In prod (daily)'!$L$169","v":0},null,{"$f":"'In prod (daily)'!$M$169","v":0},null,245]
[{"$f":"IF(General!$J$29>0,A23+7, )","v":"00:00:00"},36,{"$f":"'In prod (daily)'!$C$177","v":0},null,{"$f":"'In prod (daily)'!$D$177","v":0},null,{"$f":"'In prod (daily)'!$E$177","v":0},null,{"$f":"'In prod (daily)'!$F$177","v":0},null,{"$f":"'In prod (daily)'!$G$177","v":0},{"$f":"'In prod (daily)'!$H$177","v":0},null,{"$f":"'In prod (daily)'!$I$177","v":0},{"$f":"'In prod (daily)'!$J$177","v":0},{"$f":"'In prod (daily)'!$K$177","v":0},null,{"$f":"'In prod (daily)'!$L$177","v":0},null,{"$f":"'In prod (daily)'!$M$177","v":0},null,252]
[{"$f":"IF(General!$J$29>0,A24+7, )","v":"00:00:00"},37,{"$f":"'In prod (daily)'!$C$185","v":0},null,{"$f":"'In prod (daily)'!$D$185","v":0},null,{"$f":"'In prod (daily)'!$E$185","v":0},null,{"$f":"'In prod (daily)'!$F$185","v":0},null,{"$f":"'In prod (daily)'!$G$185","v":0},{"$f":"'In prod (daily)'!$H$185","v":0},null,{"$f":"'In prod (daily)'!$I$185","v":0},{"$f":"'In prod (daily)'!$J$185","v":0},{"$f":"'In prod (daily)'!$K$185","v":0},null,{"$f":"'In prod (daily)'!$L$185","v":0},null,{"$f":"'In prod (daily)'!$M$185","v":0},null,259]
[{"$f":"IF(General!$J$29>0,A25+7, )","v":"00:00:00"},38,{"$f":"'In prod (daily)'!$C$193","v":0},null,{"$f":"'In prod (daily)'!$D$193","v":0},null,{"$f":"'In prod (daily)'!$E$193","v":0},null,{"$f":"'In prod (daily)'!$F$193","v":0},null,{"$f":"'In prod (daily)'!$G$193","v":0},{"$f":"'In prod (daily)'!$H$193","v":0},null,{"$f":"'In prod (daily)'!$I$193","v":0},{"$f":"'In prod (daily)'!$J$193","v":0},{"$f":"'In prod (daily)'!$K$193","v":0},null,{"$f":"'In prod (daily)'!$L$193","v":0},null,{"$f":"'In prod (daily)'!$M$193","v":0},null,266]
[{"$f":"IF(General!$J$29>0,A26+7, )","v":"00:00:00"},39,{"$f":"'In prod (daily)'!$C$201","v":0},null,{"$f":"'In prod (daily)'!$D$201","v":0},null,{"$f":"'In prod (daily)'!$E$201","v":0},null,{"$f":"'In prod (daily)'!$F$201","v":0},null,{"$f":"'In prod (daily)'!$G$201","v":0},{"$f":"'In prod (daily)'!$H$201","v":0},null,{"$f":"'In prod (daily)'!$I$201","v":0},{"$f":"'In prod (daily)'!$J$201","v":0},{"$f":"'In prod (daily)'!$K$201","v":0},null,{"$f":"'In prod (daily)'!$L$201","v":0},null,{"$f":"'In prod (daily)'!$M$201","v":0},null,273]
[{"$f":"IF(General!$J$29>0,A27+7, )","v":"00:00:00"},40,{"$f":"'In prod (daily)'!$C$209","v":0},null,{"$f":"'In prod (daily)'!$D$209","v":0},null,{"$f":"'In prod (daily)'!$E$209","v":0},null,{"$f":"'In prod (daily)'!$F$209","v":0},null,{"$f":"'In prod (daily)'!$G$209","v":0},{"$f":"'In prod (daily)'!$H$209","v":0},null,{"$f":"'In prod (daily)'!$I$209","v":0},{"$f":"'In prod (daily)'!$J$209","v":0},{"$f":"'In prod (daily)'!$K$209","v":0},null,{"$f":"'In prod (daily)'!$L$209","v":0},null,{"$f":"'In prod (daily)'!$M$209","v":0},null,280]
[{"$f":"IF(General!$J$29>0,A28+7, )","v":"00:00:00"},41,{"$f":"'In prod (daily)'!$C$217","v":0},null,{"$f":"'In prod (daily)'!$D$217","v":0},null,{"$f":"'In prod (daily)'!$E$217","v":0},null,{"$f":"'In prod (daily)'!$F$217","v":0},null,{"$f":"'In prod (daily)'!$G$217","v":0},{"$f":"'In prod (daily)'!$H$217","v":0},null,{"$f":"'In prod (daily)'!$I$217","v":0},{"$f":"'In prod (daily)'!$J$217","v":0},{"$f":"'In prod (daily)'!$K$217","v":0},null,{"$f":"'In prod (daily)'!$L$217","v":0},null,{"$f":"'In prod (daily)'!$M$217","v":0},null,287]
[{"$f":"IF(General!$J$29>0,A29+7, )","v":"00:00:00"},42,{"$f":"'In prod (daily)'!$C$225","v":0},null,{"$f":"'In prod (daily)'!$D$225","v":0},null,{"$f":"'In prod (daily)'!$E$225","v":0},null,{"$f":"'In prod (daily)'!$F$225","v":0},null,{"$f":"'In prod (daily)'!$G$225","v":0},{"$f":"'In prod (daily)'!$H$225","v":0},null,{"$f":"'In prod (daily)'!$I$225","v":0},{"$f":"'In prod (daily)'!$J$225","v":0},{"$f":"'In prod (daily)'!$K$225","v":0},null,{"$f":"'In prod (daily)'!$L$225","v":0},null,{"$f":"'In prod (daily)'!$M$225","v":0},null,294]
[{"$f":"IF(General!$J$29>0,A30+7, )","v":"00:00:00"},43,{"$f":"'In prod (daily)'!$C$233","v":0},null,{"$f":"'In prod (daily)'!$D$233","v":0},null,{"$f":"'In prod (daily)'!$E$233","v":0},null,{"$f":"'In prod (daily)'!$F$233","v":0},null,{"$f":"'In prod (daily)'!$G$233","v":0},{"$f":"'In prod (daily)'!$H$233","v":0},null,{"$f":"'In prod (daily)'!$I$233","v":0},{"$f":"'In prod (daily)'!$J$233","v":0},{"$f":"'In prod (daily)'!$K$233","v":0},null,{"$f":"'In prod (daily)'!$L$233","v":0},null,{"$f":"'In prod (daily)'!$M$233","v":0},null,301]
[{"$f":"IF(General!$J$29>0,A31+7, )","v":"00:00:00"},44,{"$f":"'In prod (daily)'!$C$241","v":0},null,{"$f":"'In prod (daily)'!$D$241","v":0},null,{"$f":"'In prod (daily)'!$E$241","v":0},null,{"$f":"'In prod (daily)'!$F$241","v":0},null,{"$f":"'In prod (daily)'!$G$241","v":0},{"$f":"'In prod (daily)'!$H$241","v":0},null,{"$f":"'In prod (daily)'!$I$241","v":0},{"$f":"'In prod (daily)'!$J$241","v":0},{"$f":"'In prod (daily)'!$K$241","v":0},null,{"$f":"'In prod (daily)'!$L$241","v":0},null,{"$f":"'In prod (daily)'!$M$241","v":0},null,308]
[{"$f":"IF(General!$J$29>0,A32+7, )","v":"00:00:00"},45,{"$f":"'In prod (daily)'!$C$249","v":0},null,{"$f":"'In prod (daily)'!$D$249","v":0},null,{"$f":"'In prod (daily)'!$E$249","v":0},null,{"$f":"'In prod (daily)'!$F$249","v":0},null,{"$f":"'In prod (daily)'!$G$249","v":0},{"$f":"'In prod (daily)'!$H$249","v":0},null,{"$f":"'In prod (daily)'!$I$249","v":0},{"$f":"'In prod (daily)'!$J$249","v":0},{"$f":"'In prod (daily)'!$K$249","v":0},null,{"$f":"'In prod (daily)'!$L$249","v":0},null,{"$f":"'In prod (daily)'!$M$249","v":0},null,315]
[{"$f":"IF(General!$J$29>0,A33+7, )","v":"00:00:00"},46,{"$f":"'In prod (daily)'!$C$257","v":0},null,{"$f":"'In prod (daily)'!$D$257","v":0},null,{"$f":"'In prod (daily)'!$E$257","v":0},null,{"$f":"'In prod (daily)'!$F$257","v":0},null,{"$f":"'In prod (daily)'!$G$257","v":0},{"$f":"'In prod (daily)'!$H$257","v":0},null,{"$f":"'In prod (daily)'!$I$257","v":0},{"$f":"'In prod (daily)'!$J$257","v":0},{"$f":"'In prod (daily)'!$K$257","v":0},null,{"$f":"'In prod (daily)'!$L$257","v":0},null,{"$f":"'In prod (daily)'!$M$257","v":0},null,322]
[{"$f":"IF(General!$J$29>0,A34+7, )","v":"00:00:00"},47,{"$f":"'In prod (daily)'!$C$265","v":0},null,{"$f":"'In prod (daily)'!$D$265","v":0},null,{"$f":"'In prod (daily)'!$E$265","v":0},null,{"$f":"'In prod (daily)'!$F$265","v":0},null,{"$f":"'In prod (daily)'!$G$265","v":0},{"$f":"'In prod (daily)'!$H$265","v":0},null,{"$f":"'In prod (daily)'!$I$265","v":0},{"$f":"'In prod (daily)'!$J$265","v":0},{"$f":"'In prod (daily)'!$K$265","v":0},null,{"$f":"'In prod (daily)'!$L$265","v":0},null,{"$f":"'In prod (daily)'!$M$265","v":0},null,329]
[{"$f":"IF(General!$J$29>0,A35+7, )","v":"00:00:00"},48,{"$f":"'In prod (daily)'!$C$273","v":0},null,{"$f":"'In prod (daily)'!$D$273","v":0},null,{"$f":"'In prod (daily)'!$E$273","v":0},null,{"$f":"'In prod (daily)'!$F$273","v":0},null,{"$f":"'In prod (daily)'!$G$273","v":0},{"$f":"'In prod (daily)'!$H$273","v":0},null,{"$f":"'In prod (daily)'!$I$273","v":0},{"$f":"'In prod (daily)'!$J$273","v":0},{"$f":"'In prod (daily)'!$K$273","v":0},null,{"$f":"'In prod (daily)'!$L$273","v":0},null,{"$f":"'In prod (daily)'!$M$273","v":0},null,336]
[{"$f":"IF(General!$J$29>0,A36+7, )","v":"00:00:00"},49,{"$f":"'In prod (daily)'!$C$281","v":0},null,{"$f":"'In prod (daily)'!$D$281","v":0},null,{"$f":"'In prod (daily)'!$E$281","v":0},null,{"$f":"'In prod (daily)'!$F$281","v":0},null,{"$f":"'In prod (daily)'!$G$281","v":0},{"$f":"'In prod (daily)'!$H$281","v":0},null,{"$f":"'In prod (daily)'!$I$281","v":0},{"$f":"'In prod (daily)'!$J$281","v":0},{"$f":"'In prod (daily)'!$K$281","v":0},null,{"$f":"'In prod (daily)'!$L$281","v":0},null,{"$f":"'In prod (daily)'!$M$281","v":0},null,343]
[{"$f":"IF(General!$J$29>0,A37+7, )","v":"00:00:00"},50,{"$f":"'In prod (daily)'!$C$289","v":0},null,{"$f":"'In prod (daily)'!$D$289","v":0},null,{"$f":"'In prod (daily)'!$E$289","v":0},null,{"$f":"'In prod (daily)'!$F$289","v":0},null,{"$f":"'In prod (daily)'!$G$289","v":0},{"$f":"'In prod (daily)'!$H$289","v":0},null,{"$f":"'In prod (daily)'!$I$289","v":0},{"$f":"'In prod (daily)'!$J$289","v":0},{"$f":"'In prod (daily)'!$K$289","v":0},null,{"$f":"'In prod (daily)'!$L$289","v":0},null,{"$f":"'In prod (daily)'!$M$289","v":0},null,350]
[{"$f":"IF(General!$J$29>0,A38+7, )","v":"00:00:00"},51,{"$f":"'In prod (daily)'!$C$297","v":0},null,{"$f":"'In prod (daily)'!$D$297","v":0},null,{"$f":"'In prod (daily)'!$E$297","v":0},null,{"$f":"'In prod (daily)'!$F$297","v":0},null,{"$f":"'In prod (daily)'!$G$297","v":0},{"$f":"'In prod (daily)'!$H$297","v":0},null,{"$f":"'In prod (daily)'!$I$297","v":0},{"$f":"'In prod (daily)'!$J$297","v":0},{"$f":"'In prod (daily)'!$K$297","v":0},null,{"$f":"'In prod (daily)'!$L$297","v":0},null,{"$f":"'In prod (daily)'!$M$297","v":0},null,357]
[{"$f":"IF(General!$J$29>0,A39+7, )","v":"00:00:00"},52,{"$f":"'In prod (daily)'!$C$305","v":0},null,{"$f":"'In prod (daily)'!$D$305","v":0},null,{"$f":"'In prod (daily)'!$E$305","v":0},null,{"$f":"'In prod (daily)'!$F$305","v":0},null,{"$f":"'In prod (daily)'!$G$305","v":0},{"$f":"'In prod (daily)'!$H$305","v":0},null,{"$f":"'In prod (daily)'!$I$305","v":0},{"$f":"'In prod (daily)'!$J$305","v":0},{"$f":"'In prod (daily)'!$K$305","v":0},null,{"$f":"'In prod (daily)'!$L$305","v":0},null,{"$f":"'In prod (daily)'!$M$305","v":0},null,364]
[{"$f":"IF(General!$J$29>0,A40+7, )","v":"00:00:00"},53,{"$f":"'In prod (daily)'!$C$313","v":0},null,{"$f":"'In prod (daily)'!$D$313","v":0},null,{"$f":"'In prod (daily)'!$E$313","v":0},null,{"$f":"'In prod (daily)'!$F$313","v":0},null,{"$f":"'In prod (daily)'!$G$313","v":0},{"$f":"'In prod (daily)'!$H$313","v":0},null,{"$f":"'In prod (daily)'!$I$313","v":0},{"$f":"'In prod (daily)'!$J$313","v":0},{"$f":"'In prod (daily)'!$K$313","v":0},null,{"$f":"'In prod (daily)'!$L$313","v":0},null,{"$f":"'In prod (daily)'!$M$313","v":0},null,371]
[{"$f":"IF(General!$J$29>0,A41+7, )","v":"00:00:00"},54,{"$f":"'In prod (daily)'!$C$321","v":0},null,{"$f":"'In prod (daily)'!$D$321","v":0},null,{"$f":"'In prod (daily)'!$E$321","v":0},null,{"$f":"'In prod (daily)'!$F$321","v":0},null,{"$f":"'In prod (daily)'!$G$321","v":0},{"$f":"'In prod (daily)'!$H$321","v":0},null,{"$f":"'In prod (daily)'!$I$321","v":0},{"$f":"'In prod (daily)'!$J$321","v":0},{"$f":"'In prod (daily)'!$K$321","v":0},null,{"$f":"'In prod (daily)'!$L$321","v":0},null,{"$f":"'In prod (daily)'!$M$321","v":0},null,378]
[{"$f":"IF(General!$J$29>0,A42+7, )","v":"00:00:00"},55,{"$f":"'In prod (daily)'!$C$329","v":0},null,{"$f":"'In prod (daily)'!$D$329","v":0},null,{"$f":"'In prod (daily)'!$E$329","v":0},null,{"$f":"'In prod (daily)'!$F$329","v":0},null,{"$f":"'In prod (daily)'!$G$329","v":0},{"$f":"'In prod (daily)'!$H$329","v":0},null,{"$f":"'In prod (daily)'!$I$329","v":0},{"$f":"'In prod (daily)'!$J$329","v":0},{"$f":"'In prod (daily)'!$K$329","v":0},null,{"$f":"'In prod (daily)'!$L$329","v":0},null,{"$f":"'In prod (daily)'!$M$329","v":0},null,385]
[{"$f":"IF(General!$J$29>0,A43+7, )","v":"00:00:00"},56,{"$f":"'In prod (daily)'!$C$337","v":0},null,{"$f":"'In prod (daily)'!$D$337","v":0},null,{"$f":"'In prod (daily)'!$E$337","v":0},null,{"$f":"'In prod (daily)'!$F$337","v":0},null,{"$f":"'In prod (daily)'!$G$337","v":0},{"$f":"'In prod (daily)'!$H$337","v":0},null,{"$f":"'In prod (daily)'!$I$337","v":0},{"$f":"'In prod (daily)'!$J$337","v":0},{"$f":"'In prod (daily)'!$K$337","v":0},null,{"$f":"'In prod (daily)'!$L$337","v":0},null,{"$f":"'In prod (daily)'!$M$337","v":0},null,392]
[{"$f":"IF(General!$J$29>0,A44+7, )","v":"00:00:00"},57,{"$f":"'In prod (daily)'!$C$345","v":0},null,{"$f":"'In prod (daily)'!$D$345","v":0},null,{"$f":"'In prod (daily)'!$E$345","v":0},null,{"$f":"'In prod (daily)'!$F$345","v":0},null,{"$f":"'In prod (daily)'!$G$345","v":0},{"$f":"'In prod (daily)'!$H$345","v":0},null,{"$f":"'In prod (daily)'!$I$345","v":0},{"$f":"'In prod (daily)'!$J$345","v":0},{"$f":"'In prod (daily)'!$K$345","v":0},null,{"$f":"'In prod (daily)'!$L$345","v":0},null,{"$f":"'In prod (daily)'!$M$345","v":0},null,399]
[{"$f":"IF(General!$J$29>0,A45+7, )","v":"00:00:00"},58,{"$f":"'In prod (daily)'!$C$353","v":0},null,{"$f":"'In prod (daily)'!$D$353","v":0},null,{"$f":"'In prod (daily)'!$E$353","v":0},null,{"$f":"'In prod (daily)'!$F$353","v":0},null,{"$f":"'In prod (daily)'!$G$353","v":0},{"$f":"'In prod (daily)'!$H$353","v":0},null,{"$f":"'In prod (daily)'!$I$353","v":0},{"$f":"'In prod (daily)'!$J$353","v":0},{"$f":"'In prod (daily)'!$K$353","v":0},null,{"$f":"'In prod (daily)'!$L$353","v":0},null,{"$f":"'In prod (daily)'!$M$353","v":0},null,406]
[{"$f":"IF(General!$J$29>0,A46+7, )","v":"00:00:00"},59,{"$f":"'In prod (daily)'!$C$361","v":0},null,{"$f":"'In prod (daily)'!$D$361","v":0},null,{"$f":"'In prod (daily)'!$E$361","v":0},null,{"$f":"'In prod (daily)'!$F$361","v":0},null,{"$f":"'In prod (daily)'!$G$361","v":0},{"$f":"'In prod (daily)'!$H$361","v":0},null,{"$f":"'In prod (daily)'!$I$361","v":0},{"$f":"'In prod (daily)'!$J$361","v":0},{"$f":"'In prod (daily)'!$K$361","v":0},null,{"$f":"'In prod (daily)'!$L$361","v":0},null,{"$f":"'In prod (daily)'!$M$361","v":0},null,413]
[{"$f":"IF(General!$J$29>0,A47+7, )","v":"00:00:00"},60,{"$f":"'In prod (daily)'!$C$369","v":0},null,{"$f":"'In prod (daily)'!$D$369","v":0},null,{"$f":"'In prod (daily)'!$E$369","v":0},null,{"$f":"'In prod (daily)'!$F$369","v":0},null,{"$f":"'In prod (daily)'!$G$369","v":0},{"$f":"'In prod (daily)'!$H$369","v":0},null,{"$f":"'In prod (daily)'!$I$369","v":0},{"$f":"'In prod (daily)'!$J$369","v":0},{"$f":"'In prod (daily)'!$K$369","v":0},null,{"$f":"'In prod (daily)'!$L$369","v":0},null,{"$f":"'In prod (daily)'!$M$369","v":0},null,420]
[{"$f":"IF(General!$J$29>0,A48+7, )","v":"00:00:00"},61,{"$f":"'In prod (daily)'!$C$377","v":0},null,{"$f":"'In prod (daily)'!$D$377","v":0},null,{"$f":"'In prod (daily)'!$E$377","v":0},null,{"$f":"'In prod (daily)'!$F$377","v":0},null,{"$f":"'In prod (daily)'!$G$377","v":0},{"$f":"'In prod (daily)'!$H$377","v":0},null,{"$f":"'In prod (daily)'!$I$377","v":0},{"$f":"'In prod (daily)'!$J$377","v":0},{"$f":"'In prod (daily)'!$K$377","v":0},null,{"$f":"'In prod (daily)'!$L$377","v":0},null,{"$f":"'In prod (daily)'!$M$377","v":0},null,427]
[{"$f":"IF(General!$J$29>0,A49+7, )","v":"00:00:00"},62,{"$f":"'In prod (daily)'!$C$385","v":0},null,{"$f":"'In prod (daily)'!$D$385","v":0},null,{"$f":"'In prod (daily)'!$E$385","v":0},null,{"$f":"'In prod (daily)'!$F$385","v":0},null,{"$f":"'In prod (daily)'!$G$385","v":0},{"$f":"'In prod (daily)'!$H$385","v":0},null,{"$f":"'In prod (daily)'!$I$385","v":0},{"$f":"'In prod (daily)'!$J$385","v":0},{"$f":"'In prod (daily)'!$K$385","v":0},null,{"$f":"'In prod (daily)'!$L$385","v":0},null,{"$f":"'In prod (daily)'!$M$385","v":0},null,434]
[{"$f":"IF(General!$J$29>0,A50+7, )","v":"00:00:00"},63,{"$f":"'In prod (daily)'!$C$393","v":0},null,{"$f":"'In prod (daily)'!$D$393","v":0},null,{"$f":"'In prod (daily)'!$E$393","v":0},null,{"$f":"'In prod (daily)'!$F$393","v":0},null,{"$f":"'In prod (daily)'!$G$393","v":0},{"$f":"'In prod (daily)'!$H$393","v":0},null,{"$f":"'In prod (daily)'!$I$393","v":0},{"$f":"'In prod (daily)'!$J$393","v":0},{"$f":"'In prod (daily)'!$K$393","v":0},null,{"$f":"'In prod (daily)'!$L$393","v":0},null,{"$f":"'In prod (daily)'!$M$393","v":0},null,441]
[{"$f":"IF(General!$J$29>0,A51+7, )","v":"00:00:00"},64,{"$f":"'In prod (daily)'!$C$401","v":0},null,{"$f":"'In prod (daily)'!$D$401","v":0},null,{"$f":"'In prod (daily)'!$E$401","v":0},null,{"$f":"'In prod (daily)'!$F$401","v":0},null,{"$f":"'In prod (daily)'!$G$401","v":0},{"$f":"'In prod (daily)'!$H$401","v":0},null,{"$f":"'In prod (daily)'!$I$401","v":0},{"$f":"'In prod (daily)'!$J$401","v":0},{"$f":"'In prod (daily)'!$K$401","v":0},null,{"$f":"'In prod (daily)'!$L$401","v":0},null,{"$f":"'In prod (daily)'!$M$401","v":0},null,448]
[{"$f":"IF(General!$J$29>0,A52+7, )","v":"00:00:00"},65,{"$f":"'In prod (daily)'!$C$409","v":0},null,{"$f":"'In prod (daily)'!$D$409","v":0},null,{"$f":"'In prod (daily)'!$E$409","v":0},null,{"$f":"'In prod (daily)'!$F$409","v":0},null,{"$f":"'In prod (daily)'!$G$409","v":0},{"$f":"'In prod (daily)'!$H$409","v":0},null,{"$f":"'In prod (daily)'!$I$409","v":0},{"$f":"'In prod (daily)'!$J$409","v":0},{"$f":"'In prod (daily)'!$K$409","v":0},null,{"$f":"'In prod (daily)'!$L$409","v":0},null,{"$f":"'In prod (daily)'!$M$409","v":0},null,455]
[{"$f":"IF(General!$J$29>0,A53+7, )","v":"00:00:00"},66,{"$f":"'In prod (daily)'!$C$417","v":0},null,{"$f":"'In prod (daily)'!$D$417","v":0},null,{"$f":"'In prod (daily)'!$E$417","v":0},null,{"$f":"'In prod (daily)'!$F$417","v":0},null,{"$f":"'In prod (daily)'!$G$417","v":0},{"$f":"'In prod (daily)'!$H$417","v":0},null,{"$f":"'In prod (daily)'!$I$417","v":0},{"$f":"'In prod (daily)'!$J$417","v":0},{"$f":"'In prod (daily)'!$K$417","v":0},null,{"$f":"'In prod (daily)'!$L$417","v":0},null,{"$f":"'In prod (daily)'!$M$417","v":0},null,462]
[{"$f":"IF(General!$J$29>0,A54+7, )","v":"00:00:00"},67,{"$f":"'In prod (daily)'!$C$425","v":0},null,{"$f":"'In prod (daily)'!$D$425","v":0},null,{"$f":"'In prod (daily)'!$E$425","v":0},null,{"$f":"'In prod (daily)'!$F$425","v":0},null,{"$f":"'In prod (daily)'!$G$425","v":0},{"$f":"'In prod (daily)'!$H$425","v":0},null,{"$f":"'In prod (daily)'!$I$425","v":0},{"$f":"'In prod (daily)'!$J$425","v":0},{"$f":"'In prod (daily)'!$K$425","v":0},null,{"$f":"'In prod (daily)'!$L$425","v":0},null,{"$f":"'In prod (daily)'!$M$425","v":0},null,469]
[{"$f":"IF(General!$J$29>0,A55+7, )","v":"00:00:00"},68,{"$f":"'In prod (daily)'!$C$433","v":0},null,{"$f":"'In prod (daily)'!$D$433","v":0},null,{"$f":"'In prod (daily)'!$E$433","v":0},null,{"$f":"'In prod (daily)'!$F$433","v":0},null,{"$f":"'In prod (daily)'!$G$433","v":0},{"$f":"'In prod (daily)'!$H$433","v":0},null,{"$f":"'In prod (daily)'!$I$433","v":0},{"$f":"'In prod (daily)'!$J$433","v":0},{"$f":"'In prod (daily)'!$K$433","v":0},null,{"$f":"'In prod (daily)'!$L$433","v":0},null,{"$f":"'In prod (daily)'!$M$433","v":0},null,476]
[{"$f":"IF(General!$J$29>0,A56+7, )","v":"00:00:00"},69,{"$f":"'In prod (daily)'!$C$441","v":0},null,{"$f":"'In prod (daily)'!$D$441","v":0},null,{"$f":"'In prod (daily)'!$E$441","v":0},null,{"$f":"'In prod (daily)'!$F$441","v":0},null,{"$f":"'In prod (daily)'!$G$441","v":0},{"$f":"'In prod (daily)'!$H$441","v":0},null,{"$f":"'In prod (daily)'!$I$441","v":0},{"$f":"'In prod (daily)'!$J$441","v":0},{"$f":"'In prod (daily)'!$K$441","v":0},null,{"$f":"'In prod (daily)'!$L$441","v":0},null,{"$f":"'In prod (daily)'!$M$441","v":0},null,483]
[{"$f":"IF(General!$J$29>0,A57+7, )","v":"00:00:00"},70,{"$f":"'In prod (daily)'!$C$449","v":0},null,{"$f":"'In prod (daily)'!$D$449","v":0},null,{"$f":"'In prod (daily)'!$E$449","v":0},null,{"$f":"'In prod (daily)'!$F$449","v":0},null,{"$f":"'In prod (daily)'!$G$449","v":0},{"$f":"'In prod (daily)'!$H$449","v":0},null,{"$f":"'In prod (daily)'!$I$449","v":0},{"$f":"'In prod (daily)'!$J$449","v":0},{"$f":"'In prod (daily)'!$K$449","v":0},null,{"$f":"'In prod (daily)'!$L$449","v":0},null,{"$f":"'In prod (daily)'!$M$449","v":0},null,490]
[{"$f":"IF(General!$J$29>0,A58+7, )","v":"00:00:00"},71,{"$f":"'In prod (daily)'!$C$457","v":0},null,{"$f":"'In prod (daily)'!$D$457","v":0},null,{"$f":"'In prod (daily)'!$E$457","v":0},null,{"$f":"'In prod (daily)'!$F$457","v":0},null,{"$f":"'In prod (daily)'!$G$457","v":0},{"$f":"'In prod (daily)'!$H$457","v":0},null,{"$f":"'In prod (daily)'!$I$457","v":0},{"$f":"'In prod (daily)'!$J$457","v":0},{"$f":"'In prod (daily)'!$K$457","v":0},null,{"$f":"'In prod (daily)'!$L$457","v":0},null,{"$f":"'In prod (daily)'!$M$457","v":0},null,497]
[{"$f":"IF(General!$J$29>0,A59+7, )","v":"00:00:00"},72,{"$f":"'In prod (daily)'!$C$465","v":0},null,{"$f":"'In prod (daily)'!$D$465","v":0},null,{"$f":"'In prod (daily)'!$E$465","v":0},null,{"$f":"'In prod (daily)'!$F$465","v":0},null,{"$f":"'In prod (daily)'!$G$465","v":0},{"$f":"'In prod (daily)'!$H$465","v":0},null,{"$f":"'In prod (daily)'!$I$465","v":0},{"$f":"'In prod (daily)'!$J$465","v":0},{"$f":"'In prod (daily)'!$K$465","v":0},null,{"$f":"'In prod (daily)'!$L$465","v":0},null,{"$f":"'In prod (daily)'!$M$465","v":0},null,504]
[{"$f":"IF(General!$J$29>0,A60+7, )","v":"00:00:00"},73,{"$f":"'In prod (daily)'!$C$473","v":0},null,{"$f":"'In prod (daily)'!$D$473","v":0},null,{"$f":"'In prod (daily)'!$E$473","v":0},null,{"$f":"'In prod (daily)'!$F$473","v":0},null,{"$f":"'In prod (daily)'!$G$473","v":0},{"$f":"'In prod (daily)'!$H$473","v":0},null,{"$f":"'In prod (daily)'!$I$473","v":0},{"$f":"'In prod (daily)'!$J$473","v":0},{"$f":"'In prod (daily)'!$K$473","v":0},null,{"$f":"'In prod (daily)'!$L$473","v":0},null,{"$f":"'In prod (daily)'!$M$473","v":0},null,511]
[{"$f":"IF(General!$J$29>0,A61+7, )","v":"00:00:00"},74,{"$f":"'In prod (daily)'!$C$481","v":0},null,{"$f":"'In prod (daily)'!$D$481","v":0},null,{"$f":"'In prod (daily)'!$E$481","v":0},null,{"$f":"'In prod (daily)'!$F$481","v":0},null,{"$f":"'In prod (daily)'!$G$481","v":0},{"$f":"'In prod (daily)'!$H$481","v":0},null,{"$f":"'In prod (daily)'!$I$481","v":0},{"$f":"'In prod (daily)'!$J$481","v":0},{"$f":"'In prod (daily)'!$K$481","v":0},null,{"$f":"'In prod (daily)'!$L$481","v":0},null,{"$f":"'In prod (daily)'!$M$481","v":0},null,518]
[{"$f":"IF(General!$J$29>0,A62+7, )","v":"00:00:00"},75,{"$f":"'In prod (daily)'!$C$489","v":0},null,{"$f":"'In prod (daily)'!$D$489","v":0},null,{"$f":"'In prod (daily)'!$E$489","v":0},null,{"$f":"'In prod (daily)'!$F$489","v":0},null,{"$f":"'In prod (daily)'!$G$489","v":0},{"$f":"'In prod (daily)'!$H$489","v":0},null,{"$f":"'In prod (daily)'!$I$489","v":0},{"$f":"'In prod (daily)'!$J$489","v":0},{"$f":"'In prod (daily)'!$K$489","v":0},null,{"$f":"'In prod (daily)'!$L$489","v":0},null,{"$f":"'In prod (daily)'!$M$489","v":0},null,525]
[{"$f":"IF(General!$J$29>0,A63+7, )","v":"00:00:00"},76,{"$f":"'In prod (daily)'!$C$497","v":0},null,{"$f":"'In prod (daily)'!$D$497","v":0},null,{"$f":"'In prod (daily)'!$E$497","v":0},null,{"$f":"'In prod (daily)'!$F$497","v":0},null,{"$f":"'In prod (daily)'!$G$497","v":0},{"$f":"'In prod (daily)'!$H$497","v":0},null,{"$f":"'In prod (daily)'!$I$497","v":0},{"$f":"'In prod (daily)'!$J$497","v":0},{"$f":"'In prod (daily)'!$K$497","v":0},null,{"$f":"'In prod (daily)'!$L$497","v":0},null,{"$f":"'In prod (daily)'!$M$497","v":0},null,532]
[{"$f":"IF(General!$J$29>0,A64+7, )","v":"00:00:00"},77,{"$f":"'In prod (daily)'!$C$505","v":0},null,{"$f":"'In prod (daily)'!$D$505","v":0},null,{"$f":"'In prod (daily)'!$E$505","v":0},null,{"$f":"'In prod (daily)'!$F$505","v":0},null,{"$f":"'In prod (daily)'!$G$505","v":0},{"$f":"'In prod (daily)'!$H$505","v":0},null,{"$f":"'In prod (daily)'!$I$505","v":0},{"$f":"'In prod (daily)'!$J$505","v":0},{"$f":"'In prod (daily)'!$K$505","v":0},null,{"$f":"'In prod (daily)'!$L$505","v":0},null,{"$f":"'In prod (daily)'!$M$505","v":0},null,539]
[{"$f":"IF(General!$J$29>0,A65+7, )","v":"00:00:00"},78,{"$f":"'In prod (daily)'!$C$513","v":0},null,{"$f":"'In prod (daily)'!$D$513","v":0},null,{"$f":"'In prod (daily)'!$E$513","v":0},null,{"$f":"'In prod (daily)'!$F$513","v":0},null,{"$f":"'In prod (daily)'!$G$513","v":0},{"$f":"'In prod (daily)'!$H$513","v":0},null,{"$f":"'In prod (daily)'!$I$513","v":0},{"$f":"'In prod (daily)'!$J$513","v":0},{"$f":"'In prod (daily)'!$K$513","v":0},null,{"$f":"'In prod (daily)'!$L$513","v":0},null,{"$f":"'In prod (daily)'!$M$513","v":0},null,546]
[{"$f":"IF(General!$J$29>0,A66+7, )","v":"00:00:00"},79,{"$f":"'In prod (daily)'!$C$521","v":0},null,{"$f":"'In prod (daily)'!$D$521","v":0},null,{"$f":"'In prod (daily)'!$E$521","v":0},null,{"$f":"'In prod (daily)'!$F$521","v":0},null,{"$f":"'In prod (daily)'!$G$521","v":0},{"$f":"'In prod (daily)'!$H$521","v":0},null,{"$f":"'In prod (daily)'!$I$521","v":0},{"$f":"'In prod (daily)'!$J$521","v":0},{"$f":"'In prod (daily)'!$K$521","v":0},null,{"$f":"'In prod (daily)'!$L$521","v":0},null,{"$f":"'In prod (daily)'!$M$521","v":0},null,553]
[{"$f":"IF(General!$J$29>0,A67+7, )","v":"00:00:00"},80,{"$f":"'In prod (daily)'!$C$529","v":0},null,{"$f":"'In prod (daily)'!$D$529","v":0},null,{"$f":"'In prod (daily)'!$E$529","v":0},null,{"$f":"'In prod (daily)'!$F$529","v":0},null,{"$f":"'In prod (daily)'!$G$529","v":0},{"$f":"'In prod (daily)'!$H$529","v":0},null,{"$f":"'In prod (daily)'!$I$529","v":0},{"$f":"'In prod (daily)'!$J$529","v":0},{"$f":"'In prod (daily)'!$K$529","v":0},null,{"$f":"'In prod (daily)'!$L$529","v":0},null,{"$f":"'In prod (daily)'!$M$529","v":0},null,560]

{"sheet":" Out rearing","index":5,"n_rows":28,"n_cols":23,"rows_kept":28,"merged":[[2,11,2,12],[3,11,3,12]]}
[null,null,{"$f":"Translation!B6","v":"Rearing Period"},{"$nulls":3},{"$f":"Translation!B4","v":"LOHMANN BROWN Parent Stock"}]
[]
[{"$f":"Translation!B8","v":"Country:"},null,{"$f":"General!B3","v":0},{"$nulls":3},{"$f":"Translation!B12","v":"Hatch Date:"},{"$nulls":4},{"$f":"General!J3","v":"00:00:00"}]
[{"$f":"Translation!B9","v":"Owner:"},null,{"$f":"General!B4","v":0},{"$nulls":3},{"$f":"Translation!B13","v":"Date of Housing:"},{"$nulls":4},{"$f":"General!J4","v":"00:00:00"}]
[{"$f":"Translation!B10","v":"Farm:"},null,{"$f":"General!B5","v":0},{"$nulls":3},{"$f":"Translation!B14","v":"No. of Females Housed:"},{"$nulls":4},{"$f":"General!J5","v":0}]
[{"$f":"Translation!B11","v":"Flock:"},null,{"$f":"General!B6","v":0},{"$nulls":3},{"$f":"Translation!B15","v":"No. of Males Housed:"},{"$nulls":4},{"$f":"General!J6","v":0}]
[]
[{"$f":"Translation!B22","v":"Date"},{"$f":"Translation!B24","v":"Week of Age"},{"$f":"Translation!B42","v":"Act. No. of fem. chicks"},{"$f":"Translation!B43","v":"Act. No. of male chicks"},{"$f":"Translation!B44","v":"Fem. Mort. (%)"},{"$f":"Translation!B45","v":"Male Mort. (%)"},{"$f":"Translation!B46","v":"Std. Female Body Wt (g)"},null,null,{"$f":"Translation!B47","v":"Act. Fem. Body Wt (g) "},{"$f":"Translation!B48","v":"Act. Male Body Wt (g) "},{"$f":"Translation!B49","v":"Std. Feed cons. (g)"},{"$f":"Translation!B50","v":"Act. Feed cons. (g/bd/d)"},{"$f":"Translation!B51","v":"Std. Water cons. (ml)"},{"$f":"Translation!B52","v":"Act. Water cons. (ml/bd/d)"},{"$f":"Translation!B53","v":"Water / Feed"},{"$f":"Translation!B39","v":"Uniformity (%)"},{"$f":"'In rearing (weekly)'!N2","v":"a trait you like"},"bwu","bwo","Diff","std bw min","std bw max"]
[{"$f":"'In rearing (daily)'!$A$9","v":"00:00:00"},1,{"$f":"IF(SUM('In rearing (weekly)'!$C$3:$C$22)>0,$L$5-SUM('In rearing (weekly)'!C$3:C3),IF(SUM('In rearing (weekly)'!$D$3:$D$22)>0,$L$5-(SUM('In rearing (weekly)'!$D$3:D3)/100*$L$5),$L$5 ))","v":0},{"$f":"IF(SUM('In rearing (weekly)'!$E$3:$E$22)>0,$L$6-SUM('In rearing (weekly)'!E$3:E3),IF(SUM('In rearing (weekly)'!$F$3:$F$22)>0,$L$6-(SUM('In rearing (weekly)'!$F$3:F3)/100*$L$6),$L$6 ))","v":0},{"$f":"IF($L$5>0,100-C9/$L$5*100, )","v":0},{"$f":"IF($L$6>0,100-D9/$L$6*100, )","v":0},{"v":61.75,"d":"62"},"-",{"v":68.25,"d":"68"},{"$f":"IF(ISNUMBER('In rearing (weekly)'!G3),'In rearing (weekly)'!G3,\"\")","v":0},{"$f":"IF(ISNUMBER('In rearing (weekly)'!H3),'In rearing (weekly)'!H3,\"\")","v":0},10,{"$f":"IF('In rearing (weekly)'!J3>0,'In rearing (weekly)'!J3,IF('In rearing (weekly)'!I3>0,'In rearing (weekly)'!I3*1000/7/(C9+D9), ))","v":0},18,{"$f":"IF('In rearing (weekly)'!L3>0,'In rearing (weekly)'!L3,IF('In rearing (weekly)'!K3>0,'In rearing (weekly)'!K3*1000/7/(C9+D9), ))","v":0},{"$f":"IF(M9>0,IF(O9>0,O9/M9, ), )","v":0},{"$f":"IF(ISNUMBER('In rearing (weekly)'!M3),'In rearing (weekly)'!M3,\"\")","v":0},{"$f":"IF(ISNUMBER('In rearing (weekly)'!N3),'In rearing (weekly)'!N3,\"\")","v":0},{"$f":"IF(G9>0,G9,V9)","v":{"v":61.75,"d":"61.8"}},{"$f":"IF(I9>0,I9,W9)","v":{"v":68.25,"d":"68.3"}},null,{"v":61.75,"d":"61.8"},{"v":68.25,"d":"68.3"}]
[{"$f":"'In rearing (daily)'!$A$17","v":"00:00:00"},2,{"$f":"IF(SUM('In rearing (weekly)'!$C$3:$C$22)>0,$L$5-SUM('In rearing (weekly)'!C$3:C4),IF(SUM('In rearing (weekly)'!$D$3:$D$22)>0,$L$5-(SUM('In rearing (weekly)'!$D$3:D4)/100*$L$5),$L$5 ))","v":0},{"$f":"IF(SUM('In rearing (weekly)'!$E$3:$E$22)>0,$L$6-SUM('In rearing (weekly)'!E$3:E4),IF(SUM('In rearing (weekly)'!$F$3:$F$22)>0,$L$6-(SUM('In rearing (weekly)'!$F$3:F4)/100*$L$6),$L$6 ))","v":0},{"$f":"IF($L$5>0,100-C10/$L$5*100, )","v":0},{"$f":"IF($L$6>0,100-D10/$L$6*100, )","v":0},{"v":123.5,"d":"124"},"-",{"v":136.5,"d":"137"},{"$f":"IF(ISNUMBER('In rearing (weekly)'!G4),'In rearing (weekly)'!G4,\"\")","v":0},{"$f":"IF(ISNUMBER('In rearing (weekly)'!H4),'In rearing (weekly)'!H4,\"\")","v":0},19,{"$f":"IF('In rearing (weekly)'!J4>0,'In rearing (weekly)'!J4,IF('In rearing (weekly)'!I4>0,'In rearing (weekly)'!I4*1000/7/(C10+D10), ))","v":0},33,{"$f":"IF('In rearing (weekly)'!L4>0,'In rearing (weekly)'!L4,IF('In rearing (weekly)'!K4>0,'In rearing (weekly)'!K4*1000/7/(C10+D10), ))","v":0},0,{"$f":"IF(ISNUMBER('In rearing (weekly)'!M4),'In rearing (weekly)'!M4,\"\")","v":0},{"$f":"IF(ISNUMBER('In rearing (weekly)'!N4),'In rearing (weekly)'!N4,\"\")","v":0},{"$f":"IF(G10>0,G10,V10)","v":123.5},{"$f":"IF(I10>0,I10,W10)","v":136.5},null,123.5,136.5]
[{"$f":"'In rearing (daily)'!$A$25","v":"00:00:00"},3,{"$f":"IF(SUM('In rearing (weekly)'!$C$3:$C$22)>0,$L$5-SUM('In rearing (weekly)'!C$3:C5),IF(SUM('In rearing (weekly)'!$D$3:$D$22)>0,$L$5-(SUM('In rearing (weekly)'!$D$3:D5)/100*$L$5),$L$5 ))","v":0},{"$f":"IF(SUM('In rearing (weekly)'!$E$3:$E$22)>0,$L$6-SUM('In rearing (weekly)'!E$3:E5),IF(SUM('In rearing (weekly)'!$F$3:$F$22)>0,$L$6-(SUM('In rearing (weekly)'!$F$3:F5)/100*$L$6),$L$6 ))","v":0},0,0,171,"-",189,{"$f":"IF(ISNUMBER('In rearing (weekly)'!G5),'In rearing (weekly)'!G5,\"\")","v":0},{"$f":"IF(ISNUMBER('In rearing (weekly)'!H5),'In rearing (weekly)'!H5,\"\")","v":0},25,{"$f":"IF('In rearing (weekly)'!J5>0,'In rearing (weekly)'!J5,IF('In rearing (weekly)'!I5>0,'In rearing (weekly)'!I5*1000/7/(C11+D11), ))","v":0},44,{"$f":"IF('In rearing (weekly)'!L5>0,'In rearing (weekly)'!L5,IF('In rearing (weekly)'!K5>0,'In rearing (weekly)'!K5*1000/7/(C11+D11), ))","v":0},0,{"$f":"IF(ISNUMBER('In rearing (weekly)'!M5),'In rearing (weekly)'!M5,\"\")","v":0},{"$f":"IF(ISNUMBER('In rearing (weekly)'!N5),'In rearing (weekly)'!N5,\"\")","v":0},{"v":171,"d":"171.0"},{"v":189,"d":"189.0"},{"$f":"T11-S11","v":{"v":18,"d":"18.0"}},{"v":171,"d":"171.0"},{"v":189,"d":"189.0"}]
[{"$f":"'In rearing (daily)'!$A$33","v":"00:00:00"},4,{"$f":"IF(SUM('In rearing (weekly)'!$C$3:$C$22)>0,$L$5-SUM('In rearing (weekly)'!C$3:C6),IF(SUM('In rearing (weekly)'!$D$3:$D$22)>0,$L$5-(SUM('In rearing (weekly)'!$D$3:D6)/100*$L$5),$L$5 ))","v":0},{"$f":"IF(SUM('In rearing (weekly)'!$E$3:$E$22)>0,$L$6-SUM('In rearing (weekly)'!E$3:E6),IF(SUM('In rearing (weekly)'!$F$3:$F$22)>0,$L$6-(SUM('In rearing (weekly)'!$F$3:F6)/100*$L$6),$L$6 ))","v":0},0,0,{"v":237.5,"d":"238"},"-",{"v":262.5,"d":"263"},{"$f":"IF(ISNUMBER('In rearing (weekly)'!G6),'In rearing (weekly)'!G6,\"\")","v":0},{"$f":"IF(ISNUMBER('In rearing (weekly)'!H6),'In rearing (weekly)'!H6,\"\")","v":0},30,{"$f":"IF('In rearing (weekly)'!J6>0,'In rearing (weekly)'!J6,IF('In rearing (weekly)'!I6>0,'In rearing (weekly)'!I6*1000/7/(C12+D12), ))","v":0},53,{"$f":"IF('In rearing (weekly)'!L6>0,'In rearing (weekly)'!L6,IF('In rearing (weekly)'!K6>0,'In rearing (weekly)'!K6*1000/7/(C12+D12), ))","v":0},0,{"$f":"IF(ISNUMBER('In rearing (weekly)'!M6),'In rearing (weekly)'!M6,\"\")","v":0},{"$f":"IF(ISNUMBER('In rearing (weekly)'!N6),'In rearing (weekly)'!N6,\"\")","v":0},237.5,262.5,{"v":25,"d":"25.0"},237.5,262.5]
[{"$f":"'In rearing (daily)'!$A$41","v":"00:00:00"},5,{"$f":"IF(SUM('In rearing (weekly)'!$C$3:$C$22)>0,$L$5-SUM('In rearing (weekly)'!C$3:C7),IF(SUM('In rearing (weekly)'!$D$3:$D$22)>0,$L$5-(SUM('In rearing (weekly)'!$D$3:D7)/100*$L$5),$L$5 ))","v":0},{"$f":"IF(SUM('In rearing (weekly)'!$E$3:$E$22)>0,$L$6-SUM('In rearing (weekly)'!E$3:E7),IF(SUM('In rearing (weekly)'!$F$3:$F$22)>0,$L$6-(SUM('In rearing (weekly)'!$F$3:F7)/100*$L$6),$L$6 ))","v":0},0,0,304,"-",336,{"$f":"IF(ISNUMBER('In rearing (weekly)'!G7),'In rearing (weekly)'!G7,\"\")","v":0},{"$f":"IF(ISNUMBER('In rearing (weekly)'!H7),'In rearing (weekly)'!H7,\"\")","v":0},35,{"$f":"IF('In rearing (weekly)'!J7>0,'In rearing (weekly)'!J7,IF('In rearing (weekly)'!I7>0,'In rearing (weekly)'!I7*1000/7/(C13+D13), ))","v":0},61,{"$f":"IF('In rearing (weekly)'!L7>0,'In rearing (weekly)'!L7,IF('In rearing (weekly)'!K7>0,'In rearing (weekly)'!K7*1000/7/(C13+D13), ))","v":0},0,{"$f":"IF(ISNUMBER('In rearing (weekly)'!M7),'In rearing (weekly)'!M7,\"\")","v":0},{"$f":"IF(ISNUMBER('In rearing (weekly)'!N7),'In rearing (weekly)'!N7,\"\")","v":0},{"v":304,"d":"304.0"},{"v":336,"d":"336.0"},{"v":32,"d":"32.0"},{"v":304,"d":"304.0"},{"v":336,"d":"336.0"}]
[{"$f":"'In rearing (daily)'!$A$49","v":"00:00:00"},6,{"$f":"IF(SUM('In rearing (weekly)'!$C$3:$C$22)>0,$L$5-SUM('In rearing (weekly)'!C$3:C8),IF(SUM('In rearing (weekly)'!$D$3:$D$22)>0,$L$5-(SUM('In rearing (weekly)'!$D$3:D8)/100*$L$5),$L$5 ))","v":0},{"$f":"IF(SUM('In rearing (weekly)'!$E$3:$E$22)>0,$L$6-SUM('In rearing (weekly)'!E$3:E8),IF(SUM('In rearing (weekly)'!$F$3:$F$22)>0,$L$6-(SUM('In rearing (weekly)'!$F$3:F8)/100*$L$6),$L$6 ))","v":0},0,0,{"v":389.5,"d":"390"},"-",{"v":430.5,"d":"431"},{"$f":"IF(ISNUMBER('In rearing (weekly)'!G8),'In rearing (weekly)'!G8,\"\")","v":0},{"$f":"IF(ISNUMBER('In rearing (weekly)'!H8),'In rearing (weekly)'!H8,\"\")","v":0},40,{"$f":"IF('In rearing (weekly)'!J8>0,'In rearing (weekly)'!J8,IF('In rearing (weekly)'!I8>0,'In rearing (weekly)'!I8*1000/7/(C14+D14), ))","v":0},70,{"$f":"IF('In rearing (weekly)'!L8>0,'In rearing (weekly)'!L8,IF('In rearing (weekly)'!K8>0,'In rearing (weekly)'!K8*1000/7/(C14+D14), ))","v":0},0,{"$f":"IF(ISNUMBER('In rearing (weekly)'!M8),'In rearing (weekly)'!M8,\"\")","v":0},{"$f":"IF(ISNUMBER('In rearing (weekly)'!N8),'In rearing (weekly)'!N8,\"\")","v":0},389.5,430.5,{"v":41,"d":"41.0"},389.5,430.5]
[{"$f":"'In rearing (daily)'!$A$57","v":"00:00:00"},7,{"$f":"IF(SUM('In rearing (weekly)'!$C$3:$C$22)>0,$L$5-SUM('In rearing (weekly)'!C$3:C9),IF(SUM('In rearing (weekly)'!$D$3:$D$22)>0,$L$5-(SUM('In rearing (weekly)'!$D$3:D9)/100*$L$5),$L$5 ))","v":0},{"$f":"IF(SUM('In rearing (weekly)'!$E$3:$E$22)>0,$L$6-SUM('In rearing (weekly)'!E$3:E9),IF(SUM('In rearing (weekly)'!$F$3:$F$22)>0,$L$6-(SUM('In rearing (weekly)'!$F$3:F9)/100*$L$6),$L$6 ))","v":0},0,0,475,"-",525,{"$f":"IF(ISNUMBER('In rearing (weekly)'!G9),'In rearing (weekly)'!G9,\"\")","v":0},{"$f":"IF(ISNUMBER('In rearing (weekly)'!H9),'In rearing (weekly)'!H9,\"\")","v":0},45,{"$f":"IF('In rearing (weekly)'!J9>0,'In rearing (weekly)'!J9,IF('In rearing (weekly)'!I9>0,'In rearing (weekly)'!I9*1000/7/(C15+D15), ))","v":0},79,{"$f":"IF('In rearing (weekly)'!L9>0,'In rearing (weekly)'!L9,IF('In rearing (weekly)'!K9>0,'In rearing (weekly)'!K9*1000/7/(C15+D15), ))","v":0},0,{"$f":"IF(ISNUMBER('In rearing (weekly)'!M9),'In rearing (weekly)'!M9,\"\")","v":0},{"$f":"IF(ISNUMBER('In rearing (weekly)'!N9),'In rearing (weekly)'!N9,\"\")","v":0},{"v":475,"d":"475.0"},{"v":525,"d":"525.0"},{"v":50,"d":"50.0"},{"v":475,"d":"475.0"},{"v":525,"d":"525.0"}]
[{"$f":"'In rearing (daily)'!$A$65","v":"00:00:00"},8,{"$f":"IF(SUM('In rearing (weekly)'!$C$3:$C$22)>0,$L$5-SUM('In rearing (weekly)'!C$3:C10),IF(SUM('In rearing (weekly)'!$D$3:$D$22)>0,$L$5-(SUM('In rearing (weekly)'!$D$3:D10)/100*$L$5),$L$5 ))","v":0},{"$f":"IF(SUM('In rearing (weekly)'!$E$3:$E$22)>0,$L$6-SUM('In rearing (weekly)'!E$3:E10),IF(SUM('In rearing (weekly)'!$F$3:$F$22)>0,$L$6-(SUM('In rearing (weekly)'!$F$3:F10)/100*$L$6),$L$6 ))","v":0},0,0,{"v":560.5,"d":"561"},"-",{"v":619.5,"d":"620"},{"$f":"IF(ISNUMBER('In rearing (weekly)'!G10),'In rearing (weekly)'!G10,\"\")","v":0},{"$f":"IF(ISNUMBER('In rearing (weekly)'!H10),'In rearing (weekly)'!H10,\"\")","v":0},50,{"$f":"IF('In rearing (weekly)'!J10>0,'In rearing (weekly)'!J10,IF('In rearing (weekly)'!I10>0,'In rearing (weekly)'!I10*1000/7/(C16+D16), ))","v":0},88,{"$f":"IF('In rearing (weekly)'!L10>0,'In rearing (weekly)'!L10,IF('In rearing (weekly)'!K10>0,'In rearing (weekly)'!K10*1000/7/(C16+D16), ))","v":0},0,{"$f":"IF(ISNUMBER('In rearing (weekly)'!M10),'In rearing (weekly)'!M10,\"\")","v":0},{"$f":"IF(ISNUMBER('In rearing (weekly)'!N10),'In rearing (weekly)'!N10,\"\")","v":0},560.5,619.5,{"v":59,"d":"59.0"},560.5,619.5]
[{"$f":"'In rearing (daily)'!$A$73","v":"00:00:00"},9,{"$f":"IF(SUM('In rearing (weekly)'!$C$3:$C$22)>0,$L$5-SUM('In rearing (weekly)'!C$3:C11),IF(SUM('In rearing (weekly)'!$D$3:$D$22)>0,$L$5-(SUM('In rearing (weekly)'!$D$3:D11)/100*$L$5),$L$5 ))","v":0},{"$f":"IF(SUM('In rearing (weekly)'!$E$3:$E$22)>0,$L$6-SUM('In rearing (weekly)'!E$3:E11),IF(SUM('In rearing (weekly)'!$F$3:$F$22)>0,$L$6-(SUM('In rearing (weekly)'!$F$3:F11)/100*$L$6),$L$6 ))","v":0},0,0,646,"-",714,{"$f":"IF(ISNUMBER('In rearing (weekly)'!G11),'In rearing (weekly)'!G11,\"\")","v":0},{"$f":"IF(ISNUMBER('In rearing (weekly)'!H11),'In rearing (weekly)'!H11,\"\")","v":0},54,{"$f":"IF('In rearing (weekly)'!J11>0,'In rearing (weekly)'!J11,IF('In rearing (weekly)'!I11>0,'In rearing (weekly)'!I11*1000/7/(C17+D17), ))","v":0},95,{"$f":"IF('In rearing (weekly)'!L11>0,'In rearing (weekly)'!L11,IF('In rearing (weekly)'!K11>0,'In rearing (weekly)'!K11*1000/7/(C17+D17), ))","v":0},0,{"$f":"IF(ISNUMBER('In rearing (weekly)'!M11),'In rearing (weekly)'!M11,\"\")","v":0},{"$f":"IF(ISNUMBER('In rearing (weekly)'!N11),'In rearing (weekly)'!N11,\"\")","v":0},{"v":646,"d":"646.0"},{"v":714,"d":"714.0"},{"v":68,"d":"68.0"},{"v":646,"d":"646.0"},{"v":714,"d":"714.0"}]
[{"$f":"'In rearing (daily)'!$A$81","v":"00:00:00"},10,{"$f":"IF(SUM('In rearing (weekly)'!$C$3:$C$22)>0,$L$5-SUM('In rearing (weekly)'!C$3:C12),IF(SUM('In rearing (weekly)'!$D$3:$D$22)>0,$L$5-(SUM('In rearing (weekly)'!$D$3:D12)/100*$L$5),$L$5 ))","v":0},{"$f":"IF(SUM('In rearing (weekly)'!$E$3:$E$22)>0,$L$6-SUM('In rearing (weekly)'!E$3:E12),IF(SUM('In rearing (weekly)'!$F$3:$F$22)>0,$L$6-(SUM('In rearing (weekly)'!$F$3:F12)/100*$L$6),$L$6 ))","v":0},0,0,{"v":731.5,"d":"732"},"-",{"v":808.5,"d":"809"},{"$f":"IF(ISNUMBER('In rearing (weekly)'!G12),'In rearing (weekly)'!G12,\"\")","v":0},{"$f":"IF(ISNUMBER('In rearing (weekly)'!H12),'In rearing (weekly)'!H12,\"\")","v":0},57,{"$f":"IF('In rearing (weekly)'!J12>0,'In rearing (weekly)'!J12,IF('In rearing (weekly)'!I12>0,'In rearing (weekly)'!I12*1000/7/(C18+D18), ))","v":0},100,{"$f":"IF('In rearing (weekly)'!L12>0,'In rearing (weekly)'!L12,IF('In rearing (weekly)'!K12>0,'In rearing (weekly)'!K12*1000/7/(C18+D18), ))","v":0},0,{"$f":"IF(ISNUMBER('In rearing (weekly)'!M12),'In rearing (weekly)'!M12,\"\")","v":0},{"$f":"IF(ISNUMBER('In rearing (weekly)'!N12),'In rearing (weekly)'!N12,\"\")","v":0},731.5,808.5,{"v":77,"d":"77.0"},731.5,808.5]
[{"$f":"'In rearing (daily)'!$A$89","v":"00:00:00"},11,{"$f":"IF(SUM('In rearing (weekly)'!$C$3:$C$22)>0,$L$5-SUM('In rearing (weekly)'!C$3:C13),IF(SUM('In rearing (weekly)'!$D$3:$D$22)>0,$L$5-(SUM('In rearing (weekly)'!$D$3:D13)/100*$L$5),$L$5 ))","v":0},{"$f":"IF(SUM('In rearing (weekly)'!$E$3:$E$22)>0,$L$6-SUM('In rearing (weekly)'!E$3:E13),IF(SUM('In rearing (weekly)'!$F$3:$F$22)>0,$L$6-(SUM('In rearing (weekly)'!$F$3:F13)/100*$L$6),$L$6 ))","v":0},0,0,817,"-",903,{"$f":"IF(ISNUMBER('In rearing (weekly)'!G13),'In rearing (weekly)'!G13,\"\")","v":0},{"$f":"IF(ISNUMBER('In rearing (weekly)'!H13),'In rearing (weekly)'!H13,\"\")","v":0},60,{"$f":"IF('In rearing (weekly)'!J13>0,'In rearing (weekly)'!J13,IF('In rearing (weekly)'!I13>0,'In rearing (weekly)'!I13*1000/7/(C19+D19), ))","v":0},105,{"$f":"IF('In rearing (weekly)'!L13>0,'In rearing (weekly)'!L13,IF('In rearing (weekly)'!K13>0,'In rearing (weekly)'!K13*1000/7/(C19+D19), ))","v":0},0,{"$f":"IF(ISNUMBER('In rearing (weekly)'!M13),'In rearing (weekly)'!M13,\"\")","v":0},{"$f":"IF(ISNUMBER('In rearing (weekly)'!N13),'In rearing (weekly)'!N13,\"\")","v":0},{"v":817,"d":"817.0"},{"v":903,"d":"903.0"},{"v":86,"d":"86.0"},{"v":817,"d":"817.0"},{"v":903,"d":"903.0"}]
[{"$f":"'In rearing (daily)'!$A$97","v":"00:00:00"},12,{"$f":"IF(SUM('In rearing (weekly)'!$C$3:$C$22)>0,$L$5-SUM('In rearing (weekly)'!C$3:C14),IF(SUM('In rearing (weekly)'!$D$3:$D$22)>0,$L$5-(SUM('In rearing (weekly)'!$D$3:D14)/100*$L$5),$L$5 ))","v":0},{"$f":"IF(SUM('In rearing (weekly)'!$E$3:$E$22)>0,$L$6-SUM('In rearing (weekly)'!E$3:E14),IF(SUM('In rearing (weekly)'!$F$3:$F$22)>0,$L$6-(SUM('In rearing (weekly)'!$F$3:F14)/100*$L$6),$L$6 ))","v":0},0,0,{"v":902.5,"d":"903"},"-",{"v":997.5,"d":"998"},{"$f":"IF(ISNUMBER('In rearing (weekly)'!G14),'In rearing (weekly)'!G14,\"\")","v":0},{"$f":"IF(ISNUMBER('In rearing (weekly)'!H14),'In rearing (weekly)'!H14,\"\")","v":0},63,{"$f":"IF('In rearing (weekly)'!J14>0,'In rearing (weekly)'!J14,IF('In rearing (weekly)'!I14>0,'In rearing (weekly)'!I14*1000/7/(C20+D20), ))","v":0},110,{"$f":"IF('In rearing (weekly)'!L14>0,'In rearing (weekly)'!L14,IF('In rearing (weekly)'!K14>0,'In rearing (weekly)'!K14*1000/7/(C20+D20), ))","v":0},0,{"$f":"IF(ISNUMBER('In rearing (weekly)'!M14),'In rearing (weekly)'!M14,\"\")","v":0},{"$f":"IF(ISNUMBER('In rearing (weekly)'!N14),'In rearing (weekly)'!N14,\"\")","v":0},902.5,997.5,{"v":95,"d":"95.0"},902.5,997.5]
[{"$f":"'In rearing (daily)'!$A$105","v":"00:00:00"},13,{"$f":"IF(SUM('In rearing (weekly)'!$C$3:$C$22)>0,$L$5-SUM('In rearing (weekly)'!C$3:C15),IF(SUM('In rearing (weekly)'!$D$3:$D$22)>0,$L$5-(SUM('In rearing (weekly)'!$D$3:D15)/100*$L$5),$L$5 ))","v":0},{"$f":"IF(SUM('In rearing (weekly)'!$E$3:$E$22)>0,$L$6-SUM('In rearing (weekly)'!E$3:E15),IF(SUM('In rearing (weekly)'!$F$3:$F$22)>0,$L$6-(SUM('In rearing (weekly)'!$F$3:F15)/100*$L$6),$L$6 ))","v":0},0,0,{"v":978.5,"d":"979"},"-",{"v":1081.5,"d":"1082"},{"$f":"IF(ISNUMBER('In rearing (weekly)'!G15),'In rearing (weekly)'!G15,\"\")","v":0},{"$f":"IF(ISNUMBER('In rearing (weekly)'!H15),'In rearing (weekly)'!H15,\"\")","v":0},66,{"$f":"IF('In rearing (weekly)'!J15>0,'In rearing (weekly)'!J15,IF('In rearing (weekly)'!I15>0,'In rearing (weekly)'!I15*1000/7/(C21+D21), ))","v":0},116,{"$f":"IF('In rearing (weekly)'!L15>0,'In rearing (weekly)'!L15,IF('In rearing (weekly)'!K15>0,'In rearing (weekly)'!K15*1000/7/(C21+D21), ))","v":0},0,{"$f":"IF(ISNUMBER('In rearing (weekly)'!M15),'In rearing (weekly)'!M15,\"\")","v":0},{"$f":"IF(ISNUMBER('In rearing (weekly)'!N15),'In rearing (weekly)'!N15,\"\")","v":0},978.5,1081.5,{"v":103,"d":"103.0"},978.5,1081.5]
[{"$f":"'In rearing (daily)'!$A$113","v":"00:00:00"},14,{"$f":"IF(SUM('In rearing (weekly)'!$C$3:$C$22)>0,$L$5-SUM('In rearing (weekly)'!C$3:C16),IF(SUM('In rearing (weekly)'!$D$3:$D$22)>0,$L$5-(SUM('In rearing (weekly)'!$D$3:D16)/100*$L$5),$L$5 ))","v":0},{"$f":"IF(SUM('In rearing (weekly)'!$E$3:$E$22)>0,$L$6-SUM('In rearing (weekly)'!E$3:E16),IF(SUM('In rearing (weekly)'!$F$3:$F$22)>0,$L$6-(SUM('In rearing (weekly)'!$F$3:F16)/100*$L$6),$L$6 ))","v":0},0,0,{"v":1054.5,"d":"1055"},"-",{"v":1165.5,"d":"1166"},{"$f":"IF(ISNUMBER('In rearing (weekly)'!G16),'In rearing (weekly)'!G16,\"\")","v":0},{"$f":"IF(ISNUMBER('In rearing (weekly)'!H16),'In rearing (weekly)'!H16,\"\")","v":0},69,{"$f":"IF('In rearing (weekly)'!J16>0,'In rearing (weekly)'!J16,IF('In rearing (weekly)'!I16>0,'In rearing (weekly)'!I16*1000/7/(C22+D22), ))","v":0},121,{"$f":"IF('In rearing (weekly)'!L16>0,'In rearing (weekly)'!L16,IF('In rearing (weekly)'!K16>0,'In rearing (weekly)'!K16*1000/7/(C22+D22), ))","v":0},0,{"$f":"IF(ISNUMBER('In rearing (weekly)'!M16),'In rearing (weekly)'!M16,\"\")","v":0},{"$f":"IF(ISNUMBER('In rearing (weekly)'!N16),'In rearing (weekly)'!N16,\"\")","v":0},1054.5,1165.5,{"v":111,"d":"111.0"},1054.5,1165.5]
[{"$f":"'In rearing (daily)'!$A$121","v":"00:00:00"},15,{"$f":"IF(SUM('In rearing (weekly)'!$C$3:$C$22)>0,$L$5-SUM('In rearing (weekly)'!C$3:C17),IF(SUM('In rearing (weekly)'!$D$3:$D$22)>0,$L$5-(SUM('In rearing (weekly)'!$D$3:D17)/100*$L$5),$L$5 ))","v":0},{"$f":"IF(SUM('In rearing (weekly)'!$E$3:$E$22)>0,$L$6-SUM('In rearing (weekly)'!E$3:E17),IF(SUM('In rearing (weekly)'!$F$3:$F$22)>0,$L$6-(SUM('In rearing (weekly)'!$F$3:F17)/100*$L$6),$L$6 ))","v":0},0,0,{"v":1130.5,"d":"1131"},"-",{"v":1249.5,"d":"1250"},{"$f":"IF(ISNUMBER('In rearing (weekly)'!G17),'In rearing (weekly)'!G17,\"\")","v":0},{"$f":"IF(ISNUMBER('In rearing (weekly)'!H17),'In rearing (weekly)'!H17,\"\")","v":0},72,{"$f":"IF('In rearing (weekly)'!J17>0,'In rearing (weekly)'!J17,IF('In rearing (weekly)'!I17>0,'In rearing (weekly)'!I17*1000/7/(C23+D23), ))","v":0},126,{"$f":"IF('In rearing (weekly)'!L17>0,'In rearing (weekly)'!L17,IF('In rearing (weekly)'!K17>0,'In rearing (weekly)'!K17*1000/7/(C23+D23), ))","v":0},0,{"$f":"IF(ISNUMBER('In rearing (weekly)'!M17),'In rearing (weekly)'!M17,\"\")","v":0},{"$f":"IF(ISNUMBER('In rearing (weekly)'!N17),'In rearing (weekly)'!N17,\"\")","v":0},1130.5,1249.5,{"v":119,"d":"119.0"},1130.5,1249.5]
[{"$f":"'In rearing (daily)'!$A$129","v":"00:00:00"},16,{"$f":"IF(SUM('In rearing (weekly)'!$C$3:$C$22)>0,$L$5-SUM('In rearing (weekly)'!C$3:C18),IF(SUM('In rearing (weekly)'!$D$3:$D$22)>0,$L$5-(SUM('In rearing (weekly)'!$D$3:D18)/100*$L$5),$L$5 ))","v":0},{"$f":"IF(SUM('In rearing (weekly)'!$E$3:$E$22)>0,$L$6-SUM('In rearing (weekly)'!E$3:E18),IF(SUM('In rearing (weekly)'!$F$3:$F$22)>0,$L$6-(SUM('In rearing (weekly)'!$F$3:F18)/100*$L$6),$L$6 ))","v":0},0,0,{"v":1206.5,"d":"1207"},"-",{"v":1333.5,"d":"1334"},{"$f":"IF(ISNUMBER('In rearing (weekly)'!G18),'In rearing (weekly)'!G18,\"\")","v":0},{"$f":"IF(ISNUMBER('In rearing (weekly)'!H18),'In rearing (weekly)'!H18,\"\")","v":0},75,{"$f":"IF('In rearing (weekly)'!J18>0,'In rearing (weekly)'!J18,IF('In rearing (weekly)'!I18>0,'In rearing (weekly)'!I18*1000/7/(C24+D24), ))","v":0},131,{"$f":"IF('In rearing (weekly)'!L18>0,'In rearing (weekly)'!L18,IF('In rearing (weekly)'!K18>0,'In rearing (weekly)'!K18*1000/7/(C24+D24), ))","v":0},0,{"$f":"IF(ISNUMBER('In rearing (weekly)'!M18),'In rearing (weekly)'!M18,\"\")","v":0},{"$f":"IF(ISNUMBER('In rearing (weekly)'!N18),'In rearing (weekly)'!N18,\"\")","v":0},1206.5,1333.5,{"v":127,"d":"127.0"},1206.5,1333.5]
[{"$f":"'In rearing (daily)'!$A$137","v":"00:00:00"},17,{"$f":"IF(SUM('In rearing (weekly)'!$C$3:$C$22)>0,$L$5-SUM('In rearing (weekly)'!C$3:C19),IF(SUM('In rearing (weekly)'!$D$3:$D$22)>0,$L$5-(SUM('In rearing (weekly)'!$D$3:D19)/100*$L$5),$L$5 ))","v":0},{"$f":"IF(SUM('In rearing (weekly)'!$E$3:$E$22)>0,$L$6-SUM('In rearing (weekly)'!E$3:E19),IF(SUM('In rearing (weekly)'!$F$3:$F$22)>0,$L$6-(SUM('In rearing (weekly)'!$F$3:F19)/100*$L$6),$L$6 ))","v":0},0,0,{"v":1282.5,"d":"1283"},"-",{"v":1417.5,"d":"1418"},{"$f":"IF(ISNUMBER('In rearing (weekly)'!G19),'In rearing (weekly)'!G19,\"\")","v":0},{"$f":"IF(ISNUMBER('In rearing (weekly)'!H19),'In rearing (weekly)'!H19,\"\")","v":0},78,{"$f":"IF('In rearing (weekly)'!J19>0,'In rearing (weekly)'!J19,IF('In rearing (weekly)'!I19>0,'In rearing (weekly)'!I19*1000/7/(C25+D25), ))","v":0},137,{"$f":"IF('In rearing (weekly)'!L19>0,'In rearing (weekly)'!L19,IF('In rearing (weekly)'!K19>0,'In rearing (weekly)'!K19*1000/7/(C25+D25), ))","v":0},0,{"$f":"IF(ISNUMBER('In rearing (weekly)'!M19),'In rearing (weekly)'!M19,\"\")","v":0},{"$f":"IF(ISNUMBER('In rearing (weekly)'!N19),'In rearing (weekly)'!N19,\"\")","v":0},1282.5,1417.5,{"v":135,"d":"135.0"},1282.5,1417.5]
[{"$f":"'In rearing (daily)'!$A$145","v":"00:00:00"},18,{"$f":"IF(SUM('In rearing (weekly)'!$C$3:$C$22)>0,$L$5-SUM('In rearing (weekly)'!C$3:C20),IF(SUM('In rearing (weekly)'!$D$3:$D$22)>0,$L$5-(SUM('In rearing (weekly)'!$D$3:D20)/100*$L$5),$L$5 ))","v":0},{"$f":"IF(SUM('In rearing (weekly)'!$E$3:$E$22)>0,$L$6-SUM('In rearing (weekly)'!E$3:E20),IF(SUM('In rearing (weekly)'!$F$3:$F$22)>0,$L$6-(SUM('In rearing (weekly)'!$F$3:F20)/100*$L$6),$L$6 ))","v":0},0,0,1368,"-",1512,{"$f":"IF(ISNUMBER('In rearing (weekly)'!G20),'In rearing (weekly)'!G20,\"\")","v":0},{"$f":"IF(ISNUMBER('In rearing (weekly)'!H20),'In rearing (weekly)'!H20,\"\")","v":0},81,{"$f":"IF('In rearing (weekly)'!J20>0,'In rearing (weekly)'!J20,IF('In rearing (weekly)'!I20>0,'In rearing (weekly)'!I20*1000/7/(C26+D26), ))","v":0},142,{"$f":"IF('In rearing (weekly)'!L20>0,'In rearing (weekly)'!L20,IF('In rearing (weekly)'!K20>0,'In rearing (weekly)'!K20*1000/7/(C26+D26), ))","v":0},0,{"$f":"IF(ISNUMBER('In rearing (weekly)'!M20),'In rearing (weekly)'!M20,\"\")","v":0},{"$f":"IF(ISNUMBER('In rearing (weekly)'!N20),'In rearing (weekly)'!N20,\"\")","v":0},{"v":1368,"d":"1368.0"},{"v":1512,"d":"1512.0"},{"v":144,"d":"144.0"},{"v":1368,"d":"1368.0"},{"v":1512,"d":"1512.0"}]
[{"$f":"'In rearing (daily)'!$A$153","v":"00:00:00"},19,{"$f":"IF(SUM('In rearing (weekly)'!$C$3:$C$22)>0,$L$5-SUM('In rearing (weekly)'!C$3:C21),IF(SUM('In rearing (weekly)'!$D$3:$D$22)>0,$L$5-(SUM('In rearing (weekly)'!$D$3:D21)/100*$L$5),$L$5 ))","v":0},{"$f":"IF(SUM('In rearing (weekly)'!$E$3:$E$22)>0,$L$6-SUM('In rearing (weekly)'!E$3:E21),IF(SUM('In rearing (weekly)'!$F$3:$F$22)>0,$L$6-(SUM('In rearing (weekly)'!$F$3:F21)/100*$L$6),$L$6 ))","v":0},0,0,{"v":1453.5,"d":"1454"},"-",{"v":1606.5,"d":"1607"},{"$f":"IF(ISNUMBER('In rearing (weekly)'!G21),'In rearing (weekly)'!G21,\"\")","v":0},{"$f":"IF(ISNUMBER('In rearing (weekly)'!H21),'In rearing (weekly)'!H21,\"\")","v":0},84,{"$f":"IF('In rearing (weekly)'!J21>0,'In rearing (weekly)'!J21,IF('In rearing (weekly)'!I21>0,'In rearing (weekly)'!I21*1000/7/(C27+D27), ))","v":0},147,{"$f":"IF('In rearing (weekly)'!L21>0,'In rearing (weekly)'!L21,IF('In rearing (weekly)'!K21>0,'In rearing (weekly)'!K21*1000/7/(C27+D27), ))","v":0},0,{"$f":"IF(ISNUMBER('In rearing (weekly)'!M21),'In rearing (weekly)'!M21,\"\")","v":0},{"$f":"IF(ISNUMBER('In rearing (weekly)'!N21),'In rearing (weekly)'!N21,\"\")","v":0},1453.5,1606.5,{"v":153,"d":"153.0"},1453.5,1606.5]
[{"$f":"'In rearing (daily)'!$A$161","v":"00:00:00"},20,{"$f":"IF(SUM('In rearing (weekly)'!$C$3:$C$22)>0,$L$5-SUM('In rearing (weekly)'!C$3:C22),IF(SUM('In rearing (weekly)'!$D$3:$D$22)>0,$L$5-(SUM('In rearing (weekly)'!$D$3:D22)/100*$L$5),$L$5 ))","v":0},{"$f":"IF(SUM('In rearing (weekly)'!$E$3:$E$22)>0,$L$6-SUM('In rearing (weekly)'!E$3:E22),IF(SUM('In rearing (weekly)'!$F$3:$F$22)>0,$L$6-(SUM('In rearing (weekly)'!$F$3:F22)/100*$L$6),$L$6 ))","v":0},0,0,1520,"-",1680,{"$f":"IF(ISNUMBER('In rearing (weekly)'!G22),'In rearing (weekly)'!G22,\"\")","v":0},{"$f":"IF(ISNUMBER('In rearing (weekly)'!H22),'In rearing (weekly)'!H22,\"\")","v":0},87,{"$f":"IF('In rearing (weekly)'!J22>0,'In rearing (weekly)'!J22,IF('In rearing (weekly)'!I22>0,'In rearing (weekly)'!I22*1000/7/(C28+D28), ))","v":0},152,{"$f":"IF('In rearing (weekly)'!L22>0,'In rearing (weekly)'!L22,IF('In rearing (weekly)'!K22>0,'In rearing (weekly)'!K22*1000/7/(C28+D28), ))","v":0},0,{"$f":"IF(ISNUMBER('In rearing (weekly)'!M22),'In rearing (weekly)'!M22,\"\")","v":0},{"$f":"IF(ISNUMBER('In rearing (weekly)'!N22),'In rearing (weekly)'!N22,\"\")","v":0},{"v":1520,"d":"1520.0"},{"v":1680,"d":"1680.0"},{"v":160,"d":"160.0"},{"v":1520,"d":"1520.0"},{"v":1680,"d":"1680.0"}]

{"sheet":"Out prod","index":6,"n_rows":75,"n_cols":34,"rows_kept":75,"merged":[[2,10,2,11],[3,10,3,11]]}
[null,{"$f":"Translation!B7","v":"Production Period"},{"$nulls":7},{"$f":"Translation!B4","v":"LOHMANN BROWN Parent Stock"}]
[]
[{"$f":"Translation!B8","v":"Country:"},null,{"$f":"General!B3","v":0},{"$nulls":3},{"$f":"Translation!B12","v":"Hatch Date:"},{"$nulls":3},{"$f":"General!D27","v":"00:00:00"}]
[{"$f":"Translation!B9","v":"Owner:"},null,{"$f":"General!B4","v":0},{"$nulls":3},{"$f":"Translation!B13","v":"Date of Housing:"},{"$nulls":3},{"$f":"General!J28","v":"1900-05-05"}]
[{"$f":"Translation!B10","v":"Farm:"},null,{"$f":"General!B5","v":0},{"$nulls":3},{"$f":"Translation!B14","v":"No. of Females Housed:"},{"$nulls":3},{"$f":"General!J29","v":0}]
[{"$f":"Translation!B11","v":"Flock:"},null,{"$f":"General!B6","v":0},{"$nulls":3},{"$f":"Translation!B15","v":"No. of Males Housed:"},{"$nulls":3},{"$f":"General!J30","v":0}]
[]
[null,{"$f":"Translation!B63","v":"Flock Data"},null,null,{"$f":"Translation!B64","v":"Rate of Lay"},null,null,{"$f":"Translation!B65","v":"Egg Number"},null,{"$f":"Translation!B66","v":"Hatching Eggs"},null,{"$f":"Translation!B67","v":"Hatchability"},null,{"$f":"Translation!B68","v":"Saleable Chicks"},null,{"$f":"Translation!B64","v":"Rate of Lay"}]
[{"$f":"Translation!B69","v":"Age"},{"$f":"Translation!B71","v":"Act. hen number"},{"$f":"Translation!B72","v":"Act. fem. Liveability"},{"$f":"Translation!B73","v":"Standard Liveability"},{"$f":"Translation!B76","v":"per H.D."},{"$f":"Translation!B70","v":"Standard"},{"$f":"Translation!B78","v":"% Hatching eggs"},{"$f":"Translation!B77","v":"per H.H."},{"$f":"Translation!B70","v":"Standard"},{"$f":"Translation!B77","v":"per H.H."},{"$f":"Translation!B70","v":"Standard"},{"$f":"Translation!B68","v":"Saleable Chicks"},{"$f":"Translation!B70","v":"Standard"},{"$f":"Translation!B77","v":"per H.H."},{"$f":"Translation!B70","v":"Standard"},{"$f":"Translation!B77","v":"per H.H."},{"$f":"Translation!B70","v":"Standard"},{"$f":"Translation!B79","v":"Std. Hatching eggs (%)"},{"$f":"Translation!B74","v":"Act. number of males"},{"$f":"Translation!B75","v":"Act. M. Liveability"},"Schatten","Prod","Stdeizahl","Std Küken","Std Lebensfähigkeit","Std HE","kum. Eier/HH","kum. Bruteier/HH","kum. Küken","av. Hatch","av. HE","% inc.",null,"Hilfsspalte"]
[15,{"$f":"IF(SUM('In prod (weekly)'!C$3:C$68)>0,$K$5-SUM('In prod (weekly)'!C$3:C3),IF(SUM('In prod (weekly)'!$D$3:D68)>0,$K$5-SUM('In prod (weekly)'!$D$3:D3)/100*$K$5,$K$5))","v":0},{"$f":"IF((General!$J$5>0),B10/$K$5*100, )","v":0},null,{"$f":"IF(SUM('In prod (weekly)'!G$3:G$68)>0,('In prod (weekly)'!G3)/7/B10*100,IF(SUM('In prod (weekly)'!$H$3:$H$68)>0,('In prod (weekly)'!H3), ))","v":0},null,{"$f":"IF('In prod (weekly)'!I3>0,'In prod (weekly)'!I3/'In prod (weekly)'!G3*100,IF('In prod (weekly)'!J3>0,'In prod (weekly)'!J3,R10 ))","v":0},{"$f":"7*P10/100","v":0},{"$f":"IF(ISNUMBER(Q10),7*Q10/100, )","v":0},{"$f":"7*G10*P10/10000","v":0},{"$f":"IF(ISNUMBER(Q10),7*R10*Q10/10000, )","v":0},{"$f":"IF('In prod (weekly)'!M3>0,'In prod (weekly)'!M3,IF('In prod (weekly)'!K3>0,'In prod (weekly)'!L3/'In prod (weekly)'!K3*100,0))","v":0},null,{"$f":"7*P10*G10*L10/1000000","v":0},{"$f":"IF(ISNUMBER(M10),7*F10*R10*M10/1000000, )","v":0},{"$f":"E10*C10/100","v":0},{"$f":"IF(ISNUMBER(F10),F10*D10/100,\"\")","v":""},0,{"$f":"IF(SUM('In prod (weekly)'!E$3:E$68)>0,$K$6-SUM('In prod (weekly)'!E$3:E3),IF(SUM('In prod (weekly)'!$F$3:F68)>0,$K$6-SUM('In prod (weekly)'!$F$3:F3)/100*$K$6,$K$6))","v":0},{"$f":"IF((General!$J$6>0),S10/$K$6*100, )","v":0},null,null,"Formel: wenn sich EZ nicht mehr ändert, soll Standard der betreffenden Woche weitergeschrieben werden (für Grafik)",null,null,"Formel: wenn sich EZ nicht mehr ändert, soll Standard der betreffenden Woche weitergeschrieben werden (für Grafik)",{"$f":"H10*General!$J$29","v":0},{"$f":"J10*General!$J$29","v":0},{"$f":"N10*General!$J$29","v":0}]
[16,{"$f":"IF(SUM('In prod (weekly)'!C$3:C$68)>0,$K$5-SUM('In prod (weekly)'!C$3:C4),IF(SUM('In prod (weekly)'!$D$3:D69)>0,$K$5-SUM('In prod (weekly)'!$D$3:D4)/100*$K$5,$K$5))","v":0},{"$f":"IF((General!$J$5>0),B11/$K$5*100, )","v":0},null,{"$f":"IF(SUM('In prod (weekly)'!G$3:G$68)>0,('In prod (weekly)'!G4)/7/B11*100,IF(SUM('In prod (weekly)'!$H$3:$H$68)>0,('In prod (weekly)'!H4), ))","v":0},null,{"$f":"IF('In prod (weekly)'!I4>0,'In prod (weekly)'!I4/'In prod (weekly)'!G4*100,IF('In prod (weekly)'!J4>0,'In prod (weekly)'!J4,R11 ))","v":0},{"$f":"7*P11/100+H10","v":0},{"$f":"IF(ISNUMBER(Q11),7*Q11/100+I10, )","v":0},{"$f":"7*G11*P11/10000+J10","v":0},{"$f":"IF(ISNUMBER(Q11),7*R11*Q11/10000+K10, )","v":0},{"$f":"IF('In prod (weekly)'!M4>0,'In prod (weekly)'!M4,IF('In prod (weekly)'!K4>0,'In prod (weekly)'!L4/'In prod (weekly)'!K4*100,0))","v":0},null,{"$f":"7*P11*G11*L11/1000000+N10","v":0},{"$f":"IF(ISNUMBER(M11),7*F11*R11*M11/1000000+O10, )","v":0},{"$f":"E11*C11/100","v":0},"",0,{"$f":"IF(SUM('In prod (weekly)'!E$3:E$68)>0,$K$6-SUM('In prod (weekly)'!E$3:E4),IF(SUM('In prod (weekly)'!$F$3:F69)>0,$K$6-SUM('In prod (weekly)'!$F$3:F4)/100*$K$6,$K$6))","v":0},{"$f":"IF((General!$J$6>0),S11/$K$6*100, )","v":0},{"$nulls":6},{"$f":"H11*General!$J$29","v":0},{"$f":"J11*General!$J$29","v":0},{"$f":"N11*General!$J$29","v":0}]
[17,{"$f":"IF(SUM('In prod (weekly)'!C$3:C$68)>0,$K$5-SUM('In prod (weekly)'!C$3:C5),IF(SUM('In prod (weekly)'!$D$3:D70)>0,$K$5-SUM('In prod (weekly)'!$D$3:D5)/100*$K$5,$K$5))","v":0},{"$f":"IF((General!$J$5>0),B12/$K$5*100, )","v":0},null,{"$f":"IF(SUM('In prod (weekly)'!G$3:G$68)>0,('In prod (weekly)'!G5)/7/B12*100,IF(SUM('In prod (weekly)'!$H$3:$H$68)>0,('In prod (weekly)'!H5), ))","v":0},null,{"$f":"IF('In prod (weekly)'!I5>0,'In prod (weekly)'!I5/'In prod (weekly)'!G5*100,IF('In prod (weekly)'!J5>0,'In prod (weekly)'!J5,R12 ))","v":0},0,0,{"$f":"7*G12*P12/10000+J11","v":0},{"$f":"IF(ISNUMBER(Q12),7*R12*Q12/10000+K11, )","v":0},{"$f":"IF('In prod (weekly)'!M5>0,'In prod (weekly)'!M5,IF('In prod (weekly)'!K5>0,'In prod (weekly)'!L5/'In prod (weekly)'!K5*100,0))","v":0},null,0,{"$f":"IF(ISNUMBER(M12),7*Q12*R12*M12/1000000+O11, )","v":0},0,"",0,{"$f":"IF(SUM('In prod (weekly)'!E$3:E$68)>0,$K$6-SUM('In prod (weekly)'!E$3:E5),IF(SUM('In prod (weekly)'!$F$3:F70)>0,$K$6-SUM('In prod (weekly)'!$F$3:F5)/100*$K$6,$K$6))","v":0},{"$f":"IF((General!$J$6>0),S12/$K$6*100, )","v":0},null,null,{"$f":"IF(H12>H11,I12,W11)","v":{"v":0,"d":"0.0"}},{"$f":"IF(N12>N11,O12,X11)","v":{"v":0,"d":"0.0"}},{"$f":"IF(C12<C11,D12,Y11)","v":{"v":0,"d":"0.0"}},{"$f":"IF(J12>J11,K12,Z11)","v":{"v":0,"d":"0.0"}},{"$f":"H12*General!$J$29","v":0},{"$f":"J12*General!$J$29","v":0},{"$f":"N12*General!$J$29","v":0}]
[18,{"$f":"IF(SUM('In prod (weekly)'!C$3:C$68)>0,$K$5-SUM('In prod (weekly)'!C$3:C6),IF(SUM('In prod (weekly)'!$D$3:D71)>0,$K$5-SUM('In prod (weekly)'!$D$3:D6)/100*$K$5,$K$5))","v":0},{"$f":"IF((General!$J$5>0),B13/$K$5*100, )","v":0},null,{"$f":"IF(SUM('In prod (weekly)'!G$3:G$68)>0,('In prod (weekly)'!G6)/7/B13*100,IF(SUM('In prod (weekly)'!$H$3:$H$68)>0,('In prod (weekly)'!H6), ))","v":0},null,{"$f":"IF('In prod (weekly)'!I6>0,'In prod (weekly)'!I6/'In prod (weekly)'!G6*100,IF('In prod (weekly)'!J6>0,'In prod (weekly)'!J6,R13 ))","v":0},0,0,0,{"$f":"IF(ISNUMBER(Q13),7*R13*Q13/10000+K12, )","v":0},{"$f":"IF('In prod (weekly)'!M6>0,'In prod (weekly)'!M6,IF('In prod (weekly)'!K6>0,'In prod (weekly)'!L6/'In prod (weekly)'!K6*100,0))","v":0},null,0,{"$f":"IF(ISNUMBER(M13),7*Q13*R13*M13/1000000+O12, )","v":0},0,"",0,{"$f":"IF(SUM('In prod (weekly)'!E$3:E$68)>0,$K$6-SUM('In prod (weekly)'!E$3:E6),IF(SUM('In prod (weekly)'!$F$3:F71)>0,$K$6-SUM('In prod (weekly)'!$F$3:F6)/100*$K$6,$K$6))","v":0},{"$f":"IF((General!$J$6>0),S13/$K$6*100, )","v":0},null,null,{"v":0,"d":"0.0"},{"v":0,"d":"0.0"},{"v":0,"d":"0.0"},{"$f":"IF(J13>J12,K13,Z12)","v":{"v":0,"d":"0.0"}},{"$f":"H13*General!$J$29","v":0},{"$f":"J13*General!$J$29","v":0},{"$f":"N13*General!$J$29","v":0}]
[19,{"$f":"IF(SUM('In prod (weekly)'!C$3:C$68)>0,$K$5-SUM('In prod (weekly)'!C$3:C7),IF(SUM('In prod (weekly)'!$D$3:D72)>0,$K$5-SUM('In prod (weekly)'!$D$3:D7)/100*$K$5,$K$5))","v":0},{"$f":"IF((General!$J$5>0),B14/$K$5*100, )","v":0},null,{"$f":"IF(SUM('In prod (weekly)'!G$3:G$68)>0,('In prod (weekly)'!G7)/7/B14*100,IF(SUM('In prod (weekly)'!$H$3:$H$68)>0,('In prod (weekly)'!H7), ))","v":0},null,{"$f":"IF('In prod (weekly)'!I7>0,'In prod (weekly)'!I7/'In prod (weekly)'!G7*100,IF('In prod (weekly)'!J7>0,'In prod (weekly)'!J7,R14 ))","v":0},0,0,0,{"$f":"IF(ISNUMBER(Q14),7*R14*Q14/10000+K13, )","v":0},{"$f":"IF('In prod (weekly)'!M7>0,'In prod (weekly)'!M7,IF('In prod (weekly)'!K7>0,'In prod (weekly)'!L7/'In prod (weekly)'!K7*100,0))","v":0},null,0,{"$f":"IF(ISNUMBER(M14),7*Q14*R14*M14/1000000+O13, )","v":0},0,"",0,{"$f":"IF(SUM('In prod (weekly)'!E$3:E$68)>0,$K$6-SUM('In prod (weekly)'!E$3:E7),IF(SUM('In prod (weekly)'!$F$3:F72)>0,$K$6-SUM('In prod (weekly)'!$F$3:F7)/100*$K$6,$K$6))","v":0},{"$f":"IF((General!$J$6>0),S14/$K$6*100, )","v":0},null,null,{"v":0,"d":"0.0"},{"v":0,"d":"0.0"},{"v":0,"d":"0.0"},{"v":0,"d":"0.0"},{"$f":"H14*General!$J$29","v":0},{"$f":"J14*General!$J$29","v":0},{"$f":"N14*General!$J$29","v":0}]
[20,{"$f":"IF(SUM('In prod (weekly)'!C$3:C$68)>0,$K$5-SUM('In prod (weekly)'!C$3:C8),IF(SUM('In prod (weekly)'!$D$3:D73)>0,$K$5-SUM('In prod (weekly)'!$D$3:D8)/100*$K$5,$K$5))","v":0},{"$f":"IF((General!$J$5>0),B15/$K$5*100, )","v":0},null,{"$f":"IF(SUM('In prod (weekly)'!G$3:G$68)>0,('In prod (weekly)'!G8)/7/B15*100,IF(SUM('In prod (weekly)'!$H$3:$H$68)>0,('In prod (weekly)'!H8), ))","v":0},null,{"$f":"IF('In prod (weekly)'!I8>0,'In prod (weekly)'!I8/'In prod (weekly)'!G8*100,IF('In prod (weekly)'!J8>0,'In prod (weekly)'!J8,R15 ))","v":0},0,0,0,{"$f":"IF(ISNUMBER(Q15),7*R15*Q15/10000+K14, )","v":0},{"$f":"IF('In prod (weekly)'!M8>0,'In prod (weekly)'!M8,IF('In prod (weekly)'!K8>0,'In prod (weekly)'!L8/'In prod (weekly)'!K8*100,0))","v":0},null,0,0,0,"",0,{"$f":"IF(SUM('In prod (weekly)'!E$3:E$68)>0,$K$6-SUM('In prod (weekly)'!E$3:E8),IF(SUM('In prod (weekly)'!$F$3:F73)>0,$K$6-SUM('In prod (weekly)'!$F$3:F8)/100*$K$6,$K$6))","v":0},{"$f":"IF((General!$J$6>0),S15/$K$6*100, )","v":0},{"$f":"F15-F15*0.07","v":{"v":0,"d":"0.0"}},{"$f":"F15+F15*0.03-U15","v":{"v":0,"d":"0.0"}},{"v":0,"d":"0.0"},{"v":0,"d":"0.0"},{"v":0,"d":"0.0"},{"v":0,"d":"0.0"},{"$f":"H15*General!$J$29","v":0},{"$f":"J15*General!$J$29","v":0},{"$f":"N15*General!$J$29","v":0},{"$nulls":4},1]
[21,{"$f":"IF(SUM('In prod (weekly)'!C$3:C$68)>0,$K$5-SUM('In prod (weekly)'!C$3:C9),IF(SUM('In prod (weekly)'!$D$3:D74)>0,$K$5-SUM('In prod (weekly)'!$D$3:D9)/100*$K$5,$K$5))","v":0},{"$f":"IF((General!$J$5>0),B16/$K$5*100, )","v":0},{"v":100,"d":"100.0"},{"$f":"IF(SUM('In prod (weekly)'!G$3:G$68)>0,('In prod (weekly)'!G9)/7/B16*100,IF(SUM('In prod (weekly)'!$H$3:$H$68)>0,('In prod (weekly)'!H9), ))","v":0},{"v":15,"d":"15.0"},{"$f":"IF('In prod (weekly)'!I9>0,'In prod (weekly)'!I9/'In prod (weekly)'!G9*100,IF('In prod (weekly)'!J9>0,'In prod (weekly)'!J9,R16 ))","v":0},0,1.05,0,{"$f":"IF(ISNUMBER(Q16),7*R16*Q16/10000+K15, )","v":0},{"$f":"IF('In prod (weekly)'!M9>0,'In prod (weekly)'!M9,IF('In prod (weekly)'!K9>0,'In prod (weekly)'!L9/'In prod (weekly)'!K9*100,0))","v":0},0,0,0,0,{"v":15,"d":"15.0"},0,{"$f":"IF(SUM('In prod (weekly)'!E$3:E$68)>0,$K$6-SUM('In prod (weekly)'!E$3:E9),IF(SUM('In prod (weekly)'!$F$3:F74)>0,$K$6-SUM('In prod (weekly)'!$F$3:F9)/100*$K$6,$K$6))","v":0},{"$f":"IF((General!$J$6>0),S16/$K$6*100, )","v":0},{"v":13.95,"d":"14.0"},1.5,{"v":0,"d":"0.0"},{"v":0,"d":"0.0"},{"v":0,"d":"0.0"},{"v":0,"d":"0.0"},{"$f":"H16*General!$J$29","v":0},{"$f":"J16*General!$J$29","v":0},{"$f":"N16*General!$J$29","v":0},{"$nulls":4},{"$f":"AH15+1","v":2}]
[22,{"$f":"IF(SUM('In prod (weekly)'!C$3:C$68)>0,$K$5-SUM('In prod (weekly)'!C$3:C10),IF(SUM('In prod (weekly)'!$D$3:D75)>0,$K$5-SUM('In prod (weekly)'!$D$3:D10)/100*$K$5,$K$5))","v":0},{"$f":"IF((General!$J$5>0),B17/$K$5*100, )","v":0},{"v":99.7506234413965,"d":"99.8"},{"$f":"IF(SUM('In prod (weekly)'!G$3:G$68)>0,('In prod (weekly)'!G10)/7/B17*100,IF(SUM('In prod (weekly)'!$H$3:$H$68)>0,('In prod (weekly)'!H10), ))","v":0},40.1,{"$f":"IF('In prod (weekly)'!I10>0,'In prod (weekly)'!I10/'In prod (weekly)'!G10*100,IF('In prod (weekly)'!J10>0,'In prod (weekly)'!J10,R17 ))","v":50},0,3.8499999999999996,0,{"$f":"IF(ISNUMBER(Q17),7*R17*Q17/10000+K16, )","v":1.4},{"$f":"IF('In prod (weekly)'!M10>0,'In prod (weekly)'!M10,IF('In prod (weekly)'!K10>0,'In prod (weekly)'!L10/'In prod (weekly)'!K10*100,0))","v":0},34.125,0,0.4777499999999999,0,{"v":39.99999999999999,"d":"40.0"},50,{"$f":"IF(SUM('In prod (weekly)'!E$3:E$68)>0,$K$6-SUM('In prod (weekly)'!E$3:E10),IF(SUM('In prod (weekly)'!$F$3:F75)>0,$K$6-SUM('In prod (weekly)'!$F$3:F10)/100*$K$6,$K$6))","v":0},{"$f":"IF((General!$J$6>0),S17/$K$6*100, )","v":0},{"v":37.293,"d":"37.3"},{"v":4.010000000000005,"d":"4.0"},{"v":0,"d":"0.0"},{"v":0,"d":"0.0"},{"v":0,"d":"0.0"},{"v":0,"d":"0.0"},{"$f":"H17*General!$J$29","v":0},{"$f":"J17*General!$J$29","v":0},{"$f":"N17*General!$J$29","v":0},{"$nulls":4},{"$f":"AH16+1","v":3}]
[23,{"$f":"IF(SUM('In prod (weekly)'!C$3:C$68)>0,$K$5-SUM('In prod (weekly)'!C$3:C11),IF(SUM('In prod (weekly)'!$D$3:D76)>0,$K$5-SUM('In prod (weekly)'!$D$3:D11)/100*$K$5,$K$5))","v":0},{"$f":"IF((General!$J$5>0),B18/$K$5*100, )","v":0},{"v":99.69325153374233,"d":"99.7"},{"$f":"IF(SUM('In prod (weekly)'!G$3:G$68)>0,('In prod (weekly)'!G11)/7/B18*100,IF(SUM('In prod (weekly)'!$H$3:$H$68)>0,('In prod (weekly)'!H11), ))","v":0},65.2,{"$f":"IF('In prod (weekly)'!I11>0,'In prod (weekly)'!I11/'In prod (weekly)'!G11*100,IF('In prod (weekly)'!J11>0,'In prod (weekly)'!J11,R18 ))","v":60},0,8.399999999999999,0,{"$f":"IF(ISNUMBER(Q18),7*R18*Q18/10000+K17, )","v":4.13},{"$f":"IF('In prod (weekly)'!M11>0,'In prod (weekly)'!M11,IF('In prod (weekly)'!K11>0,'In prod (weekly)'!L11/'In prod (weekly)'!K11*100,0))","v":0},36.5625,0,1.47590625,0,{"v":65,"d":"65.0"},60,{"$f":"IF(SUM('In prod (weekly)'!E$3:E$68)>0,$K$6-SUM('In prod (weekly)'!E$3:E11),IF(SUM('In prod (weekly)'!$F$3:F76)>0,$K$6-SUM('In prod (weekly)'!$F$3:F11)/100*$K$6,$K$6))","v":0},{"$f":"IF((General!$J$6>0),S18/$K$6*100, )","v":0},{"v":60.636,"d":"60.6"},{"v":6.520000000000003,"d":"6.5"},{"v":0,"d":"0.0"},{"v":0,"d":"0.0"},{"v":0,"d":"0.0"},{"v":0,"d":"0.0"},{"$f":"H18*General!$J$29","v":0},{"$f":"J18*General!$J$29","v":0},{"$f":"N18*General!$J$29","v":0},{"$nulls":4},4]
[24,{"$f":"IF(SUM('In prod (weekly)'!C$3:C$68)>0,$K$5-SUM('In prod (weekly)'!C$3:C12),IF(SUM('In prod (weekly)'!$D$3:D77)>0,$K$5-SUM('In prod (weekly)'!$D$3:D12)/100*$K$5,$K$5))","v":0},{"$f":"IF((General!$J$5>0),B19/$K$5*100, )","v":0},{"v":99.63985594237695,"d":"99.6"},{"$f":"IF(SUM('In prod (weekly)'!G$3:G$68)>0,('In prod (weekly)'!G12)/7/B19*100,IF(SUM('In prod (weekly)'!$H$3:$H$68)>0,('In prod (weekly)'!H12), ))","v":0},83.3,{"$f":"IF('In prod (weekly)'!I12>0,'In prod (weekly)'!I12/'In prod (weekly)'!G12*100,IF('In prod (weekly)'!J12>0,'In prod (weekly)'!J12,R19 ))","v":70},0,14.209999999999997,0,{"$f":"IF(ISNUMBER(Q19),7*R19*Q19/10000+K18, )","v":8.197},{"$f":"IF('In prod (weekly)'!M12>0,'In prod (weekly)'!M12,IF('In prod (weekly)'!K12>0,'In prod (weekly)'!L12/'In prod (weekly)'!K12*100,0))","v":0},38.025,0,3.022383,0,{"v":83,"d":"83.0"},70,{"$f":"IF(SUM('In prod (weekly)'!E$3:E$68)>0,$K$6-SUM('In prod (weekly)'!E$3:E12),IF(SUM('In prod (weekly)'!$F$3:F77)>0,$K$6-SUM('In prod (weekly)'!$F$3:F12)/100*$K$6,$K$6))","v":0},{"$f":"IF((General!$J$6>0),S19/$K$6*100, )","v":0},{"v":77.469,"d":"77.5"},{"v":8.329999999999998,"d":"8.3"},{"v":0,"d":"0.0"},{"v":0,"d":"0.0"},{"v":0,"d":"0.0"},{"v":0,"d":"0.0"},{"$f":"H19*General!$J$29","v":0},{"$f":"J19*General!$J$29","v":0},{"$f":"N19*General!$J$29","v":0},{"$nulls":4},5]
[25,{"$f":"IF(SUM('In prod (weekly)'!C$3:C$68)>0,$K$5-SUM('In prod (weekly)'!C$3:C13),IF(SUM('In prod (weekly)'!$D$3:D78)>0,$K$5-SUM('In prod (weekly)'!$D$3:D13)/100*$K$5,$K$5))","v":0},{"$f":"IF((General!$J$5>0),B20/$K$5*100, )","v":0},{"v":99.45054945054946,"d":"99.5"},{"$f":"IF(SUM('In prod (weekly)'!G$3:G$68)>0,('In prod (weekly)'!G13)/7/B20*100,IF(SUM('In prod (weekly)'!$H$3:$H$68)>0,('In prod (weekly)'!H13), ))","v":0},{"v":91,"d":"91.0"},{"$f":"IF('In prod (weekly)'!I13>0,'In prod (weekly)'!I13/'In prod (weekly)'!G13*100,IF('In prod (weekly)'!J13>0,'In prod (weekly)'!J13,R20 ))","v":80},0,20.544999999999998,0,{"$f":"IF(ISNUMBER(Q20),7*R20*Q20/10000+K19, )","v":13.264999999999999},{"$f":"IF('In prod (weekly)'!M13>0,'In prod (weekly)'!M13,IF('In prod (weekly)'!K13>0,'In prod (weekly)'!L13/'In prod (weekly)'!K13*100,0))","v":0},39,0,4.998903,0,90.5,80,{"$f":"IF(SUM('In prod (weekly)'!E$3:E$68)>0,$K$6-SUM('In prod (weekly)'!E$3:E13),IF(SUM('In prod (weekly)'!$F$3:F78)>0,$K$6-SUM('In prod (weekly)'!$F$3:F13)/100*$K$6,$K$6))","v":0},{"$f":"IF((General!$J$6>0),S20/$K$6*100, )","v":0},{"v":84.63,"d":"84.6"},{"v":9.100000000000009,"d":"9.1"},{"v":0,"d":"0.0"},{"v":0,"d":"0.0"},{"v":0,"d":"0.0"},{"v":0,"d":"0.0"},{"$f":"H20*General!$J$29","v":0},{"$f":"J20*General!$J$29","v":0},{"$f":"N20*General!$J$29","v":0},{"$nulls":4},6]
[26,{"$f":"IF(SUM('In prod (weekly)'!C$3:C$68)>0,$K$5-SUM('In prod (weekly)'!C$3:C14),IF(SUM('In prod (weekly)'!$D$3:D79)>0,$K$5-SUM('In prod (weekly)'!$D$3:D14)/100*$K$5,$K$5))","v":0},{"$f":"IF((General!$J$5>0),B21/$K$5*100, )","v":0},{"v":99.35205183585313,"d":"99.4"},{"$f":"IF(SUM('In prod (weekly)'!G$3:G$68)>0,('In prod (weekly)'!G14)/7/B21*100,IF(SUM('In prod (weekly)'!$H$3:$H$68)>0,('In prod (weekly)'!H14), ))","v":0},92.6,{"$f":"IF('In prod (weekly)'!I14>0,'In prod (weekly)'!I14/'In prod (weekly)'!G14*100,IF('In prod (weekly)'!J14>0,'In prod (weekly)'!J14,R21 ))","v":85},0,26.985,0,{"$f":"IF(ISNUMBER(Q21),7*R21*Q21/10000+K20, )","v":18.738999999999997},{"$f":"IF('In prod (weekly)'!M14>0,'In prod (weekly)'!M14,IF('In prod (weekly)'!K14>0,'In prod (weekly)'!L14/'In prod (weekly)'!K14*100,0))","v":0},39.975,0,7.187134500000001,0,{"v":92,"d":"92.0"},85,{"$f":"IF(SUM('In prod (weekly)'!E$3:E$68)>0,$K$6-SUM('In prod (weekly)'!E$3:E14),IF(SUM('In prod (weekly)'!$F$3:F79)>0,$K$6-SUM('In prod (weekly)'!$F$3:F14)/100*$K$6,$K$6))","v":0},{"$f":"IF((General!$J$6>0),S21/$K$6*100, )","v":0},{"v":86.118,"d":"86.1"},{"v":9.260000000000005,"d":"9.3"},{"v":0,"d":"0.0"},{"v":0,"d":"0.0"},{"v":0,"d":"0.0"},{"v":0,"d":"0.0"},{"$f":"H21*General!$J$29","v":0},{"$f":"J21*General!$J$29","v":0},{"$f":"N21*General!$J$29","v":0},{"$nulls":4},7]
[27,{"$f":"IF(SUM('In prod (weekly)'!C$3:C$68)>0,$K$5-SUM('In prod (weekly)'!C$3:C15),IF(SUM('In prod (weekly)'!$D$3:D80)>0,$K$5-SUM('In prod (weekly)'!$D$3:D15)/100*$K$5,$K$5))","v":0},{"$f":"IF((General!$J$5>0),B22/$K$5*100, )","v":0},{"v":99.2489270386266,"d":"99.2"},{"$f":"IF(SUM('In prod (weekly)'!G$3:G$68)>0,('In prod (weekly)'!G15)/7/B22*100,IF(SUM('In prod (weekly)'!$H$3:$H$68)>0,('In prod (weekly)'!H15), ))","v":0},93.2,{"$f":"IF('In prod (weekly)'!I15>0,'In prod (weekly)'!I15/'In prod (weekly)'!G15*100,IF('In prod (weekly)'!J15>0,'In prod (weekly)'!J15,R22 ))","v":90},0,33.46,0,{"$f":"IF(ISNUMBER(Q22),7*R22*Q22/10000+K21, )","v":24.566499999999998},{"$f":"IF('In prod (weekly)'!M15>0,'In prod (weekly)'!M15,IF('In prod (weekly)'!K15>0,'In prod (weekly)'!L15/'In prod (weekly)'!K15*100,0))","v":0},40.4625,0,9.545086687500001,0,92.5,90,{"$f":"IF(SUM('In prod (weekly)'!E$3:E$68)>0,$K$6-SUM('In prod (weekly)'!E$3:E15),IF(SUM('In prod (weekly)'!$F$3:F80)>0,$K$6-SUM('In prod (weekly)'!$F$3:F15)/100*$K$6,$K$6))","v":0},{"$f":"IF((General!$J$6>0),S22/$K$6*100, )","v":0},{"v":86.676,"d":"86.7"},{"v":9.320000000000007,"d":"9.3"},{"v":0,"d":"0.0"},{"v":0,"d":"0.0"},{"v":0,"d":"0.0"},{"v":0,"d":"0.0"},{"$f":"H22*General!$J$29","v":0},{"$f":"J22*General!$J$29","v":0},{"$f":"N22*General!$J$29","v":0},{"$nulls":4},8]
[28,{"$f":"IF(SUM('In prod (weekly)'!C$3:C$68)>0,$K$5-SUM('In prod (weekly)'!C$3:C16),IF(SUM('In prod (weekly)'!$D$3:D81)>0,$K$5-SUM('In prod (weekly)'!$D$3:D16)/100*$K$5,$K$5))","v":0},{"$f":"IF((General!$J$5>0),B23/$K$5*100, )","v":0},{"v":99.25133689839572,"d":"99.3"},{"$f":"IF(SUM('In prod (weekly)'!G$3:G$68)>0,('In prod (weekly)'!G16)/7/B23*100,IF(SUM('In prod (weekly)'!$H$3:$H$68)>0,('In prod (weekly)'!H16), ))","v":0},93.5,{"$f":"IF('In prod (weekly)'!I16>0,'In prod (weekly)'!I16/'In prod (weekly)'!G16*100,IF('In prod (weekly)'!J16>0,'In prod (weekly)'!J16,R23 ))","v":93},0,39.956,0,{"$f":"IF(ISNUMBER(Q23),7*R23*Q23/10000+K22, )","v":30.607779999999998},{"$f":"IF('In prod (weekly)'!M16>0,'In prod (weekly)'!M16,IF('In prod (weekly)'!K16>0,'In prod (weekly)'!L16/'In prod (weekly)'!K16*100,0))","v":0},41.925,0,12.077893327500002,0,92.8,93,{"$f":"IF(SUM('In prod (weekly)'!E$3:E$68)>0,$K$6-SUM('In prod (weekly)'!E$3:E16),IF(SUM('In prod (weekly)'!$F$3:F81)>0,$K$6-SUM('In prod (weekly)'!$F$3:F16)/100*$K$6,$K$6))","v":0},{"$f":"IF((General!$J$6>0),S23/$K$6*100, )","v":0},{"v":86.955,"d":"87.0"},{"v":9.350000000000009,"d":"9.4"},{"v":0,"d":"0.0"},{"v":0,"d":"0.0"},{"v":0,"d":"0.0"},{"v":0,"d":"0.0"},{"$f":"H23*General!$J$29","v":0},{"$f":"J23*General!$J$29","v":0},{"$f":"N23*General!$J$29","v":0},{"$nulls":4},9]
[29,{"$f":"IF(SUM('In prod (weekly)'!C$3:C$68)>0,$K$5-SUM('In prod (weekly)'!C$3:C17),IF(SUM('In prod (weekly)'!$D$3:D82)>0,$K$5-SUM('In prod (weekly)'!$D$3:D17)/100*$K$5,$K$5))","v":0},{"$f":"IF((General!$J$5>0),B24/$K$5*100, )","v":0},{"v":99.1462113127001,"d":"99.1"},{"$f":"IF(SUM('In prod (weekly)'!G$3:G$68)>0,('In prod (weekly)'!G17)/7/B24*100,IF(SUM('In prod (weekly)'!$H$3:$H$68)>0,('In prod (weekly)'!H17), ))","v":0},93.7,{"$f":"IF('In prod (weekly)'!I17>0,'In prod (weekly)'!I17/'In prod (weekly)'!G17*100,IF('In prod (weekly)'!J17>0,'In prod (weekly)'!J17,R24 ))","v":94},0,46.459,0,{"$f":"IF(ISNUMBER(Q24),7*R24*Q24/10000+K23, )","v":36.7206},{"$f":"IF('In prod (weekly)'!M17>0,'In prod (weekly)'!M17,IF('In prod (weekly)'!K17>0,'In prod (weekly)'!L17/'In prod (weekly)'!K17*100,0))","v":0},42.9,0,14.700293107500002,0,92.9,94,{"$f":"IF(SUM('In prod (weekly)'!E$3:E$68)>0,$K$6-SUM('In prod (weekly)'!E$3:E17),IF(SUM('In prod (weekly)'!$F$3:F82)>0,$K$6-SUM('In prod (weekly)'!$F$3:F17)/100*$K$6,$K$6))","v":0},{"$f":"IF((General!$J$6>0),S24/$K$6*100, )","v":0},{"v":87.141,"d":"87.1"},{"v":9.36999999999999,"d":"9.4"},{"v":0,"d":"0.0"},{"v":0,"d":"0.0"},{"v":0,"d":"0.0"},{"v":0,"d":"0.0"},{"$f":"H24*General!$J$29","v":0},{"$f":"J24*General!$J$29","v":0},{"$f":"N24*General!$J$29","v":0},{"$nulls":4},10]
[30,{"$f":"IF(SUM('In prod (weekly)'!C$3:C$68)>0,$K$5-SUM('In prod (weekly)'!C$3:C18),IF(SUM('In prod (weekly)'!$D$3:D83)>0,$K$5-SUM('In prod (weekly)'!$D$3:D18)/100*$K$5,$K$5))","v":0},{"$f":"IF((General!$J$5>0),B25/$K$5*100, )","v":0},{"v":99.0405117270789,"d":"99.0"},{"$f":"IF(SUM('In prod (weekly)'!G$3:G$68)>0,('In prod (weekly)'!G18)/7/B25*100,IF(SUM('In prod (weekly)'!$H$3:$H$68)>0,('In prod (weekly)'!H18), ))","v":0},93.8,{"$f":"IF('In prod (weekly)'!I18>0,'In prod (weekly)'!I18/'In prod (weekly)'!G18*100,IF('In prod (weekly)'!J18>0,'In prod (weekly)'!J18,R25 ))","v":95},0,52.962,0,{"$f":"IF(ISNUMBER(Q25),7*R25*Q25/10000+K24, )","v":42.89845},{"$f":"IF('In prod (weekly)'!M18>0,'In prod (weekly)'!M18,IF('In prod (weekly)'!K18>0,'In prod (weekly)'!L18/'In prod (weekly)'!K18*100,0))","v":0},42.9,0,17.3505907575,0,92.9,95,{"$f":"IF(SUM('In prod (weekly)'!E$3:E$68)>0,$K$6-SUM('In prod (weekly)'!E$3:E18),IF(SUM('In prod (weekly)'!$F$3:F83)>0,$K$6-SUM('In prod (weekly)'!$F$3:F18)/100*$K$6,$K$6))","v":0},{"$f":"IF((General!$J$6>0),S25/$K$6*100, )","v":0},{"v":87.234,"d":"87.2"},{"v":9.379999999999995,"d":"9.4"},{"v":0,"d":"0.0"},{"v":0,"d":"0.0"},{"v":0,"d":"0.0"},{"v":0,"d":"0.0"},{"$f":"H25*General!$J$29","v":0},{"$f":"J25*General!$J$29","v":0},{"$f":"N25*General!$J$29","v":0},{"$nulls":4},11]
[31,{"$f":"IF(SUM('In prod (weekly)'!C$3:C$68)>0,$K$5-SUM('In prod (weekly)'!C$3:C19),IF(SUM('In prod (weekly)'!$D$3:D84)>0,$K$5-SUM('In prod (weekly)'!$D$3:D19)/100*$K$5,$K$5))","v":0},{"$f":"IF((General!$J$5>0),B26/$K$5*100, )","v":0},{"v":98.82854100106495,"d":"98.8"},{"$f":"IF(SUM('In prod (weekly)'!G$3:G$68)>0,('In prod (weekly)'!G19)/7/B26*100,IF(SUM('In prod (weekly)'!$H$3:$H$68)>0,('In prod (weekly)'!H19), ))","v":0},93.9,{"$f":"IF('In prod (weekly)'!I19>0,'In prod (weekly)'!I19/'In prod (weekly)'!G19*100,IF('In prod (weekly)'!J19>0,'In prod (weekly)'!J19,R26 ))","v":95},0,59.458000000000006,0,{"$f":"IF(ISNUMBER(Q26),7*R26*Q26/10000+K25, )","v":49.069649999999996},{"$f":"IF('In prod (weekly)'!M19>0,'In prod (weekly)'!M19,IF('In prod (weekly)'!K19>0,'In prod (weekly)'!L19/'In prod (weekly)'!K19*100,0))","v":0},42.9,0,19.9980355575,0,92.8,95,{"$f":"IF(SUM('In prod (weekly)'!E$3:E$68)>0,$K$6-SUM('In prod (weekly)'!E$3:E19),IF(SUM('In prod (weekly)'!$F$3:F84)>0,$K$6-SUM('In prod (weekly)'!$F$3:F19)/100*$K$6,$K$6))","v":0},{"$f":"IF((General!$J$6>0),S26/$K$6*100, )","v":0},{"v":87.327,"d":"87.3"},{"v":9.390000000000015,"d":"9.4"},{"v":0,"d":"0.0"},{"v":0,"d":"0.0"},{"v":0,"d":"0.0"},{"v":0,"d":"0.0"},{"$f":"H26*General!$J$29","v":0},{"$f":"J26*General!$J$29","v":0},{"$f":"N26*General!$J$29","v":0},{"$nulls":4},12]
[32,{"$f":"IF(SUM('In prod (weekly)'!C$3:C$68)>0,$K$5-SUM('In prod (weekly)'!C$3:C20),IF(SUM('In prod (weekly)'!$D$3:D85)>0,$K$5-SUM('In prod (weekly)'!$D$3:D20)/100*$K$5,$K$5))","v":0},{"$f":"IF((General!$J$5>0),B27/$K$5*100, )","v":0},{"v":98.72340425531915,"d":"98.7"},{"$f":"IF(SUM('In prod (weekly)'!G$3:G$68)>0,('In prod (weekly)'!G20)/7/B27*100,IF(SUM('In prod (weekly)'!$H$3:$H$68)>0,('In prod (weekly)'!H20), ))","v":0},{"v":94,"d":"94.0"},{"$f":"IF('In prod (weekly)'!I20>0,'In prod (weekly)'!I20/'In prod (weekly)'!G20*100,IF('In prod (weekly)'!J20>0,'In prod (weekly)'!J20,R27 ))","v":95},0,65.95400000000001,0,{"$f":"IF(ISNUMBER(Q27),7*R27*Q27/10000+K26, )","v":55.240849999999995},{"$f":"IF('In prod (weekly)'!M20>0,'In prod (weekly)'!M20,IF('In prod (weekly)'!K20>0,'In prod (weekly)'!L20/'In prod (weekly)'!K20*100,0))","v":0},42.9,0,22.6454803575,0,92.8,95,{"$f":"IF(SUM('In prod (weekly)'!E$3:E$68)>0,$K$6-SUM('In prod (weekly)'!E$3:E20),IF(SUM('In prod (weekly)'!$F$3:F85)>0,$K$6-SUM('In prod (weekly)'!$F$3:F20)/100*$K$6,$K$6))","v":0},{"$f":"IF((General!$J$6>0),S27/$K$6*100, )","v":0},{"v":87.42,"d":"87.4"},{"v":9.399999999999991,"d":"9.4"},{"v":0,"d":"0.0"},{"v":0,"d":"0.0"},{"v":0,"d":"0.0"},{"v":0,"d":"0.0"},{"$f":"H27*General!$J$29","v":0},{"$f":"J27*General!$J$29","v":0},{"$f":"N27*General!$J$29","v":0},{"$nulls":4},13]
[33,{"$f":"IF(SUM('In prod (weekly)'!C$3:C$68)>0,$K$5-SUM('In prod (weekly)'!C$3:C21),IF(SUM('In prod (weekly)'!$D$3:D86)>0,$K$5-SUM('In prod (weekly)'!$D$3:D21)/100*$K$5,$K$5))","v":0},{"$f":"IF((General!$J$5>0),B28/$K$5*100, )","v":0},{"v":98.50905218317358,"d":"98.5"},{"$f":"IF(SUM('In prod (weekly)'!G$3:G$68)>0,('In prod (weekly)'!G21)/7/B28*100,IF(SUM('In prod (weekly)'!$H$3:$H$68)>0,('In prod (weekly)'!H21), ))","v":0},93.9,{"$f":"IF('In prod (weekly)'!I21>0,'In prod (weekly)'!I21/'In prod (weekly)'!G21*100,IF('In prod (weekly)'!J21>0,'In prod (weekly)'!J21,R28 ))","v":95},0,72.429,0,{"$f":"IF(ISNUMBER(Q28),7*R28*Q28/10000+K27, )","v":61.39209999999999},{"$f":"IF('In prod (weekly)'!M21>0,'In prod (weekly)'!M21,IF('In prod (weekly)'!K21>0,'In prod (weekly)'!L21/'In prod (weekly)'!K21*100,0))","v":0},42.9,0,25.284366607499997,0,92.5,95,{"$f":"IF(SUM('In prod (weekly)'!E$3:E$68)>0,$K$6-SUM('In prod (weekly)'!E$3:E21),IF(SUM('In prod (weekly)'!$F$3:F86)>0,$K$6-SUM('In prod (weekly)'!$F$3:F21)/100*$K$6,$K$6))","v":0},{"$f":"IF((General!$J$6>0),S28/$K$6*100, )","v":0},{"v":87.327,"d":"87.3"},{"v":9.390000000000015,"d":"9.4"},{"v":0,"d":"0.0"},{"v":0,"d":"0.0"},{"v":0,"d":"0.0"},{"v":0,"d":"0.0"},{"$f":"H28*General!$J$29","v":0},{"$f":"J28*General!$J$29","v":0},{"$f":"N28*General!$J$29","v":0},{"$nulls":4},14]
[34,{"$f":"IF(SUM('In prod (weekly)'!C$3:C$68)>0,$K$5-SUM('In prod (weekly)'!C$3:C22),IF(SUM('In prod (weekly)'!$D$3:D87)>0,$K$5-SUM('In prod (weekly)'!$D$3:D22)/100*$K$5,$K$5))","v":0},{"$f":"IF((General!$J$5>0),B29/$K$5*100, )","v":0},{"v":98.40085287846482,"d":"98.4"},{"$f":"IF(SUM('In prod (weekly)'!G$3:G$68)>0,('In prod (weekly)'!G22)/7/B29*100,IF(SUM('In prod (weekly)'!$H$3:$H$68)>0,('In prod (weekly)'!H22), ))","v":0},93.8,{"$f":"IF('In prod (weekly)'!I22>0,'In prod (weekly)'!I22/'In prod (weekly)'!G22*100,IF('In prod (weekly)'!J22>0,'In prod (weekly)'!J22,R29 ))","v":95},0,78.89,0,{"$f":"IF(ISNUMBER(Q29),7*R29*Q29/10000+K28, )","v":67.53004999999999},{"$f":"IF('In prod (weekly)'!M22>0,'In prod (weekly)'!M22,IF('In prod (weekly)'!K22>0,'In prod (weekly)'!L22/'In prod (weekly)'!K22*100,0))","v":0},42.9,0,27.917547157499996,0,92.3,95,{"$f":"IF(SUM('In prod (weekly)'!E$3:E$68)>0,$K$6-SUM('In prod (weekly)'!E$3:E22),IF(SUM('In prod (weekly)'!$F$3:F87)>0,$K$6-SUM('In prod (weekly)'!$F$3:F22)/100*$K$6,$K$6))","v":0},{"$f":"IF((General!$J$6>0),S29/$K$6*100, )","v":0},{"v":87.234,"d":"87.2"},{"v":9.379999999999995,"d":"9.4"},{"v":0,"d":"0.0"},{"v":0,"d":"0.0"},{"v":0,"d":"0.0"},{"v":0,"d":"0.0"},{"$f":"H29*General!$J$29","v":0},{"$f":"J29*General!$J$29","v":0},{"$f":"N29*General!$J$29","v":0},{"$nulls":4},15]
[35,{"$f":"IF(SUM('In prod (weekly)'!C$3:C$68)>0,$K$5-SUM('In prod (weekly)'!C$3:C23),IF(SUM('In prod (weekly)'!$D$3:D88)>0,$K$5-SUM('In prod (weekly)'!$D$3:D23)/100*$K$5,$K$5))","v":0},{"$f":"IF((General!$J$5>0),B30/$K$5*100, )","v":0},{"v":98.2924226254002,"d":"98.3"},{"$f":"IF(SUM('In prod (weekly)'!G$3:G$68)>0,('In prod (weekly)'!G23)/7/B30*100,IF(SUM('In prod (weekly)'!$H$3:$H$68)>0,('In prod (weekly)'!H23), ))","v":0},93.7,{"$f":"IF('In prod (weekly)'!I23>0,'In prod (weekly)'!I23/'In prod (weekly)'!G23*100,IF('In prod (weekly)'!J23>0,'In prod (weekly)'!J23,R30 ))","v":96},0,85.337,0,{"$f":"IF(ISNUMBER(Q30),7*R30*Q30/10000+K29, )","v":73.71916999999999},{"$f":"IF('In prod (weekly)'!M23>0,'In prod (weekly)'!M23,IF('In prod (weekly)'!K23>0,'In prod (weekly)'!L23/'In prod (weekly)'!K23*100,0))","v":0},42.9,0,{"$f":"IF(ISNUMBER(M30),7*Q30*R30*M30/1000000+O29, )","v":30.572679637499995},0,92.1,96,{"$f":"IF(SUM('In prod (weekly)'!E$3:E$68)>0,$K$6-SUM('In prod (weekly)'!E$3:E23),IF(SUM('In prod (weekly)'!$F$3:F88)>0,$K$6-SUM('In prod (weekly)'!$F$3:F23)/100*$K$6,$K$6))","v":0},{"$f":"IF((General!$J$6>0),S30/$K$6*100, )","v":0},{"v":87.141,"d":"87.1"},{"v":9.36999999999999,"d":"9.4"},{"v":0,"d":"0.0"},{"v":0,"d":"0.0"},{"v":0,"d":"0.0"},{"v":0,"d":"0.0"},{"$f":"H30*General!$J$29","v":0},{"$f":"J30*General!$J$29","v":0},{"$f":"N30*General!$J$29","v":0},{"$nulls":4},16]
[36,{"$f":"IF(SUM('In prod (weekly)'!C$3:C$68)>0,$K$5-SUM('In prod (weekly)'!C$3:C24),IF(SUM('In prod (weekly)'!$D$3:D89)>0,$K$5-SUM('In prod (weekly)'!$D$3:D24)/100*$K$5,$K$5))","v":0},{"$f":"IF((General!$J$5>0),B31/$K$5*100, )","v":0},{"v":98.07692307692308,"d":"98.1"},{"$f":"IF(SUM('In prod (weekly)'!G$3:G$68)>0,('In prod (weekly)'!G24)/7/B31*100,IF(SUM('In prod (weekly)'!$H$3:$H$68)>0,('In prod (weekly)'!H24), ))","v":0},93.6,{"$f":"IF('In prod (weekly)'!I24>0,'In prod (weekly)'!I24/'In prod (weekly)'!G24*100,IF('In prod (weekly)'!J24>0,'In prod (weekly)'!J24,R31 ))","v":96},0,91.763,0,{"$f":"IF(ISNUMBER(Q31),7*R31*Q31/10000+K30, )","v":79.88812999999999},{"$f":"IF('In prod (weekly)'!M24>0,'In prod (weekly)'!M24,IF('In prod (weekly)'!K24>0,'In prod (weekly)'!L24/'In prod (weekly)'!K24*100,0))","v":0},42.9,0,33.2191634775,0,91.8,96,{"$f":"IF(SUM('In prod (weekly)'!E$3:E$68)>0,$K$6-SUM('In prod (weekly)'!E$3:E24),IF(SUM('In prod (weekly)'!$F$3:F89)>0,$K$6-SUM('In prod (weekly)'!$F$3:F24)/100*$K$6,$K$6))","v":0},{"$f":"IF((General!$J$6>0),S31/$K$6*100, )","v":0},{"v":87.04799999999999,"d":"87.0"},{"v":9.36,"d":"9.4"},{"v":0,"d":"0.0"},{"v":0,"d":"0.0"},{"v":0,"d":"0.0"},{"v":0,"d":"0.0"},{"$f":"H31*General!$J$29","v":0},{"$f":"J31*General!$J$29","v":0},{"$f":"N31*General!$J$29","v":0},{"$nulls":4},17]
[37,{"$f":"IF(SUM('In prod (weekly)'!C$3:C$68)>0,$K$5-SUM('In prod (weekly)'!C$3:C25),IF(SUM('In prod (weekly)'!$D$3:D90)>0,$K$5-SUM('In prod (weekly)'!$D$3:D25)/100*$K$5,$K$5))","v":0},{"$f":"IF((General!$J$5>0),B32/$K$5*100, )","v":0},{"v":97.96791443850267,"d":"98.0"},{"$f":"IF(SUM('In prod (weekly)'!G$3:G$68)>0,('In prod (weekly)'!G25)/7/B32*100,IF(SUM('In prod (weekly)'!$H$3:$H$68)>0,('In prod (weekly)'!H25), ))","v":0},93.5,{"$f":"IF('In prod (weekly)'!I25>0,'In prod (weekly)'!I25/'In prod (weekly)'!G25*100,IF('In prod (weekly)'!J25>0,'In prod (weekly)'!J25,R32 ))","v":96},0,98.17500000000001,0,{"$f":"IF(ISNUMBER(Q32),7*R32*Q32/10000+K31, )","v":86.04364999999999},{"$f":"IF('In prod (weekly)'!M25>0,'In prod (weekly)'!M25,IF('In prod (weekly)'!K25>0,'In prod (weekly)'!L25/'In prod (weekly)'!K25*100,0))","v":0},42.9,0,35.859881557499996,0,91.6,96,{"$f":"IF(SUM('In prod (weekly)'!E$3:E$68)>0,$K$6-SUM('In prod (weekly)'!E$3:E25),IF(SUM('In prod (weekly)'!$F$3:F90)>0,$K$6-SUM('In prod (weekly)'!$F$3:F25)/100*$K$6,$K$6))","v":0},{"$f":"IF((General!$J$6>0),S32/$K$6*100, )","v":0},{"v":86.955,"d":"87.0"},{"v":9.350000000000009,"d":"9.4"},{"v":0,"d":"0.0"},{"v":0,"d":"0.0"},{"v":0,"d":"0.0"},{"v":0,"d":"0.0"},{"$f":"H32*General!$J$29","v":0},{"$f":"J32*General!$J$29","v":0},{"$f":"N32*General!$J$29","v":0},{"$nulls":4},18]
[38,{"$f":"IF(SUM('In prod (weekly)'!C$3:C$68)>0,$K$5-SUM('In prod (weekly)'!C$3:C26),IF(SUM('In prod (weekly)'!$D$3:D91)>0,$K$5-SUM('In prod (weekly)'!$D$3:D26)/100*$K$5,$K$5))","v":0},{"$f":"IF((General!$J$5>0),B33/$K$5*100, )","v":0},{"v":97.75160599571734,"d":"97.8"},{"$f":"IF(SUM('In prod (weekly)'!G$3:G$68)>0,('In prod (weekly)'!G26)/7/B33*100,IF(SUM('In prod (weekly)'!$H$3:$H$68)>0,('In prod (weekly)'!H26), ))","v":0},93.4,{"$f":"IF('In prod (weekly)'!I26>0,'In prod (weekly)'!I26/'In prod (weekly)'!G26*100,IF('In prod (weekly)'!J26>0,'In prod (weekly)'!J26,R33 ))","v":96},0,104.56600000000002,0,{"$f":"IF(ISNUMBER(Q33),7*R33*Q33/10000+K32, )","v":92.17900999999999},{"$f":"IF('In prod (weekly)'!M26>0,'In prod (weekly)'!M26,IF('In prod (weekly)'!K26>0,'In prod (weekly)'!L26/'In prod (weekly)'!K26*100,0))","v":0},42.9,0,38.4919509975,0,91.3,96,{"$f":"IF(SUM('In prod (weekly)'!E$3:E$68)>0,$K$6-SUM('In prod (weekly)'!E$3:E26),IF(SUM('In prod (weekly)'!$F$3:F91)>0,$K$6-SUM('In prod (weekly)'!$F$3:F26)/100*$K$6,$K$6))","v":0},{"$f":"IF((General!$J$6>0),S33/$K$6*100, )","v":0},{"v":86.86200000000001,"d":"86.9"},{"v":9.340000000000003,"d":"9.3"},{"v":0,"d":"0.0"},{"v":0,"d":"0.0"},{"v":0,"d":"0.0"},{"v":0,"d":"0.0"},{"$f":"H33*General!$J$29","v":0},{"$f":"J33*General!$J$29","v":0},{"$f":"N33*General!$J$29","v":0},{"$nulls":4},19]
[39,{"$f":"IF(SUM('In prod (weekly)'!C$3:C$68)>0,$K$5-SUM('In prod (weekly)'!C$3:C27),IF(SUM('In prod (weekly)'!$D$3:D92)>0,$K$5-SUM('In prod (weekly)'!$D$3:D27)/100*$K$5,$K$5))","v":0},{"$f":"IF((General!$J$5>0),B34/$K$5*100, )","v":0},{"v":97.64201500535906,"d":"97.6"},{"$f":"IF(SUM('In prod (weekly)'!G$3:G$68)>0,('In prod (weekly)'!G27)/7/B34*100,IF(SUM('In prod (weekly)'!$H$3:$H$68)>0,('In prod (weekly)'!H27), ))","v":0},93.3,{"$f":"IF('In prod (weekly)'!I27>0,'In prod (weekly)'!I27/'In prod (weekly)'!G27*100,IF('In prod (weekly)'!J27>0,'In prod (weekly)'!J27,R34 ))","v":96},0,110.94300000000001,0,{"$f":"IF(ISNUMBER(Q34),7*R34*Q34/10000+K33, )","v":98.30093},{"$f":"IF('In prod (weekly)'!M27>0,'In prod (weekly)'!M27,IF('In prod (weekly)'!K27>0,'In prod (weekly)'!L27/'In prod (weekly)'!K27*100,0))","v":0},42.9,0,41.1182546775,0,91.1,96,{"$f":"IF(SUM('In prod (weekly)'!E$3:E$68)>0,$K$6-SUM('In prod (weekly)'!E$3:E27),IF(SUM('In prod (weekly)'!$F$3:F92)>0,$K$6-SUM('In prod (weekly)'!$F$3:F27)/100*$K$6,$K$6))","v":0},{"$f":"IF((General!$J$6>0),S34/$K$6*100, )","v":0},{"v":86.76899999999999,"d":"86.8"},{"v":9.330000000000013,"d":"9.3"},{"v":0,"d":"0.0"},{"v":0,"d":"0.0"},{"v":0,"d":"0.0"},{"v":0,"d":"0.0"},{"$f":"H34*General!$J$29","v":0},{"$f":"J34*General!$J$29","v":0},{"$f":"N34*General!$J$29","v":0},{"$nulls":4},20]
[40,{"$f":"IF(SUM('In prod (weekly)'!C$3:C$68)>0,$K$5-SUM('In prod (weekly)'!C$3:C28),IF(SUM('In prod (weekly)'!$D$3:D93)>0,$K$5-SUM('In prod (weekly)'!$D$3:D28)/100*$K$5,$K$5))","v":0},{"$f":"IF((General!$J$5>0),B35/$K$5*100, )","v":0},{"v":97.52953813104189,"d":"97.5"},{"$f":"IF(SUM('In prod (weekly)'!G$3:G$68)>0,('In prod (weekly)'!G28)/7/B35*100,IF(SUM('In prod (weekly)'!$H$3:$H$68)>0,('In prod (weekly)'!H28), ))","v":0},93.1,{"$f":"IF('In prod (weekly)'!I28>0,'In prod (weekly)'!I28/'In prod (weekly)'!G28*100,IF('In prod (weekly)'!J28>0,'In prod (weekly)'!J28,R35 ))","v":96},0,117.299,0,{"$f":"IF(ISNUMBER(Q35),7*R35*Q35/10000+K34, )","v":104.40268999999999},{"$f":"IF('In prod (weekly)'!M28>0,'In prod (weekly)'!M28,IF('In prod (weekly)'!K28>0,'In prod (weekly)'!L28/'In prod (weekly)'!K28*100,0))","v":0},42.9,0,43.7359097175,0,90.8,96,{"$f":"IF(SUM('In prod (weekly)'!E$3:E$68)>0,$K$6-SUM('In prod (weekly)'!E$3:E28),IF(SUM('In prod (weekly)'!$F$3:F93)>0,$K$6-SUM('In prod (weekly)'!$F$3:F28)/100*$K$6,$K$6))","v":0},{"$f":"IF((General!$J$6>0),S35/$K$6*100, )","v":0},{"v":86.583,"d":"86.6"},{"v":9.310000000000002,"d":"9.3"},{"v":0,"d":"0.0"},{"v":0,"d":"0.0"},{"v":0,"d":"0.0"},{"v":0,"d":"0.0"},{"$f":"H35*General!$J$29","v":0},{"$f":"J35*General!$J$29","v":0},{"$f":"N35*General!$J$29","v":0},{"$nulls":4},21]
[41,{"$f":"IF(SUM('In prod (weekly)'!C$3:C$68)>0,$K$5-SUM('In prod (weekly)'!C$3:C29),IF(SUM('In prod (weekly)'!$D$3:D94)>0,$K$5-SUM('In prod (weekly)'!$D$3:D29)/100*$K$5,$K$5))","v":0},{"$f":"IF((General!$J$5>0),B36/$K$5*100, )","v":0},{"v":97.30893433799784,"d":"97.3"},{"$f":"IF(SUM('In prod (weekly)'!G$3:G$68)>0,('In prod (weekly)'!G29)/7/B36*100,IF(SUM('In prod (weekly)'!$H$3:$H$68)>0,('In prod (weekly)'!H29), ))","v":0},92.9,{"$f":"IF('In prod (weekly)'!I29>0,'In prod (weekly)'!I29/'In prod (weekly)'!G29*100,IF('In prod (weekly)'!J29>0,'In prod (weekly)'!J29,R36 ))","v":95},0,123.62700000000001,0,{"$f":"IF(ISNUMBER(Q36),7*R36*Q36/10000+K35, )","v":110.41429},{"$f":"IF('In prod (weekly)'!M29>0,'In prod (weekly)'!M29,IF('In prod (weekly)'!K29>0,'In prod (weekly)'!L29/'In prod (weekly)'!K29*100,0))","v":0},42.9,0,46.3148861175,0,90.4,95,{"$f":"IF(SUM('In prod (weekly)'!E$3:E$68)>0,$K$6-SUM('In prod (weekly)'!E$3:E29),IF(SUM('In prod (weekly)'!$F$3:F94)>0,$K$6-SUM('In prod (weekly)'!$F$3:F29)/100*$K$6,$K$6))","v":0},{"$f":"IF((General!$J$6>0),S36/$K$6*100, )","v":0},{"v":86.397,"d":"86.4"},{"v":9.290000000000006,"d":"9.3"},{"v":0,"d":"0.0"},{"v":0,"d":"0.0"},{"v":0,"d":"0.0"},{"v":0,"d":"0.0"},{"$f":"H36*General!$J$29","v":0},{"$f":"J36*General!$J$29","v":0},{"$f":"N36*General!$J$29","v":0},{"$nulls":4},22]
[42,{"$f":"IF(SUM('In prod (weekly)'!C$3:C$68)>0,$K$5-SUM('In prod (weekly)'!C$3:C30),IF(SUM('In prod (weekly)'!$D$3:D95)>0,$K$5-SUM('In prod (weekly)'!$D$3:D30)/100*$K$5,$K$5))","v":0},{"$f":"IF((General!$J$5>0),B37/$K$5*100, )","v":0},{"v":97.0873786407767,"d":"97.1"},{"$f":"IF(SUM('In prod (weekly)'!G$3:G$68)>0,('In prod (weekly)'!G30)/7/B37*100,IF(SUM('In prod (weekly)'!$H$3:$H$68)>0,('In prod (weekly)'!H30), ))","v":0},92.7,{"$f":"IF('In prod (weekly)'!I30>0,'In prod (weekly)'!I30/'In prod (weekly)'!G30*100,IF('In prod (weekly)'!J30>0,'In prod (weekly)'!J30,R37 ))","v":95},0,129.92700000000002,0,{"$f":"IF(ISNUMBER(Q37),7*R37*Q37/10000+K36, )","v":116.39929},{"$f":"IF('In prod (weekly)'!M30>0,'In prod (weekly)'!M30,IF('In prod (weekly)'!K30>0,'In prod (weekly)'!L30/'In prod (weekly)'!K30*100,0))","v":0},42.9,0,48.882451117500004,0,{"v":90,"d":"90.0"},95,{"$f":"IF(SUM('In prod (weekly)'!E$3:E$68)>0,$K$6-SUM('In prod (weekly)'!E$3:E30),IF(SUM('In prod (weekly)'!$F$3:F95)>0,$K$6-SUM('In prod (weekly)'!$F$3:F30)/100*$K$6,$K$6))","v":0},{"$f":"IF((General!$J$6>0),S37/$K$6*100, )","v":0},{"v":86.211,"d":"86.2"},{"v":9.27000000000001,"d":"9.3"},{"v":0,"d":"0.0"},{"v":0,"d":"0.0"},{"v":0,"d":"0.0"},{"v":0,"d":"0.0"},{"$f":"H37*General!$J$29","v":0},{"$f":"J37*General!$J$29","v":0},{"$f":"N37*General!$J$29","v":0},{"$nulls":4},{"$f":"IF(E37=0,\"\",AH36+1)","v":""}]
[43,{"$f":"IF(SUM('In prod (weekly)'!C$3:C$68)>0,$K$5-SUM('In prod (weekly)'!C$3:C31),IF(SUM('In prod (weekly)'!$D$3:D96)>0,$K$5-SUM('In prod (weekly)'!$D$3:D31)/100*$K$5,$K$5))","v":0},{"$f":"IF((General!$J$5>0),B38/$K$5*100, )","v":0},{"v":96.86147186147186,"d":"96.9"},{"$f":"IF(SUM('In prod (weekly)'!G$3:G$68)>0,('In prod (weekly)'!G31)/7/B38*100,IF(SUM('In prod (weekly)'!$H$3:$H$68)>0,('In prod (weekly)'!H31), ))","v":0},92.4,{"$f":"IF('In prod (weekly)'!I31>0,'In prod (weekly)'!I31/'In prod (weekly)'!G31*100,IF('In prod (weekly)'!J31>0,'In prod (weekly)'!J31,R38 ))","v":95},0,136.192,0,{"$f":"IF(ISNUMBER(Q38),7*R38*Q38/10000+K37, )","v":122.35104},{"$f":"IF('In prod (weekly)'!M31>0,'In prod (weekly)'!M31,IF('In prod (weekly)'!K31>0,'In prod (weekly)'!L31/'In prod (weekly)'!K31*100,0))","v":0},42.9,0,51.4357518675,0,89.5,95,{"$f":"IF(SUM('In prod (weekly)'!E$3:E$68)>0,$K$6-SUM('In prod (weekly)'!E$3:E31),IF(SUM('In prod (weekly)'!$F$3:F96)>0,$K$6-SUM('In prod (weekly)'!$F$3:F31)/100*$K$6,$K$6))","v":0},{"$f":"IF((General!$J$6>0),S38/$K$6*100, )","v":0},{"v":85.932,"d":"85.9"},{"v":9.240000000000009,"d":"9.2"},{"v":0,"d":"0.0"},{"v":0,"d":"0.0"},{"v":0,"d":"0.0"},{"v":0,"d":"0.0"},{"$f":"H38*General!$J$29","v":0},{"$f":"J38*General!$J$29","v":0},{"$f":"N38*General!$J$29","v":0},{"$nulls":4},{"$f":"IF(E38=0,\"\",AH37+1)","v":""}]
[44,{"$f":"IF(SUM('In prod (weekly)'!C$3:C$68)>0,$K$5-SUM('In prod (weekly)'!C$3:C32),IF(SUM('In prod (weekly)'!$D$3:D97)>0,$K$5-SUM('In prod (weekly)'!$D$3:D32)/100*$K$5,$K$5))","v":0},{"$f":"IF((General!$J$5>0),B39/$K$5*100, )","v":0},{"v":96.74267100977198,"d":"96.7"},{"$f":"IF(SUM('In prod (weekly)'!G$3:G$68)>0,('In prod (weekly)'!G32)/7/B39*100,IF(SUM('In prod (weekly)'!$H$3:$H$68)>0,('In prod (weekly)'!H32), ))","v":0},92.1,{"$f":"IF('In prod (weekly)'!I32>0,'In prod (weekly)'!I32/'In prod (weekly)'!G32*100,IF('In prod (weekly)'!J32>0,'In prod (weekly)'!J32,R39 ))","v":95},0,142.429,0,{"$f":"IF(ISNUMBER(Q39),7*R39*Q39/10000+K38, )","v":128.27618999999999},{"$f":"IF('In prod (weekly)'!M32>0,'In prod (weekly)'!M32,IF('In prod (weekly)'!K32>0,'In prod (weekly)'!L32/'In prod (weekly)'!K32*100,0))","v":0},42.9,0,53.9776412175,0,{"v":89.09999999999998,"d":"89.1"},95,{"$f":"IF(SUM('In prod (weekly)'!E$3:E$68)>0,$K$6-SUM('In prod (weekly)'!E$3:E32),IF(SUM('In prod (weekly)'!$F$3:F97)>0,$K$6-SUM('In prod (weekly)'!$F$3:F32)/100*$K$6,$K$6))","v":0},{"$f":"IF((General!$J$6>0),S39/$K$6*100, )","v":0},{"v":85.65299999999999,"d":"85.7"},{"v":9.210000000000008,"d":"9.2"},{"v":0,"d":"0.0"},{"v":0,"d":"0.0"},{"v":0,"d":"0.0"},{"v":0,"d":"0.0"},{"$f":"H39*General!$J$29","v":0},{"$f":"J39*General!$J$29","v":0},{"$f":"N39*General!$J$29","v":0},{"$nulls":4},{"$f":"IF(E39=0,\"\",AH38+1)","v":""}]
[45,{"$f":"IF(SUM('In prod (weekly)'!C$3:C$68)>0,$K$5-SUM('In prod (weekly)'!C$3:C33),IF(SUM('In prod (weekly)'!$D$3:D98)>0,$K$5-SUM('In prod (weekly)'!$D$3:D33)/100*$K$5,$K$5))","v":0},{"$f":"IF((General!$J$5>0),B40/$K$5*100, )","v":0},{"v":96.51416122004358,"d":"96.5"},{"$f":"IF(SUM('In prod (weekly)'!G$3:G$68)>0,('In prod (weekly)'!G33)/7/B40*100,IF(SUM('In prod (weekly)'!$H$3:$H$68)>0,('In prod (weekly)'!H33), ))","v":0},91.8,{"$f":"IF('In prod (weekly)'!I33>0,'In prod (weekly)'!I33/'In prod (weekly)'!G33*100,IF('In prod (weekly)'!J33>0,'In prod (weekly)'!J33,R40 ))","v":95},0,148.631,0,{"$f":"IF(ISNUMBER(Q40),7*R40*Q40/10000+K39, )","v":134.16808999999998},{"$f":"IF('In prod (weekly)'!M33>0,'In prod (weekly)'!M33,IF('In prod (weekly)'!K33>0,'In prod (weekly)'!L33/'In prod (weekly)'!K33*100,0))","v":0},42.4125,0,56.476543305,0,88.6,95,{"$f":"IF(SUM('In prod (weekly)'!E$3:E$68)>0,$K$6-SUM('In prod (weekly)'!E$3:E33),IF(SUM('In prod (weekly)'!$F$3:F98)>0,$K$6-SUM('In prod (weekly)'!$F$3:F33)/100*$K$6,$K$6))","v":0},{"$f":"IF((General!$J$6>0),S40/$K$6*100, )","v":0},{"v":85.374,"d":"85.4"},{"v":9.180000000000007,"d":"9.2"},{"v":0,"d":"0.0"},{"v":0,"d":"0.0"},{"v":0,"d":"0.0"},{"v":0,"d":"0.0"},{"$f":"H40*General!$J$29","v":0},{"$f":"J40*General!$J$29","v":0},{"$f":"N40*General!$J$29","v":0},{"$nulls":4},""]
[46,{"$f":"IF(SUM('In prod (weekly)'!C$3:C$68)>0,$K$5-SUM('In prod (weekly)'!C$3:C34),IF(SUM('In prod (weekly)'!$D$3:D99)>0,$K$5-SUM('In prod (weekly)'!$D$3:D34)/100*$K$5,$K$5))","v":0},{"$f":"IF((General!$J$5>0),B41/$K$5*100, )","v":0},{"v":96.28415300546447,"d":"96.3"},{"$f":"IF(SUM('In prod (weekly)'!G$3:G$68)>0,('In prod (weekly)'!G34)/7/B41*100,IF(SUM('In prod (weekly)'!$H$3:$H$68)>0,('In prod (weekly)'!H34), ))","v":0},91.5,{"$f":"IF('In prod (weekly)'!I34>0,'In prod (weekly)'!I34/'In prod (weekly)'!G34*100,IF('In prod (weekly)'!J34>0,'In prod (weekly)'!J34,R41 ))","v":95},0,154.798,0,{"$f":"IF(ISNUMBER(Q41),7*R41*Q41/10000+K40, )","v":140.02674},{"$f":"IF('In prod (weekly)'!M34>0,'In prod (weekly)'!M34,IF('In prod (weekly)'!K34>0,'In prod (weekly)'!L34/'In prod (weekly)'!K34*100,0))","v":0},42.4125,0,58.96134323625,0,88.1,95,{"$f":"IF(SUM('In prod (weekly)'!E$3:E$68)>0,$K$6-SUM('In prod (weekly)'!E$3:E34),IF(SUM('In prod (weekly)'!$F$3:F99)>0,$K$6-SUM('In prod (weekly)'!$F$3:F34)/100*$K$6,$K$6))","v":0},{"$f":"IF((General!$J$6>0),S41/$K$6*100, )","v":0},{"v":85.095,"d":"85.1"},{"v":9.150000000000006,"d":"9.2"},{"v":0,"d":"0.0"},{"v":0,"d":"0.0"},{"v":0,"d":"0.0"},{"v":0,"d":"0.0"},{"$f":"H41*General!$J$29","v":0},{"$f":"J41*General!$J$29","v":0},{"$f":"N41*General!$J$29","v":0},{"$nulls":4},""]
[47,{"$f":"IF(SUM('In prod (weekly)'!C$3:C$68)>0,$K$5-SUM('In prod (weekly)'!C$3:C35),IF(SUM('In prod (weekly)'!$D$3:D100)>0,$K$5-SUM('In prod (weekly)'!$D$3:D35)/100*$K$5,$K$5))","v":0},{"$f":"IF((General!$J$5>0),B42/$K$5*100, )","v":0},{"v":96.05263157894736,"d":"96.1"},{"$f":"IF(SUM('In prod (weekly)'!G$3:G$68)>0,('In prod (weekly)'!G35)/7/B42*100,IF(SUM('In prod (weekly)'!$H$3:$H$68)>0,('In prod (weekly)'!H35), ))","v":0},91.2,{"$f":"IF('In prod (weekly)'!I35>0,'In prod (weekly)'!I35/'In prod (weekly)'!G35*100,IF('In prod (weekly)'!J35>0,'In prod (weekly)'!J35,R42 ))","v":95},0,160.93,0,{"$f":"IF(ISNUMBER(Q42),7*R42*Q42/10000+K41, )","v":145.85214},{"$f":"IF('In prod (weekly)'!M35>0,'In prod (weekly)'!M35,IF('In prod (weekly)'!K35>0,'In prod (weekly)'!L35/'In prod (weekly)'!K35*100,0))","v":0},41.925,0,61.40364218625,0,{"$f":"IF(ISNUMBER(F42),F42*D42/100,\"\")","v":87.6},95,{"$f":"IF(SUM('In prod (weekly)'!E$3:E$68)>0,$K$6-SUM('In prod (weekly)'!E$3:E35),IF(SUM('In prod (weekly)'!$F$3:F100)>0,$K$6-SUM('In prod (weekly)'!$F$3:F35)/100*$K$6,$K$6))","v":0},{"$f":"IF((General!$J$6>0),S42/$K$6*100, )","v":0},{"v":84.816,"d":"84.8"},{"v":9.120000000000005,"d":"9.1"},{"v":0,"d":"0.0"},{"v":0,"d":"0.0"},{"v":0,"d":"0.0"},{"v":0,"d":"0.0"},{"$f":"H42*General!$J$29","v":0},{"$f":"J42*General!$J$29","v":0},{"$f":"N42*General!$J$29","v":0},{"$nulls":4},""]
[48,{"$f":"IF(SUM('In prod (weekly)'!C$3:C$68)>0,$K$5-SUM('In prod (weekly)'!C$3:C36),IF(SUM('In prod (weekly)'!$D$3:D101)>0,$K$5-SUM('In prod (weekly)'!$D$3:D36)/100*$K$5,$K$5))","v":0},{"$f":"IF((General!$J$5>0),B43/$K$5*100, )","v":0},{"v":95.81497797356829,"d":"95.8"},{"$f":"IF(SUM('In prod (weekly)'!G$3:G$68)>0,('In prod (weekly)'!G36)/7/B43*100,IF(SUM('In prod (weekly)'!$H$3:$H$68)>0,('In prod (weekly)'!H36), ))","v":0},90.8,{"$f":"IF('In prod (weekly)'!I36>0,'In prod (weekly)'!I36/'In prod (weekly)'!G36*100,IF('In prod (weekly)'!J36>0,'In prod (weekly)'!J36,R43 ))","v":95},{"$f":"7*P43/100+H42","v":0},{"$f":"IF(ISNUMBER(Q43),7*Q43/100+I42, )","v":167.02},0,{"$f":"IF(ISNUMBER(Q43),7*R43*Q43/10000+K42, )","v":151.63764},{"$f":"IF('In prod (weekly)'!M36>0,'In prod (weekly)'!M36,IF('In prod (weekly)'!K36>0,'In prod (weekly)'!L36/'In prod (weekly)'!K36*100,0))","v":0},41.925,{"$f":"7*P43*G43*L43/1000000+N42","v":0},63.82921306125,0,{"v":87,"d":"87.0"},95,{"$f":"IF(SUM('In prod (weekly)'!E$3:E$68)>0,$K$6-SUM('In prod (weekly)'!E$3:E36),IF(SUM('In prod (weekly)'!$F$3:F101)>0,$K$6-SUM('In prod (weekly)'!$F$3:F36)/100*$K$6,$K$6))","v":0},{"$f":"IF((General!$J$6>0),S43/$K$6*100, )","v":0},{"v":84.444,"d":"84.4"},{"v":9.079999999999998,"d":"9.1"},{"v":0,"d":"0.0"},{"v":0,"d":"0.0"},{"v":0,"d":"0.0"},{"v":0,"d":"0.0"},{"$f":"H43*General!$J$29","v":0},{"$f":"J43*General!$J$29","v":0},{"$f":"N43*General!$J$29","v":0},{"$nulls":4},""]
[49,{"$f":"IF(SUM('In prod (weekly)'!C$3:C$68)>0,$K$5-SUM('In prod (weekly)'!C$3:C37),IF(SUM('In prod (weekly)'!$D$3:D102)>0,$K$5-SUM('In prod (weekly)'!$D$3:D37)/100*$K$5,$K$5))","v":0},{"$f":"IF((General!$J$5>0),B44/$K$5*100, )","v":0},{"v":95.57522123893806,"d":"95.6"},{"$f":"IF(SUM('In prod (weekly)'!G$3:G$68)>0,('In prod (weekly)'!G37)/7/B44*100,IF(SUM('In prod (weekly)'!$H$3:$H$68)>0,('In prod (weekly)'!H37), ))","v":0},90.4,{"$f":"IF('In prod (weekly)'!I37>0,'In prod (weekly)'!I37/'In prod (weekly)'!G37*100,IF('In prod (weekly)'!J37>0,'In prod (weekly)'!J37,R44 ))","v":95},0,173.068,0,{"$f":"IF(ISNUMBER(Q44),7*R44*Q44/10000+K43, )","v":157.38324},{"$f":"IF('In prod (weekly)'!M37>0,'In prod (weekly)'!M37,IF('In prod (weekly)'!K37>0,'In prod (weekly)'!L37/'In prod (weekly)'!K37*100,0))","v":0},41.4375,0,66.21004606125,0,86.4,95,{"$f":"IF(SUM('In prod (weekly)'!E$3:E$68)>0,$K$6-SUM('In prod (weekly)'!E$3:E37),IF(SUM('In prod (weekly)'!$F$3:F102)>0,$K$6-SUM('In prod (weekly)'!$F$3:F37)/100*$K$6,$K$6))","v":0},{"$f":"IF((General!$J$6>0),S44/$K$6*100, )","v":0},{"v":84.072,"d":"84.1"},{"v":9.040000000000006,"d":"9.0"},{"$f":"IF(H44>H43,I44,W43)","v":{"v":0,"d":"0.0"}},{"$f":"IF(N44>N43,O44,X43)","v":{"v":0,"d":"0.0"}},{"$f":"IF(C44<C43,D44,Y43)","v":{"v":0,"d":"0.0"}},{"v":0,"d":"0.0"},{"$f":"H44*General!$J$29","v":0},{"$f":"J44*General!$J$29","v":0},{"$f":"N44*General!$J$29","v":0},{"$nulls":4},""]
[50,{"$f":"IF(SUM('In prod (weekly)'!C$3:C$68)>0,$K$5-SUM('In prod (weekly)'!C$3:C38),IF(SUM('In prod (weekly)'!$D$3:D103)>0,$K$5-SUM('In prod (weekly)'!$D$3:D38)/100*$K$5,$K$5))","v":0},{"$f":"IF((General!$J$5>0),B45/$K$5*100, )","v":0},{"v":95.32814238042269,"d":"95.3"},{"$f":"IF(SUM('In prod (weekly)'!G$3:G$68)>0,('In prod (weekly)'!G38)/7/B45*100,IF(SUM('In prod (weekly)'!$H$3:$H$68)>0,('In prod (weekly)'!H38), ))","v":0},89.9,{"$f":"IF('In prod (weekly)'!I38>0,'In prod (weekly)'!I38/'In prod (weekly)'!G38*100,IF('In prod (weekly)'!J38>0,'In prod (weekly)'!J38,R45 ))","v":95},0,179.067,0,{"$f":"IF(ISNUMBER(Q45),7*R45*Q45/10000+K44, )","v":163.08229},{"$f":"IF('In prod (weekly)'!M38>0,'In prod (weekly)'!M38,IF('In prod (weekly)'!K38>0,'In prod (weekly)'!L38/'In prod (weekly)'!K38*100,0))","v":0},41.4375,0,68.571589905,0,85.7,95,{"$f":"IF(SUM('In prod (weekly)'!E$3:E$68)>0,$K$6-SUM('In prod (weekly)'!E$3:E38),IF(SUM('In prod (weekly)'!$F$3:F103)>0,$K$6-SUM('In prod (weekly)'!$F$3:F38)/100*$K$6,$K$6))","v":0},{"$f":"IF((General!$J$6>0),S45/$K$6*100, )","v":0},{"v":83.607,"d":"83.6"},{"v":8.990000000000009,"d":"9.0"},{"v":0,"d":"0.0"},{"v":0,"d":"0.0"},{"v":0,"d":"0.0"},{"v":0,"d":"0.0"},{"$f":"H45*General!$J$29","v":0},{"$f":"J45*General!$J$29","v":0},{"$f":"N45*General!$J$29","v":0},{"$nulls":4},""]
[51,{"$f":"IF(SUM('In prod (weekly)'!C$3:C$68)>0,$K$5-SUM('In prod (weekly)'!C$3:C39),IF(SUM('In prod (weekly)'!$D$3:D104)>0,$K$5-SUM('In prod (weekly)'!$D$3:D39)/100*$K$5,$K$5))","v":0},{"$f":"IF((General!$J$5>0),B46/$K$5*100, )","v":0},{"v":95.07829977628634,"d":"95.1"},{"$f":"IF(SUM('In prod (weekly)'!G$3:G$68)>0,('In prod (weekly)'!G39)/7/B46*100,IF(SUM('In prod (weekly)'!$H$3:$H$68)>0,('In prod (weekly)'!H39), ))","v":0},89.4,{"$f":"IF('In prod (weekly)'!I39>0,'In prod (weekly)'!I39/'In prod (weekly)'!G39*100,IF('In prod (weekly)'!J39>0,'In prod (weekly)'!J39,R46 ))","v":94},0,185.017,0,{"$f":"IF(ISNUMBER(Q46),7*R46*Q46/10000+K45, )","v":168.67529},{"$f":"IF('In prod (weekly)'!M39>0,'In prod (weekly)'!M39,IF('In prod (weekly)'!K39>0,'In prod (weekly)'!L39/'In prod (weekly)'!K39*100,0))","v":0},40.95,0,{"$f":"IF(ISNUMBER(M46),7*Q46*R46*M46/1000000+O45, )","v":70.861923405},0,{"v":85,"d":"85.0"},94,{"$f":"IF(SUM('In prod (weekly)'!E$3:E$68)>0,$K$6-SUM('In prod (weekly)'!E$3:E39),IF(SUM('In prod (weekly)'!$F$3:F104)>0,$K$6-SUM('In prod (weekly)'!$F$3:F39)/100*$K$6,$K$6))","v":0},{"$f":"IF((General!$J$6>0),S46/$K$6*100, )","v":0},{"v":83.14200000000001,"d":"83.1"},{"v":8.939999999999998,"d":"8.9"},{"v":0,"d":"0.0"},{"v":0,"d":"0.0"},{"v":0,"d":"0.0"},{"v":0,"d":"0.0"},{"$f":"H46*General!$J$29","v":0},{"$f":"J46*General!$J$29","v":0},{"$f":"N46*General!$J$29","v":0},{"$nulls":4},""]
[52,{"$f":"IF(SUM('In prod (weekly)'!C$3:C$68)>0,$K$5-SUM('In prod (weekly)'!C$3:C40),IF(SUM('In prod (weekly)'!$D$3:D105)>0,$K$5-SUM('In prod (weekly)'!$D$3:D40)/100*$K$5,$K$5))","v":0},{"$f":"IF((General!$J$5>0),B47/$K$5*100, )","v":0},{"v":94.82564679415071,"d":"94.8"},{"$f":"IF(SUM('In prod (weekly)'!G$3:G$68)>0,('In prod (weekly)'!G40)/7/B47*100,IF(SUM('In prod (weekly)'!$H$3:$H$68)>0,('In prod (weekly)'!H40), ))","v":0},88.9,{"$f":"IF('In prod (weekly)'!I40>0,'In prod (weekly)'!I40/'In prod (weekly)'!G40*100,IF('In prod (weekly)'!J40>0,'In prod (weekly)'!J40,R47 ))","v":94},0,190.918,0,{"$f":"IF(ISNUMBER(Q47),7*R47*Q47/10000+K46, )","v":174.22223},{"$f":"IF('In prod (weekly)'!M40>0,'In prod (weekly)'!M40,IF('In prod (weekly)'!K40>0,'In prod (weekly)'!L40/'In prod (weekly)'!K40*100,0))","v":0},40.4625,0,73.1063540025,0,{"v":84.29999999999998,"d":"84.3"},94,{"$f":"IF(SUM('In prod (weekly)'!E$3:E$68)>0,$K$6-SUM('In prod (weekly)'!E$3:E40),IF(SUM('In prod (weekly)'!$F$3:F105)>0,$K$6-SUM('In prod (weekly)'!$F$3:F40)/100*$K$6,$K$6))","v":0},{"$f":"IF((General!$J$6>0),S47/$K$6*100, )","v":0},{"$f":"F47-F47*0.07","v":{"v":82.677,"d":"82.7"}},{"$f":"F47+F47*0.03-U47","v":{"v":8.89,"d":"8.9"}},{"v":0,"d":"0.0"},{"v":0,"d":"0.0"},{"v":0,"d":"0.0"},{"v":0,"d":"0.0"},{"$f":"H47*General!$J$29","v":0},{"$f":"J47*General!$J$29","v":0},{"$f":"N47*General!$J$29","v":0},{"$nulls":4},""]
[53,{"$f":"IF(SUM('In prod (weekly)'!C$3:C$68)>0,$K$5-SUM('In prod (weekly)'!C$3:C41),IF(SUM('In prod (weekly)'!$D$3:D106)>0,$K$5-SUM('In prod (weekly)'!$D$3:D41)/100*$K$5,$K$5))","v":0},{"$f":"IF((General!$J$5>0),B48/$K$5*100, )","v":0},{"v":94.57013574660633,"d":"94.6"},{"$f":"IF(SUM('In prod (weekly)'!G$3:G$68)>0,('In prod (weekly)'!G41)/7/B48*100,IF(SUM('In prod (weekly)'!$H$3:$H$68)>0,('In prod (weekly)'!H41), ))","v":0},88.4,{"$f":"IF('In prod (weekly)'!I41>0,'In prod (weekly)'!I41/'In prod (weekly)'!G41*100,IF('In prod (weekly)'!J41>0,'In prod (weekly)'!J41,R48 ))","v":94},0,196.77,0,{"$f":"IF(ISNUMBER(Q48),7*R48*Q48/10000+K47, )","v":179.72311},{"$f":"IF('In prod (weekly)'!M41>0,'In prod (weekly)'!M41,IF('In prod (weekly)'!K41>0,'In prod (weekly)'!L41/'In prod (weekly)'!K41*100,0))","v":0},39.975,0,75.3053307825,0,83.6,94,{"$f":"IF(SUM('In prod (weekly)'!E$3:E$68)>0,$K$6-SUM('In prod (weekly)'!E$3:E41),IF(SUM('In prod (weekly)'!$F$3:F106)>0,$K$6-SUM('In prod (weekly)'!$F$3:F41)/100*$K$6,$K$6))","v":0},{"$f":"IF((General!$J$6>0),S48/$K$6*100, )","v":0},{"v":82.212,"d":"82.2"},{"v":8.840000000000003,"d":"8.8"},{"v":0,"d":"0.0"},{"v":0,"d":"0.0"},{"v":0,"d":"0.0"},{"v":0,"d":"0.0"},{"$f":"H48*General!$J$29","v":0},{"$f":"J48*General!$J$29","v":0},{"$f":"N48*General!$J$29","v":0},{"$nulls":4},""]
[54,{"$f":"IF(SUM('In prod (weekly)'!C$3:C$68)>0,$K$5-SUM('In prod (weekly)'!C$3:C42),IF(SUM('In prod (weekly)'!$D$3:D107)>0,$K$5-SUM('In prod (weekly)'!$D$3:D42)/100*$K$5,$K$5))","v":0},{"$f":"IF((General!$J$5>0),B49/$K$5*100, )","v":0},{"v":94.3117178612059,"d":"94.3"},{"$f":"IF(SUM('In prod (weekly)'!G$3:G$68)>0,('In prod (weekly)'!G42)/7/B49*100,IF(SUM('In prod (weekly)'!$H$3:$H$68)>0,('In prod (weekly)'!H42), ))","v":0},87.9,{"$f":"IF('In prod (weekly)'!I42>0,'In prod (weekly)'!I42/'In prod (weekly)'!G42*100,IF('In prod (weekly)'!J42>0,'In prod (weekly)'!J42,R49 ))","v":94},0,202.573,0,{"$f":"IF(ISNUMBER(Q49),7*R49*Q49/10000+K48, )","v":185.17793},{"$f":"IF('In prod (weekly)'!M42>0,'In prod (weekly)'!M42,IF('In prod (weekly)'!K42>0,'In prod (weekly)'!L42/'In prod (weekly)'!K42*100,0))","v":0},39,0,77.4327105825,0,82.9,94,{"$f":"IF(SUM('In prod (weekly)'!E$3:E$68)>0,$K$6-SUM('In prod (weekly)'!E$3:E42),IF(SUM('In prod (weekly)'!$F$3:F107)>0,$K$6-SUM('In prod (weekly)'!$F$3:F42)/100*$K$6,$K$6))","v":0},{"$f":"IF((General!$J$6>0),S49/$K$6*100, )","v":0},{"v":81.747,"d":"81.7"},{"v":8.790000000000006,"d":"8.8"},{"v":0,"d":"0.0"},{"v":0,"d":"0.0"},{"v":0,"d":"0.0"},{"v":0,"d":"0.0"},{"$f":"H49*General!$J$29","v":0},{"$f":"J49*General!$J$29","v":0},{"$f":"N49*General!$J$29","v":0},{"$nulls":4},""]
[55,{"$f":"IF(SUM('In prod (weekly)'!C$3:C$68)>0,$K$5-SUM('In prod (weekly)'!C$3:C43),IF(SUM('In prod (weekly)'!$D$3:D108)>0,$K$5-SUM('In prod (weekly)'!$D$3:D43)/100*$K$5,$K$5))","v":0},{"$f":"IF((General!$J$5>0),B50/$K$5*100, )","v":0},{"v":94.04352806414661,"d":"94.0"},{"$f":"IF(SUM('In prod (weekly)'!G$3:G$68)>0,('In prod (weekly)'!G43)/7/B50*100,IF(SUM('In prod (weekly)'!$H$3:$H$68)>0,('In prod (weekly)'!H43), ))","v":0},87.3,{"$f":"IF('In prod (weekly)'!I43>0,'In prod (weekly)'!I43/'In prod (weekly)'!G43*100,IF('In prod (weekly)'!J43>0,'In prod (weekly)'!J43,R50 ))","v":94},0,208.32,0,{"$f":"IF(ISNUMBER(Q50),7*R50*Q50/10000+K49, )","v":190.58011},{"$f":"IF('In prod (weekly)'!M43>0,'In prod (weekly)'!M43,IF('In prod (weekly)'!K43>0,'In prod (weekly)'!L43/'In prod (weekly)'!K43*100,0))","v":0},39,0,79.53956078249999,0,82.1,94,{"$f":"IF(SUM('In prod (weekly)'!E$3:E$68)>0,$K$6-SUM('In prod (weekly)'!E$3:E43),IF(SUM('In prod (weekly)'!$F$3:F108)>0,$K$6-SUM('In prod (weekly)'!$F$3:F43)/100*$K$6,$K$6))","v":0},{"$f":"IF((General!$J$6>0),S50/$K$6*100, )","v":0},{"v":81.189,"d":"81.2"},{"v":8.730000000000004,"d":"8.7"},{"v":0,"d":"0.0"},{"v":0,"d":"0.0"},{"v":0,"d":"0.0"},{"v":0,"d":"0.0"},{"$f":"H50*General!$J$29","v":0},{"$f":"J50*General!$J$29","v":0},{"$f":"N50*General!$J$29","v":0},{"$nulls":4},""]
[56,{"$f":"IF(SUM('In prod (weekly)'!C$3:C$68)>0,$K$5-SUM('In prod (weekly)'!C$3:C44),IF(SUM('In prod (weekly)'!$D$3:D109)>0,$K$5-SUM('In prod (weekly)'!$D$3:D44)/100*$K$5,$K$5))","v":0},{"$f":"IF((General!$J$5>0),B51/$K$5*100, )","v":0},{"v":93.88696655132641,"d":"93.9"},{"$f":"IF(SUM('In prod (weekly)'!G$3:G$68)>0,('In prod (weekly)'!G44)/7/B51*100,IF(SUM('In prod (weekly)'!$H$3:$H$68)>0,('In prod (weekly)'!H44), ))","v":0},86.7,{"$f":"IF('In prod (weekly)'!I44>0,'In prod (weekly)'!I44/'In prod (weekly)'!G44*100,IF('In prod (weekly)'!J44>0,'In prod (weekly)'!J44,R51 ))","v":94},0,214.018,0,{"$f":"IF(ISNUMBER(Q51),7*R51*Q51/10000+K50, )","v":195.93623},{"$f":"IF('In prod (weekly)'!M44>0,'In prod (weekly)'!M44,IF('In prod (weekly)'!K44>0,'In prod (weekly)'!L44/'In prod (weekly)'!K44*100,0))","v":0},39,0,81.62844758249999,0,81.4,94,{"$f":"IF(SUM('In prod (weekly)'!E$3:E$68)>0,$K$6-SUM('In prod (weekly)'!E$3:E44),IF(SUM('In prod (weekly)'!$F$3:F109)>0,$K$6-SUM('In prod (weekly)'!$F$3:F44)/100*$K$6,$K$6))","v":0},{"$f":"IF((General!$J$6>0),S51/$K$6*100, )","v":0},{"v":80.631,"d":"80.6"},{"v":8.670000000000002,"d":"8.7"},{"v":0,"d":"0.0"},{"v":0,"d":"0.0"},{"v":0,"d":"0.0"},{"v":0,"d":"0.0"},{"$f":"H51*General!$J$29","v":0},{"$f":"J51*General!$J$29","v":0},{"$f":"N51*General!$J$29","v":0},{"$nulls":4},""]
[57,{"$f":"IF(SUM('In prod (weekly)'!C$3:C$68)>0,$K$5-SUM('In prod (weekly)'!C$3:C45),IF(SUM('In prod (weekly)'!$D$3:D110)>0,$K$5-SUM('In prod (weekly)'!$D$3:D45)/100*$K$5,$K$5))","v":0},{"$f":"IF((General!$J$5>0),B52/$K$5*100, )","v":0},{"v":93.61207897793264,"d":"93.6"},{"$f":"IF(SUM('In prod (weekly)'!G$3:G$68)>0,('In prod (weekly)'!G45)/7/B52*100,IF(SUM('In prod (weekly)'!$H$3:$H$68)>0,('In prod (weekly)'!H45), ))","v":0},86.1,{"$f":"IF('In prod (weekly)'!I45>0,'In prod (weekly)'!I45/'In prod (weekly)'!G45*100,IF('In prod (weekly)'!J45>0,'In prod (weekly)'!J45,R52 ))","v":94},0,219.66,0,{"$f":"IF(ISNUMBER(Q52),7*R52*Q52/10000+K51, )","v":201.23971},{"$f":"IF('In prod (weekly)'!M45>0,'In prod (weekly)'!M45,IF('In prod (weekly)'!K45>0,'In prod (weekly)'!L45/'In prod (weekly)'!K45*100,0))","v":0},39,0,83.69680478249998,0,80.6,94,{"$f":"IF(SUM('In prod (weekly)'!E$3:E$68)>0,$K$6-SUM('In prod (weekly)'!E$3:E45),IF(SUM('In prod (weekly)'!$F$3:F110)>0,$K$6-SUM('In prod (weekly)'!$F$3:F45)/100*$K$6,$K$6))","v":0},{"$f":"IF((General!$J$6>0),S52/$K$6*100, )","v":0},{"v":80.073,"d":"80.1"},{"v":8.61,"d":"8.6"},{"v":0,"d":"0.0"},{"v":0,"d":"0.0"},{"v":0,"d":"0.0"},{"v":0,"d":"0.0"},{"$f":"H52*General!$J$29","v":0},{"$f":"J52*General!$J$29","v":0},{"$f":"N52*General!$J$29","v":0},{"$nulls":4},""]
[58,{"$f":"IF(SUM('In prod (weekly)'!C$3:C$68)>0,$K$5-SUM('In prod (weekly)'!C$3:C46),IF(SUM('In prod (weekly)'!$D$3:D111)>0,$K$5-SUM('In prod (weekly)'!$D$3:D46)/100*$K$5,$K$5))","v":0},{"$f":"IF((General!$J$5>0),B53/$K$5*100, )","v":0},{"v":93.33333333333333,"d":"93.3"},{"$f":"IF(SUM('In prod (weekly)'!G$3:G$68)>0,('In prod (weekly)'!G46)/7/B53*100,IF(SUM('In prod (weekly)'!$H$3:$H$68)>0,('In prod (weekly)'!H46), ))","v":0},85.5,{"$f":"IF('In prod (weekly)'!I46>0,'In prod (weekly)'!I46/'In prod (weekly)'!G46*100,IF('In prod (weekly)'!J46>0,'In prod (weekly)'!J46,R53 ))","v":93},0,225.246,0,{"$f":"IF(ISNUMBER(Q53),7*R53*Q53/10000+K52, )","v":206.43469},{"$f":"IF('In prod (weekly)'!M46>0,'In prod (weekly)'!M46,IF('In prod (weekly)'!K46>0,'In prod (weekly)'!L46/'In prod (weekly)'!K46*100,0))","v":0},39,0,85.72284698249999,0,79.8,93,{"$f":"IF(SUM('In prod (weekly)'!E$3:E$68)>0,$K$6-SUM('In prod (weekly)'!E$3:E46),IF(SUM('In prod (weekly)'!$F$3:F111)>0,$K$6-SUM('In prod (weekly)'!$F$3:F46)/100*$K$6,$K$6))","v":0},{"$f":"IF((General!$J$6>0),S53/$K$6*100, )","v":0},{"v":79.515,"d":"79.5"},{"v":8.549999999999997,"d":"8.6"},{"v":0,"d":"0.0"},{"v":0,"d":"0.0"},{"v":0,"d":"0.0"},{"v":0,"d":"0.0"},{"$f":"H53*General!$J$29","v":0},{"$f":"J53*General!$J$29","v":0},{"$f":"N53*General!$J$29","v":0},{"$nulls":4},""]
[59,{"$f":"IF(SUM('In prod (weekly)'!C$3:C$68)>0,$K$5-SUM('In prod (weekly)'!C$3:C47),IF(SUM('In prod (weekly)'!$D$3:D112)>0,$K$5-SUM('In prod (weekly)'!$D$3:D47)/100*$K$5,$K$5))","v":0},{"$f":"IF((General!$J$5>0),B54/$K$5*100, )","v":0},{"v":93.05064782096579,"d":"93.1"},{"$f":"IF(SUM('In prod (weekly)'!G$3:G$68)>0,('In prod (weekly)'!G47)/7/B54*100,IF(SUM('In prod (weekly)'!$H$3:$H$68)>0,('In prod (weekly)'!H47), ))","v":0},{"v":84.90000000000005,"d":"84.9"},{"$f":"IF('In prod (weekly)'!I47>0,'In prod (weekly)'!I47/'In prod (weekly)'!G47*100,IF('In prod (weekly)'!J47>0,'In prod (weekly)'!J47,R54 ))","v":93},0,230.776,0,{"$f":"IF(ISNUMBER(Q54),7*R54*Q54/10000+K53, )","v":211.57759},{"$f":"IF('In prod (weekly)'!M47>0,'In prod (weekly)'!M47,IF('In prod (weekly)'!K47>0,'In prod (weekly)'!L47/'In prod (weekly)'!K47*100,0))","v":0},39,0,87.72857798249998,0,{"v":79,"d":"79.0"},93,{"$f":"IF(SUM('In prod (weekly)'!E$3:E$68)>0,$K$6-SUM('In prod (weekly)'!E$3:E47),IF(SUM('In prod (weekly)'!$F$3:F112)>0,$K$6-SUM('In prod (weekly)'!$F$3:F47)/100*$K$6,$K$6))","v":0},{"$f":"IF((General!$J$6>0),S54/$K$6*100, )","v":0},{"v":78.95700000000005,"d":"79.0"},{"v":8.489999999999995,"d":"8.5"},{"v":0,"d":"0.0"},{"v":0,"d":"0.0"},{"v":0,"d":"0.0"},{"v":0,"d":"0.0"},{"$f":"H54*General!$J$29","v":0},{"$f":"J54*General!$J$29","v":0},{"$f":"N54*General!$J$29","v":0},{"$nulls":4},""]
[60,{"$f":"IF(SUM('In prod (weekly)'!C$3:C$68)>0,$K$5-SUM('In prod (weekly)'!C$3:C48),IF(SUM('In prod (weekly)'!$D$3:D113)>0,$K$5-SUM('In prod (weekly)'!$D$3:D48)/100*$K$5,$K$5))","v":0},{"$f":"IF((General!$J$5>0),B55/$K$5*100, )","v":0},{"v":92.88256227758,"d":"92.9"},{"$f":"IF(SUM('In prod (weekly)'!G$3:G$68)>0,('In prod (weekly)'!G48)/7/B55*100,IF(SUM('In prod (weekly)'!$H$3:$H$68)>0,('In prod (weekly)'!H48), ))","v":0},{"v":84.30000000000005,"d":"84.3"},{"$f":"IF('In prod (weekly)'!I48>0,'In prod (weekly)'!I48/'In prod (weekly)'!G48*100,IF('In prod (weekly)'!J48>0,'In prod (weekly)'!J48,R55 ))","v":92},0,236.257,0,{"$f":"IF(ISNUMBER(Q55),7*R55*Q55/10000+K54, )","v":216.62010999999998},{"$f":"IF('In prod (weekly)'!M48>0,'In prod (weekly)'!M48,IF('In prod (weekly)'!K48>0,'In prod (weekly)'!L48/'In prod (weekly)'!K48*100,0))","v":0},39,0,89.69516078249998,0,78.3,92,{"$f":"IF(SUM('In prod (weekly)'!E$3:E$68)>0,$K$6-SUM('In prod (weekly)'!E$3:E48),IF(SUM('In prod (weekly)'!$F$3:F113)>0,$K$6-SUM('In prod (weekly)'!$F$3:F48)/100*$K$6,$K$6))","v":0},{"$f":"IF((General!$J$6>0),S55/$K$6*100, )","v":0},{"v":78.39900000000004,"d":"78.4"},{"v":8.430000000000007,"d":"8.4"},{"v":0,"d":"0.0"},{"v":0,"d":"0.0"},{"v":0,"d":"0.0"},{"v":0,"d":"0.0"},{"$f":"H55*General!$J$29","v":0},{"$f":"J55*General!$J$29","v":0},{"$f":"N55*General!$J$29","v":0},{"$nulls":4},""]
[61,{"$f":"IF(SUM('In prod (weekly)'!C$3:C$68)>0,$K$5-SUM('In prod (weekly)'!C$3:C49),IF(SUM('In prod (weekly)'!$D$3:D114)>0,$K$5-SUM('In prod (weekly)'!$D$3:D49)/100*$K$5,$K$5))","v":0},{"$f":"IF((General!$J$5>0),B56/$K$5*100, )","v":0},{"v":92.59259259259252,"d":"92.6"},{"$f":"IF(SUM('In prod (weekly)'!G$3:G$68)>0,('In prod (weekly)'!G49)/7/B56*100,IF(SUM('In prod (weekly)'!$H$3:$H$68)>0,('In prod (weekly)'!H49), ))","v":0},{"v":83.70000000000006,"d":"83.7"},{"$f":"IF('In prod (weekly)'!I49>0,'In prod (weekly)'!I49/'In prod (weekly)'!G49*100,IF('In prod (weekly)'!J49>0,'In prod (weekly)'!J49,R56 ))","v":92},0,241.68200000000002,0,{"$f":"IF(ISNUMBER(Q56),7*R56*Q56/10000+K55, )","v":221.61111},{"$f":"IF('In prod (weekly)'!M49>0,'In prod (weekly)'!M49,IF('In prod (weekly)'!K49>0,'In prod (weekly)'!L49/'In prod (weekly)'!K49*100,0))","v":0},39,0,91.64165078249998,0,77.5,92,{"$f":"IF(SUM('In prod (weekly)'!E$3:E$68)>0,$K$6-SUM('In prod (weekly)'!E$3:E49),IF(SUM('In prod (weekly)'!$F$3:F114)>0,$K$6-SUM('In prod (weekly)'!$F$3:F49)/100*$K$6,$K$6))","v":0},{"$f":"IF((General!$J$6>0),S56/$K$6*100, )","v":0},{"v":77.84100000000005,"d":"77.8"},{"v":8.370000000000005,"d":"8.4"},{"v":0,"d":"0.0"},{"v":0,"d":"0.0"},{"v":0,"d":"0.0"},{"v":0,"d":"0.0"},{"$f":"H56*General!$J$29","v":0},{"$f":"J56*General!$J$29","v":0},{"$f":"N56*General!$J$29","v":0},{"$nulls":4},""]
[62,{"$f":"IF(SUM('In prod (weekly)'!C$3:C$68)>0,$K$5-SUM('In prod (weekly)'!C$3:C50),IF(SUM('In prod (weekly)'!$D$3:D115)>0,$K$5-SUM('In prod (weekly)'!$D$3:D50)/100*$K$5,$K$5))","v":0},{"$f":"IF((General!$J$5>0),B57/$K$5*100, )","v":0},{"v":92.29843561973519,"d":"92.3"},{"$f":"IF(SUM('In prod (weekly)'!G$3:G$68)>0,('In prod (weekly)'!G50)/7/B57*100,IF(SUM('In prod (weekly)'!$H$3:$H$68)>0,('In prod (weekly)'!H50), ))","v":0},{"v":83.10000000000007,"d":"83.1"},{"$f":"IF('In prod (weekly)'!I50>0,'In prod (weekly)'!I50/'In prod (weekly)'!G50*100,IF('In prod (weekly)'!J50>0,'In prod (weekly)'!J50,R57 ))","v":92},0,247.05100000000002,0,{"$f":"IF(ISNUMBER(Q57),7*R57*Q57/10000+K56, )","v":226.55059},{"$f":"IF('In prod (weekly)'!M50>0,'In prod (weekly)'!M50,IF('In prod (weekly)'!K50>0,'In prod (weekly)'!L50/'In prod (weekly)'!K50*100,0))","v":0},38.025,0,93.51988805249998,0,76.7,92,{"$f":"IF(SUM('In prod (weekly)'!E$3:E$68)>0,$K$6-SUM('In prod (weekly)'!E$3:E50),IF(SUM('In prod (weekly)'!$F$3:F115)>0,$K$6-SUM('In prod (weekly)'!$F$3:F50)/100*$K$6,$K$6))","v":0},{"$f":"IF((General!$J$6>0),S57/$K$6*100, )","v":0},{"v":77.28300000000006,"d":"77.3"},{"v":8.310000000000002,"d":"8.3"},{"v":0,"d":"0.0"},{"v":0,"d":"0.0"},{"v":0,"d":"0.0"},{"v":0,"d":"0.0"},{"$f":"H57*General!$J$29","v":0},{"$f":"J57*General!$J$29","v":0},{"$f":"N57*General!$J$29","v":0},{"$nulls":4},""]
[63,{"$f":"IF(SUM('In prod (weekly)'!C$3:C$68)>0,$K$5-SUM('In prod (weekly)'!C$3:C51),IF(SUM('In prod (weekly)'!$D$3:D116)>0,$K$5-SUM('In prod (weekly)'!$D$3:D51)/100*$K$5,$K$5))","v":0},{"$f":"IF((General!$J$5>0),B58/$K$5*100, )","v":0},{"v":92.12121212121204,"d":"92.1"},{"$f":"IF(SUM('In prod (weekly)'!G$3:G$68)>0,('In prod (weekly)'!G51)/7/B58*100,IF(SUM('In prod (weekly)'!$H$3:$H$68)>0,('In prod (weekly)'!H51), ))","v":0},{"v":82.50000000000007,"d":"82.5"},{"$f":"IF('In prod (weekly)'!I51>0,'In prod (weekly)'!I51/'In prod (weekly)'!G51*100,IF('In prod (weekly)'!J51>0,'In prod (weekly)'!J51,R58 ))","v":92},0,252.371,0,{"$f":"IF(ISNUMBER(Q58),7*R58*Q58/10000+K57, )","v":231.44499},{"$f":"IF('In prod (weekly)'!M51>0,'In prod (weekly)'!M51,IF('In prod (weekly)'!K51>0,'In prod (weekly)'!L51/'In prod (weekly)'!K51*100,0))","v":0},38.025,0,95.38098365249998,0,{"v":76,"d":"76.0"},92,{"$f":"IF(SUM('In prod (weekly)'!E$3:E$68)>0,$K$6-SUM('In prod (weekly)'!E$3:E51),IF(SUM('In prod (weekly)'!$F$3:F116)>0,$K$6-SUM('In prod (weekly)'!$F$3:F51)/100*$K$6,$K$6))","v":0},{"$f":"IF((General!$J$6>0),S58/$K$6*100, )","v":0},{"v":76.72500000000007,"d":"76.7"},{"v":8.250000000000014,"d":"8.3"},{"v":0,"d":"0.0"},{"v":0,"d":"0.0"},{"v":0,"d":"0.0"},{"v":0,"d":"0.0"},{"$f":"H58*General!$J$29","v":0},{"$f":"J58*General!$J$29","v":0},{"$f":"N58*General!$J$29","v":0},{"$nulls":4},""]
[64,{"$f":"IF(SUM('In prod (weekly)'!C$3:C$68)>0,$K$5-SUM('In prod (weekly)'!C$3:C52),IF(SUM('In prod (weekly)'!$D$3:D117)>0,$K$5-SUM('In prod (weekly)'!$D$3:D52)/100*$K$5,$K$5))","v":0},{"$f":"IF((General!$J$5>0),B59/$K$5*100, )","v":0},{"v":91.81929181929173,"d":"91.8"},{"$f":"IF(SUM('In prod (weekly)'!G$3:G$68)>0,('In prod (weekly)'!G52)/7/B59*100,IF(SUM('In prod (weekly)'!$H$3:$H$68)>0,('In prod (weekly)'!H52), ))","v":0},{"v":81.90000000000008,"d":"81.9"},{"$f":"IF('In prod (weekly)'!I52>0,'In prod (weekly)'!I52/'In prod (weekly)'!G52*100,IF('In prod (weekly)'!J52>0,'In prod (weekly)'!J52,R59 ))","v":92},0,257.635,0,{"$f":"IF(ISNUMBER(Q59),7*R59*Q59/10000+K58, )","v":236.28787},{"$f":"IF('In prod (weekly)'!M52>0,'In prod (weekly)'!M52,IF('In prod (weekly)'!K52>0,'In prod (weekly)'!L52/'In prod (weekly)'!K52*100,0))","v":0},38.025,0,97.22248877249997,0,75.2,92,{"$f":"IF(SUM('In prod (weekly)'!E$3:E$68)>0,$K$6-SUM('In prod (weekly)'!E$3:E52),IF(SUM('In prod (weekly)'!$F$3:F117)>0,$K$6-SUM('In prod (weekly)'!$F$3:F52)/100*$K$6,$K$6))","v":0},{"$f":"IF((General!$J$6>0),S59/$K$6*100, )","v":0},{"v":76.16700000000007,"d":"76.2"},{"v":8.190000000000012,"d":"8.2"},{"v":0,"d":"0.0"},{"v":0,"d":"0.0"},{"v":0,"d":"0.0"},{"v":0,"d":"0.0"},{"$f":"H59*General!$J$29","v":0},{"$f":"J59*General!$J$29","v":0},{"$f":"N59*General!$J$29","v":0},{"$nulls":4},""]
[65,{"$f":"IF(SUM('In prod (weekly)'!C$3:C$68)>0,$K$5-SUM('In prod (weekly)'!C$3:C53),IF(SUM('In prod (weekly)'!$D$3:D118)>0,$K$5-SUM('In prod (weekly)'!$D$3:D53)/100*$K$5,$K$5))","v":0},{"$f":"IF((General!$J$5>0),B60/$K$5*100, )","v":0},{"v":91.63591635916349,"d":"91.6"},{"$f":"IF(SUM('In prod (weekly)'!G$3:G$68)>0,('In prod (weekly)'!G53)/7/B60*100,IF(SUM('In prod (weekly)'!$H$3:$H$68)>0,('In prod (weekly)'!H53), ))","v":0},{"v":81.30000000000008,"d":"81.3"},{"$f":"IF('In prod (weekly)'!I53>0,'In prod (weekly)'!I53/'In prod (weekly)'!G53*100,IF('In prod (weekly)'!J53>0,'In prod (weekly)'!J53,R60 ))","v":90},0,262.84999999999997,0,{"$f":"IF(ISNUMBER(Q60),7*R60*Q60/10000+K59, )","v":240.98137},{"$f":"IF('In prod (weekly)'!M53>0,'In prod (weekly)'!M53,IF('In prod (weekly)'!K53>0,'In prod (weekly)'!L53/'In prod (weekly)'!K53*100,0))","v":0},37.05,0,98.96143052249997,0,{"v":74.49999999999999,"d":"74.5"},90,{"$f":"IF(SUM('In prod (weekly)'!E$3:E$68)>0,$K$6-SUM('In prod (weekly)'!E$3:E53),IF(SUM('In prod (weekly)'!$F$3:F118)>0,$K$6-SUM('In prod (weekly)'!$F$3:F53)/100*$K$6,$K$6))","v":0},{"$f":"IF((General!$J$6>0),S60/$K$6*100, )","v":0},{"v":75.60900000000008,"d":"75.6"},{"v":8.13000000000001,"d":"8.1"},{"v":0,"d":"0.0"},{"v":0,"d":"0.0"},{"v":0,"d":"0.0"},{"v":0,"d":"0.0"},{"$f":"H60*General!$J$29","v":0},{"$f":"J60*General!$J$29","v":0},{"$f":"N60*General!$J$29","v":0},{"$nulls":4},""]
[66,{"$f":"IF(SUM('In prod (weekly)'!C$3:C$68)>0,$K$5-SUM('In prod (weekly)'!C$3:C54),IF(SUM('In prod (weekly)'!$D$3:D119)>0,$K$5-SUM('In prod (weekly)'!$D$3:D54)/100*$K$5,$K$5))","v":0},{"$f":"IF((General!$J$5>0),B61/$K$5*100, )","v":0},{"v":91.3151364764267,"d":"91.3"},{"$f":"IF(SUM('In prod (weekly)'!G$3:G$68)>0,('In prod (weekly)'!G54)/7/B61*100,IF(SUM('In prod (weekly)'!$H$3:$H$68)>0,('In prod (weekly)'!H54), ))","v":0},{"v":80.60000000000008,"d":"80.6"},{"$f":"IF('In prod (weekly)'!I54>0,'In prod (weekly)'!I54/'In prod (weekly)'!G54*100,IF('In prod (weekly)'!J54>0,'In prod (weekly)'!J54,R61 ))","v":90},0,268.00199999999995,0,{"$f":"IF(ISNUMBER(Q61),7*R61*Q61/10000+K60, )","v":245.61817},{"$f":"IF('In prod (weekly)'!M54>0,'In prod (weekly)'!M54,IF('In prod (weekly)'!K54>0,'In prod (weekly)'!L54/'In prod (weekly)'!K54*100,0))","v":0},37.05,0,100.67936492249997,0,73.6,90,{"$f":"IF(SUM('In prod (weekly)'!E$3:E$68)>0,$K$6-SUM('In prod (weekly)'!E$3:E54),IF(SUM('In prod (weekly)'!$F$3:F119)>0,$K$6-SUM('In prod (weekly)'!$F$3:F54)/100*$K$6,$K$6))","v":0},{"$f":"IF((General!$J$6>0),S61/$K$6*100, )","v":0},{"v":74.95800000000007,"d":"75.0"},{"v":8.060000000000016,"d":"8.1"},{"v":0,"d":"0.0"},{"v":0,"d":"0.0"},{"v":0,"d":"0.0"},{"v":0,"d":"0.0"},{"$f":"H61*General!$J$29","v":0},{"$f":"J61*General!$J$29","v":0},{"$f":"N61*General!$J$29","v":0},{"$nulls":4},""]
[67,{"$f":"IF(SUM('In prod (weekly)'!C$3:C$68)>0,$K$5-SUM('In prod (weekly)'!C$3:C55),IF(SUM('In prod (weekly)'!$D$3:D120)>0,$K$5-SUM('In prod (weekly)'!$D$3:D55)/100*$K$5,$K$5))","v":0},{"$f":"IF((General!$J$5>0),B62/$K$5*100, )","v":0},{"v":90.98873591989978,"d":"91.0"},{"$f":"IF(SUM('In prod (weekly)'!G$3:G$68)>0,('In prod (weekly)'!G55)/7/B62*100,IF(SUM('In prod (weekly)'!$H$3:$H$68)>0,('In prod (weekly)'!H55), ))","v":0},{"v":79.90000000000008,"d":"79.9"},{"$f":"IF('In prod (weekly)'!I55>0,'In prod (weekly)'!I55/'In prod (weekly)'!G55*100,IF('In prod (weekly)'!J55>0,'In prod (weekly)'!J55,R62 ))","v":90},0,273.09099999999995,0,{"$f":"IF(ISNUMBER(Q62),7*R62*Q62/10000+K61, )","v":250.19826999999998},{"$f":"IF('In prod (weekly)'!M55>0,'In prod (weekly)'!M55,IF('In prod (weekly)'!K55>0,'In prod (weekly)'!L55/'In prod (weekly)'!K55*100,0))","v":0},37.05,0,{"$f":"IF(ISNUMBER(M62),7*Q62*R62*M62/1000000+O61, )","v":102.37629197249997},0,{"v":72.69999999999999,"d":"72.7"},90,{"$f":"IF(SUM('In prod (weekly)'!E$3:E$68)>0,$K$6-SUM('In prod (weekly)'!E$3:E55),IF(SUM('In prod (weekly)'!$F$3:F120)>0,$K$6-SUM('In prod (weekly)'!$F$3:F55)/100*$K$6,$K$6))","v":0},{"$f":"IF((General!$J$6>0),S62/$K$6*100, )","v":0},{"v":74.30700000000007,"d":"74.3"},{"v":7.990000000000009,"d":"8.0"},{"v":0,"d":"0.0"},{"v":0,"d":"0.0"},{"v":0,"d":"0.0"},{"v":0,"d":"0.0"},{"$f":"H62*General!$J$29","v":0},{"$f":"J62*General!$J$29","v":0},{"$f":"N62*General!$J$29","v":0},{"$nulls":4},""]
[68,{"$f":"IF(SUM('In prod (weekly)'!C$3:C$68)>0,$K$5-SUM('In prod (weekly)'!C$3:C56),IF(SUM('In prod (weekly)'!$D$3:D121)>0,$K$5-SUM('In prod (weekly)'!$D$3:D56)/100*$K$5,$K$5))","v":0},{"$f":"IF((General!$J$5>0),B63/$K$5*100, )","v":0},{"v":90.7828282828282,"d":"90.8"},{"$f":"IF(SUM('In prod (weekly)'!G$3:G$68)>0,('In prod (weekly)'!G56)/7/B63*100,IF(SUM('In prod (weekly)'!$H$3:$H$68)>0,('In prod (weekly)'!H56), ))","v":0},{"v":79.20000000000007,"d":"79.2"},{"$f":"IF('In prod (weekly)'!I56>0,'In prod (weekly)'!I56/'In prod (weekly)'!G56*100,IF('In prod (weekly)'!J56>0,'In prod (weekly)'!J56,R63 ))","v":90},0,278.12399999999997,0,{"$f":"IF(ISNUMBER(Q63),7*R63*Q63/10000+K62, )","v":254.72796999999997},{"$f":"IF('In prod (weekly)'!M56>0,'In prod (weekly)'!M56,IF('In prod (weekly)'!K56>0,'In prod (weekly)'!L56/'In prod (weekly)'!K56*100,0))","v":0},36.075,0,104.01038124749996,0,71.9,90,{"$f":"IF(SUM('In prod (weekly)'!E$3:E$68)>0,$K$6-SUM('In prod (weekly)'!E$3:E56),IF(SUM('In prod (weekly)'!$F$3:F121)>0,$K$6-SUM('In prod (weekly)'!$F$3:F56)/100*$K$6,$K$6))","v":0},{"$f":"IF((General!$J$6>0),S63/$K$6*100, )","v":0},{"v":73.65600000000006,"d":"73.7"},{"v":7.920000000000016,"d":"7.9"},{"v":0,"d":"0.0"},{"v":0,"d":"0.0"},{"v":0,"d":"0.0"},{"v":0,"d":"0.0"},{"$f":"H63*General!$J$29","v":0},{"$f":"J63*General!$J$29","v":0},{"$f":"N63*General!$J$29","v":0},{"$nulls":4},""]
[69,{"$f":"IF(SUM('In prod (weekly)'!C$3:C$68)>0,$K$5-SUM('In prod (weekly)'!C$3:C57),IF(SUM('In prod (weekly)'!$D$3:D122)>0,$K$5-SUM('In prod (weekly)'!$D$3:D57)/100*$K$5,$K$5))","v":0},{"$f":"IF((General!$J$5>0),B64/$K$5*100, )","v":0},{"v":90.44585987261138,"d":"90.4"},{"$f":"IF(SUM('In prod (weekly)'!G$3:G$68)>0,('In prod (weekly)'!G57)/7/B64*100,IF(SUM('In prod (weekly)'!$H$3:$H$68)>0,('In prod (weekly)'!H57), ))","v":0},{"v":78.50000000000007,"d":"78.5"},{"$f":"IF('In prod (weekly)'!I57>0,'In prod (weekly)'!I57/'In prod (weekly)'!G57*100,IF('In prod (weekly)'!J57>0,'In prod (weekly)'!J57,R64 ))","v":90},0,283.094,0,{"$f":"IF(ISNUMBER(Q64),7*R64*Q64/10000+K63, )","v":259.20097},{"$f":"IF('In prod (weekly)'!M57>0,'In prod (weekly)'!M57,IF('In prod (weekly)'!K57>0,'In prod (weekly)'!L57/'In prod (weekly)'!K57*100,0))","v":0},36.075,0,105.62401599749997,0,{"v":71,"d":"71.0"},90,{"$f":"IF(SUM('In prod (weekly)'!E$3:E$68)>0,$K$6-SUM('In prod (weekly)'!E$3:E57),IF(SUM('In prod (weekly)'!$F$3:F122)>0,$K$6-SUM('In prod (weekly)'!$F$3:F57)/100*$K$6,$K$6))","v":0},{"$f":"IF((General!$J$6>0),S64/$K$6*100, )","v":0},{"v":73.00500000000007,"d":"73.0"},{"v":7.8500000000000085,"d":"7.9"},{"v":0,"d":"0.0"},{"v":0,"d":"0.0"},{"v":0,"d":"0.0"},{"v":0,"d":"0.0"},{"$f":"H64*General!$J$29","v":0},{"$f":"J64*General!$J$29","v":0},{"$f":"N64*General!$J$29","v":0},{"$nulls":4},""]
[70,{"$f":"IF(SUM('In prod (weekly)'!C$3:C$68)>0,$K$5-SUM('In prod (weekly)'!C$3:C58),IF(SUM('In prod (weekly)'!$D$3:D123)>0,$K$5-SUM('In prod (weekly)'!$D$3:D58)/100*$K$5,$K$5))","v":0},{"$f":"IF((General!$J$5>0),B65/$K$5*100, )","v":0},{"v":90.10282776349607,"d":"90.1"},{"$f":"IF(SUM('In prod (weekly)'!G$3:G$68)>0,('In prod (weekly)'!G58)/7/B65*100,IF(SUM('In prod (weekly)'!$H$3:$H$68)>0,('In prod (weekly)'!H58), ))","v":0},{"v":77.80000000000007,"d":"77.8"},{"$f":"IF('In prod (weekly)'!I58>0,'In prod (weekly)'!I58/'In prod (weekly)'!G58*100,IF('In prod (weekly)'!J58>0,'In prod (weekly)'!J58,R65 ))","v":90},0,288.001,0,{"$f":"IF(ISNUMBER(Q65),7*R65*Q65/10000+K64, )","v":263.61726999999996},{"$f":"IF('In prod (weekly)'!M58>0,'In prod (weekly)'!M58,IF('In prod (weekly)'!K58>0,'In prod (weekly)'!L58/'In prod (weekly)'!K58*100,0))","v":0},35.1,0,107.17413729749997,0,70.1,90,{"$f":"IF(SUM('In prod (weekly)'!E$3:E$68)>0,$K$6-SUM('In prod (weekly)'!E$3:E58),IF(SUM('In prod (weekly)'!$F$3:F123)>0,$K$6-SUM('In prod (weekly)'!$F$3:F58)/100*$K$6,$K$6))","v":0},{"$f":"IF((General!$J$6>0),S65/$K$6*100, )","v":0},{"v":72.35400000000007,"d":"72.4"},{"v":7.780000000000001,"d":"7.8"},{"v":0,"d":"0.0"},{"v":0,"d":"0.0"},{"v":0,"d":"0.0"},{"v":0,"d":"0.0"},{"$f":"H65*General!$J$29","v":0},{"$f":"J65*General!$J$29","v":0},{"$f":"N65*General!$J$29","v":0},{"$nulls":4},""]
[71,{"$f":"IF(SUM('In prod (weekly)'!C$3:C$68)>0,$K$5-SUM('In prod (weekly)'!C$3:C59),IF(SUM('In prod (weekly)'!$D$3:D124)>0,$K$5-SUM('In prod (weekly)'!$D$3:D59)/100*$K$5,$K$5))","v":0},{"$f":"IF((General!$J$5>0),B66/$K$5*100, )","v":0},{"v":89.8832684824902,"d":"89.9"},{"$f":"IF(SUM('In prod (weekly)'!G$3:G$68)>0,('In prod (weekly)'!G59)/7/B66*100,IF(SUM('In prod (weekly)'!$H$3:$H$68)>0,('In prod (weekly)'!H59), ))","v":0},{"v":77.10000000000007,"d":"77.1"},{"$f":"IF('In prod (weekly)'!I59>0,'In prod (weekly)'!I59/'In prod (weekly)'!G59*100,IF('In prod (weekly)'!J59>0,'In prod (weekly)'!J59,R66 ))","v":90},0,292.852,0,{"$f":"IF(ISNUMBER(Q66),7*R66*Q66/10000+K65, )","v":267.98317},{"$f":"IF('In prod (weekly)'!M59>0,'In prod (weekly)'!M59,IF('In prod (weekly)'!K59>0,'In prod (weekly)'!L59/'In prod (weekly)'!K59*100,0))","v":0},35.1,0,108.70656819749996,0,69.3,90,{"$f":"IF(SUM('In prod (weekly)'!E$3:E$68)>0,$K$6-SUM('In prod (weekly)'!E$3:E59),IF(SUM('In prod (weekly)'!$F$3:F124)>0,$K$6-SUM('In prod (weekly)'!$F$3:F59)/100*$K$6,$K$6))","v":0},{"$f":"IF((General!$J$6>0),S66/$K$6*100, )","v":0},{"v":71.70300000000006,"d":"71.7"},{"v":7.710000000000008,"d":"7.7"},{"v":0,"d":"0.0"},{"v":0,"d":"0.0"},{"v":0,"d":"0.0"},{"v":0,"d":"0.0"},{"$f":"H66*General!$J$29","v":0},{"$f":"J66*General!$J$29","v":0},{"$f":"N66*General!$J$29","v":0},{"$nulls":4},""]
[72,{"$f":"IF(SUM('In prod (weekly)'!C$3:C$68)>0,$K$5-SUM('In prod (weekly)'!C$3:C60),IF(SUM('In prod (weekly)'!$D$3:D125)>0,$K$5-SUM('In prod (weekly)'!$D$3:D60)/100*$K$5,$K$5))","v":0},{"$f":"IF((General!$J$5>0),B67/$K$5*100, )","v":0},{"v":89.52879581151826,"d":"89.5"},{"$f":"IF(SUM('In prod (weekly)'!G$3:G$68)>0,('In prod (weekly)'!G60)/7/B67*100,IF(SUM('In prod (weekly)'!$H$3:$H$68)>0,('In prod (weekly)'!H60), ))","v":0},{"v":76.40000000000006,"d":"76.4"},{"$f":"IF('In prod (weekly)'!I60>0,'In prod (weekly)'!I60/'In prod (weekly)'!G60*100,IF('In prod (weekly)'!J60>0,'In prod (weekly)'!J60,R67 ))","v":90},0,297.64,0,{"$f":"IF(ISNUMBER(Q67),7*R67*Q67/10000+K66, )","v":272.29236999999995},{"$f":"IF('In prod (weekly)'!M60>0,'In prod (weekly)'!M60,IF('In prod (weekly)'!K60>0,'In prod (weekly)'!L60/'In prod (weekly)'!K60*100,0))","v":0},34.125,0,110.17708269749997,0,68.4,90,{"$f":"IF(SUM('In prod (weekly)'!E$3:E$68)>0,$K$6-SUM('In prod (weekly)'!E$3:E60),IF(SUM('In prod (weekly)'!$F$3:F125)>0,$K$6-SUM('In prod (weekly)'!$F$3:F60)/100*$K$6,$K$6))","v":0},{"$f":"IF((General!$J$6>0),S67/$K$6*100, )","v":0},{"v":71.05200000000006,"d":"71.1"},{"v":7.640000000000001,"d":"7.6"},{"v":0,"d":"0.0"},{"v":0,"d":"0.0"},{"v":0,"d":"0.0"},{"v":0,"d":"0.0"},{"$f":"H67*General!$J$29","v":0},{"$f":"J67*General!$J$29","v":0},{"$f":"N67*General!$J$29","v":0},{"$nulls":4},""]
[73,{"$f":"IF(SUM('In prod (weekly)'!C$3:C$68)>0,$K$5-SUM('In prod (weekly)'!C$3:C61),IF(SUM('In prod (weekly)'!$D$3:D126)>0,$K$5-SUM('In prod (weekly)'!$D$3:D61)/100*$K$5,$K$5))","v":0},{"$f":"IF((General!$J$5>0),B68/$K$5*100, )","v":0},null,{"$f":"IF(SUM('In prod (weekly)'!G$3:G$68)>0,('In prod (weekly)'!G61)/7/B68*100,IF(SUM('In prod (weekly)'!$H$3:$H$68)>0,('In prod (weekly)'!H61), ))","v":0},null,{"$f":"IF('In prod (weekly)'!I61>0,'In prod (weekly)'!I61/'In prod (weekly)'!G61*100,IF('In prod (weekly)'!J61>0,'In prod (weekly)'!J61,R68 ))","v":0},0,0,0,{"$f":"IF(ISNUMBER(Q68),7*R68*Q68/10000+K67, )","v":0},{"$f":"IF('In prod (weekly)'!M61>0,'In prod (weekly)'!M61,IF('In prod (weekly)'!K61>0,'In prod (weekly)'!L61/'In prod (weekly)'!K61*100,0))","v":0},null,0,0,0,"",0,{"$f":"IF(SUM('In prod (weekly)'!E$3:E$68)>0,$K$6-SUM('In prod (weekly)'!E$3:E61),IF(SUM('In prod (weekly)'!$F$3:F126)>0,$K$6-SUM('In prod (weekly)'!$F$3:F61)/100*$K$6,$K$6))","v":0},{"$f":"IF((General!$J$6>0),S68/$K$6*100, )","v":0},null,null,{"v":0,"d":"0.0"},{"v":0,"d":"0.0"},{"v":0,"d":"0.0"},{"v":0,"d":"0.0"},{"$f":"H68*General!$J$29","v":0},{"$f":"J68*General!$J$29","v":0},{"$f":"N68*General!$J$29","v":0},{"$nulls":4},""]
[74,{"$f":"IF(SUM('In prod (weekly)'!C$3:C$68)>0,$K$5-SUM('In prod (weekly)'!C$3:C62),IF(SUM('In prod (weekly)'!$D$3:D127)>0,$K$5-SUM('In prod (weekly)'!$D$3:D62)/100*$K$5,$K$5))","v":0},{"$f":"IF((General!$J$5>0),B69/$K$5*100, )","v":0},null,{"$f":"IF(SUM('In prod (weekly)'!G$3:G$68)>0,('In prod (weekly)'!G62)/7/B69*100,IF(SUM('In prod (weekly)'!$H$3:$H$68)>0,('In prod (weekly)'!H62), ))","v":0},null,{"$f":"IF('In prod (weekly)'!I62>0,'In prod (weekly)'!I62/'In prod (weekly)'!G62*100,IF('In prod (weekly)'!J62>0,'In prod (weekly)'!J62,R69 ))","v":0},0,0,0,{"$f":"IF(ISNUMBER(Q69),7*R69*Q69/10000+K68, )","v":0},{"$f":"IF('In prod (weekly)'!M62>0,'In prod (weekly)'!M62,IF('In prod (weekly)'!K62>0,'In prod (weekly)'!L62/'In prod (weekly)'!K62*100,0))","v":0},null,0,0,0,"",0,{"$f":"IF(SUM('In prod (weekly)'!E$3:E$68)>0,$K$6-SUM('In prod (weekly)'!E$3:E62),IF(SUM('In prod (weekly)'!$F$3:F127)>0,$K$6-SUM('In prod (weekly)'!$F$3:F62)/100*$K$6,$K$6))","v":0},{"$f":"IF((General!$J$6>0),S69/$K$6*100, )","v":0},null,null,{"v":0,"d":"0.0"},{"v":0,"d":"0.0"},{"v":0,"d":"0.0"},{"v":0,"d":"0.0"},{"$f":"H69*General!$J$29","v":0},{"$f":"J69*General!$J$29","v":0},{"$f":"N69*General!$J$29","v":0},{"$nulls":4},""]
[75,{"$f":"IF(SUM('In prod (weekly)'!C$3:C$68)>0,$K$5-SUM('In prod (weekly)'!C$3:C63),IF(SUM('In prod (weekly)'!$D$3:D128)>0,$K$5-SUM('In prod (weekly)'!$D$3:D63)/100*$K$5,$K$5))","v":0},{"$f":"IF((General!$J$5>0),B70/$K$5*100, )","v":0},null,{"$f":"IF(SUM('In prod (weekly)'!G$3:G$68)>0,('In prod (weekly)'!G63)/7/B70*100,IF(SUM('In prod (weekly)'!$H$3:$H$68)>0,('In prod (weekly)'!H63), ))","v":0},null,{"$f":"IF('In prod (weekly)'!I63>0,'In prod (weekly)'!I63/'In prod (weekly)'!G63*100,IF('In prod (weekly)'!J63>0,'In prod (weekly)'!J63,R70 ))","v":0},0,0,0,{"$f":"IF(ISNUMBER(Q70),7*R70*Q70/10000+K69, )","v":0},{"$f":"IF('In prod (weekly)'!M63>0,'In prod (weekly)'!M63,IF('In prod (weekly)'!K63>0,'In prod (weekly)'!L63/'In prod (weekly)'!K63*100,0))","v":0},null,0,0,0,"",0,{"$f":"IF(SUM('In prod (weekly)'!E$3:E$68)>0,$K$6-SUM('In prod (weekly)'!E$3:E63),IF(SUM('In prod (weekly)'!$F$3:F128)>0,$K$6-SUM('In prod (weekly)'!$F$3:F63)/100*$K$6,$K$6))","v":0},{"$f":"IF((General!$J$6>0),S70/$K$6*100, )","v":0},null,null,{"v":0,"d":"0.0"},{"v":0,"d":"0.0"},{"v":0,"d":"0.0"},{"v":0,"d":"0.0"},{"$f":"H70*General!$J$29","v":0},{"$f":"J70*General!$J$29","v":0},{"$f":"N70*General!$J$29","v":0},{"$nulls":4},""]
[76,{"$f":"IF(SUM('In prod (weekly)'!C$3:C$68)>0,$K$5-SUM('In prod (weekly)'!C$3:C64),IF(SUM('In prod (weekly)'!$D$3:D129)>0,$K$5-SUM('In prod (weekly)'!$D$3:D64)/100*$K$5,$K$5))","v":0},{"$f":"IF((General!$J$5>0),B71/$K$5*100, )","v":0},null,{"$f":"IF(SUM('In prod (weekly)'!G$3:G$68)>0,('In prod (weekly)'!G64)/7/B71*100,IF(SUM('In prod (weekly)'!$H$3:$H$68)>0,('In prod (weekly)'!H64), ))","v":0},null,{"$f":"IF('In prod (weekly)'!I64>0,'In prod (weekly)'!I64/'In prod (weekly)'!G64*100,IF('In prod (weekly)'!J64>0,'In prod (weekly)'!J64,R71 ))","v":0},0,0,0,{"$f":"IF(ISNUMBER(Q71),7*R71*Q71/10000+K70, )","v":0},{"$f":"IF('In prod (weekly)'!M64>0,'In prod (weekly)'!M64,IF('In prod (weekly)'!K64>0,'In prod (weekly)'!L64/'In prod (weekly)'!K64*100,0))","v":0},null,0,0,0,"",0,{"$f":"IF(SUM('In prod (weekly)'!E$3:E$68)>0,$K$6-SUM('In prod (weekly)'!E$3:E64),IF(SUM('In prod (weekly)'!$F$3:F129)>0,$K$6-SUM('In prod (weekly)'!$F$3:F64)/100*$K$6,$K$6))","v":0},{"$f":"IF((General!$J$6>0),S71/$K$6*100, )","v":0},null,null,{"v":0,"d":"0.0"},{"v":0,"d":"0.0"},{"v":0,"d":"0.0"},{"v":0,"d":"0.0"},{"$f":"H71*General!$J$29","v":0},{"$f":"J71*General!$J$29","v":0},{"$f":"N71*General!$J$29","v":0},{"$nulls":4},""]
[77,{"$f":"IF(SUM('In prod (weekly)'!C$3:C$68)>0,$K$5-SUM('In prod (weekly)'!C$3:C65),IF(SUM('In prod (weekly)'!$D$3:D130)>0,$K$5-SUM('In prod (weekly)'!$D$3:D65)/100*$K$5,$K$5))","v":0},{"$f":"IF((General!$J$5>0),B72/$K$5*100, )","v":0},null,{"$f":"IF(SUM('In prod (weekly)'!G$3:G$68)>0,('In prod (weekly)'!G65)/7/B72*100,IF(SUM('In prod (weekly)'!$H$3:$H$68)>0,('In prod (weekly)'!H65), ))","v":0},null,{"$f":"IF('In prod (weekly)'!I65>0,'In prod (weekly)'!I65/'In prod (weekly)'!G65*100,IF('In prod (weekly)'!J65>0,'In prod (weekly)'!J65,R72 ))","v":0},0,0,0,{"$f":"IF(ISNUMBER(Q72),7*R72*Q72/10000+K71, )","v":0},{"$f":"IF('In prod (weekly)'!M65>0,'In prod (weekly)'!M65,IF('In prod (weekly)'!K65>0,'In prod (weekly)'!L65/'In prod (weekly)'!K65*100,0))","v":0},null,0,0,0,"",0,{"$f":"IF(SUM('In prod (weekly)'!E$3:E$68)>0,$K$6-SUM('In prod (weekly)'!E$3:E65),IF(SUM('In prod (weekly)'!$F$3:F130)>0,$K$6-SUM('In prod (weekly)'!$F$3:F65)/100*$K$6,$K$6))","v":0},{"$f":"IF((General!$J$6>0),S72/$K$6*100, )","v":0},null,null,{"v":0,"d":"0.0"},{"v":0,"d":"0.0"},{"v":0,"d":"0.0"},{"v":0,"d":"0.0"},{"$f":"H72*General!$J$29","v":0},{"$f":"J72*General!$J$29","v":0},{"$f":"N72*General!$J$29","v":0},{"$nulls":4},""]
[78,{"$f":"IF(SUM('In prod (weekly)'!C$3:C$68)>0,$K$5-SUM('In prod (weekly)'!C$3:C66),IF(SUM('In prod (weekly)'!$D$3:D131)>0,$K$5-SUM('In prod (weekly)'!$D$3:D66)/100*$K$5,$K$5))","v":0},{"$f":"IF((General!$J$5>0),B73/$K$5*100, )","v":0},null,{"$f":"IF(SUM('In prod (weekly)'!G$3:G$68)>0,('In prod (weekly)'!G66)/7/B73*100,IF(SUM('In prod (weekly)'!$H$3:$H$68)>0,('In prod (weekly)'!H66), ))","v":0},null,{"$f":"IF('In prod (weekly)'!I66>0,'In prod (weekly)'!I66/'In prod (weekly)'!G66*100,IF('In prod (weekly)'!J66>0,'In prod (weekly)'!J66,R73 ))","v":0},0,0,0,{"$f":"IF(ISNUMBER(Q73),7*R73*Q73/10000+K72, )","v":0},{"$f":"IF('In prod (weekly)'!M66>0,'In prod (weekly)'!M66,IF('In prod (weekly)'!K66>0,'In prod (weekly)'!L66/'In prod (weekly)'!K66*100,0))","v":0},null,0,0,0,"",0,{"$f":"IF(SUM('In prod (weekly)'!E$3:E$68)>0,$K$6-SUM('In prod (weekly)'!E$3:E66),IF(SUM('In prod (weekly)'!$F$3:F131)>0,$K$6-SUM('In prod (weekly)'!$F$3:F66)/100*$K$6,$K$6))","v":0},{"$f":"IF((General!$J$6>0),S73/$K$6*100, )","v":0},null,null,{"v":0,"d":"0.0"},{"v":0,"d":"0.0"},{"v":0,"d":"0.0"},{"v":0,"d":"0.0"},{"$f":"H73*General!$J$29","v":0},{"$f":"J73*General!$J$29","v":0},{"$f":"N73*General!$J$29","v":0},{"$nulls":4},""]
[79,{"$f":"IF(SUM('In prod (weekly)'!C$3:C$68)>0,$K$5-SUM('In prod (weekly)'!C$3:C67),IF(SUM('In prod (weekly)'!$D$3:D132)>0,$K$5-SUM('In prod (weekly)'!$D$3:D67)/100*$K$5,$K$5))","v":0},{"$f":"IF((General!$J$5>0),B74/$K$5*100, )","v":0},null,{"$f":"IF(SUM('In prod (weekly)'!G$3:G$68)>0,('In prod (weekly)'!G67)/7/B74*100,IF(SUM('In prod (weekly)'!$H$3:$H$68)>0,('In prod (weekly)'!H67), ))","v":0},null,{"$f":"IF('In prod (weekly)'!I67>0,'In prod (weekly)'!I67/'In prod (weekly)'!G67*100,IF('In prod (weekly)'!J67>0,'In prod (weekly)'!J67,R74 ))","v":0},0,0,0,{"$f":"IF(ISNUMBER(Q74),7*R74*Q74/10000+K73, )","v":0},{"$f":"IF('In prod (weekly)'!M67>0,'In prod (weekly)'!M67,IF('In prod (weekly)'!K67>0,'In prod (weekly)'!L67/'In prod (weekly)'!K67*100,0))","v":0},null,0,0,0,"",0,{"$f":"IF(SUM('In prod (weekly)'!E$3:E$68)>0,$K$6-SUM('In prod (weekly)'!E$3:E67),IF(SUM('In prod (weekly)'!$F$3:F132)>0,$K$6-SUM('In prod (weekly)'!$F$3:F67)/100*$K$6,$K$6))","v":0},{"$f":"IF((General!$J$6>0),S74/$K$6*100, )","v":0},null,null,{"v":0,"d":"0.0"},{"v":0,"d":"0.0"},{"v":0,"d":"0.0"},{"v":0,"d":"0.0"},{"$f":"H74*General!$J$29","v":0},{"$f":"J74*General!$J$29","v":0},{"$f":"N74*General!$J$29","v":0},{"$nulls":4},""]
[80,{"$f":"IF(SUM('In prod (weekly)'!C$3:C$68)>0,$K$5-SUM('In prod (weekly)'!C$3:C68),IF(SUM('In prod (weekly)'!$D$3:D133)>0,$K$5-SUM('In prod (weekly)'!$D$3:D68)/100*$K$5,$K$5))","v":0},{"$f":"IF((General!$J$5>0),B75/$K$5*100, )","v":0},null,{"$f":"IF(SUM('In prod (weekly)'!G$3:G$68)>0,('In prod (weekly)'!G68)/7/B75*100,IF(SUM('In prod (weekly)'!$H$3:$H$68)>0,('In prod (weekly)'!H68), ))","v":0},null,{"$f":"IF('In prod (weekly)'!I68>0,'In prod (weekly)'!I68/'In prod (weekly)'!G68*100,IF('In prod (weekly)'!J68>0,'In prod (weekly)'!J68,R75 ))","v":0},0,0,0,{"$f":"IF(ISNUMBER(Q75),7*R75*Q75/10000+K74, )","v":0},{"$f":"IF('In prod (weekly)'!M68>0,'In prod (weekly)'!M68,IF('In prod (weekly)'!K68>0,'In prod (weekly)'!L68/'In prod (weekly)'!K68*100,0))","v":0},null,0,0,{"$f":"E75*C75/100","v":0},"",0,{"$f":"IF(SUM('In prod (weekly)'!E$3:E$68)>0,$K$6-SUM('In prod (weekly)'!E$3:E68),IF(SUM('In prod (weekly)'!$F$3:F133)>0,$K$6-SUM('In prod (weekly)'!$F$3:F68)/100*$K$6,$K$6))","v":0},{"$f":"IF((General!$J$6>0),S75/$K$6*100, )","v":0},null,null,{"v":0,"d":"0.0"},{"v":0,"d":"0.0"},{"v":0,"d":"0.0"},{"v":0,"d":"0.0"},{"$f":"H75*General!$J$29","v":0},{"$f":"J75*General!$J$29","v":0},{"$f":"N75*General!$J$29","v":0},{"$f":"(SUM('In prod (weekly)'!L3:L68)/SUM('In prod (weekly)'!K3:K68))*100","v":{"$error":"#DIV/0!"}},{"$f":"(AB75/AA75)*100","v":{"$error":"#DIV/0!"}},{"$f":"(AC75/AB75)*100","v":{"$error":"#DIV/0!"}},null,""]

{"sheet":"Out bwt,fc,wc","index":7,"n_rows":75,"n_cols":22,"rows_kept":75}
[{"$nulls":3},{"$f":"Translation!B4","v":"LOHMANN BROWN Parent Stock"}]
[]
[{"$f":"Translation!B8","v":"Country:"},null,{"$f":"General!B3","v":0},{"$nulls":3},{"$f":"Translation!B12","v":"Hatch Date:"},null,null,{"$f":"General!D27","v":"00:00:00"}]
[{"$f":"Translation!B9","v":"Owner:"},null,{"$f":"General!B4","v":0},{"$nulls":3},{"$f":"Translation!B13","v":"Date of Housing:"},null,null,{"$f":"General!J28","v":"1900-05-05"}]
[{"$f":"Translation!B10","v":"Farm:"},null,{"$f":"General!B5","v":0},{"$nulls":3},{"$f":"Translation!B14","v":"No. of Females Housed:"},null,null,{"$f":"General!J29","v":0}]
[{"$f":"Translation!B11","v":"Flock:"},null,{"$f":"General!B6","v":0},{"$nulls":3},{"$f":"Translation!B15","v":"No. of Males Housed:"},null,null,{"$f":"General!J30","v":0}]
[]
[null,null,{"$f":"Translation!B81","v":"Feed and water consumption"},{"$nulls":4},{"$f":"Translation!B82","v":"Feed conversion"},null,{"$f":"Translation!B83","v":"Body weight"}]
[{"$f":"Translation!B69","v":"Age"},{"$f":"Translation!B71","v":"Act. hen number"},{"$f":"Translation!B84","v":"kg per week"},{"$f":"Translation!B85","v":"per day (g/bird)"},{"$f":"Translation!B86","v":"cumul. cons."},{"$f":"Translation!B87","v":"Water cons./ day (ml/bird)"},{"$f":"Translation!B53","v":"Water / Feed"},{"$f":"Translation!B88","v":"g / egg"},{"$f":"Translation!B89","v":"g / hatching egg"},{"$f":"Translation!B90","v":"actual (g/10) females"},{"$f":"Translation!B91","v":"standard (g/10)"},null,null,{"$f":"Translation!B92","v":"actual (g/10) males"},{"$f":"'In prod (weekly)'!T2","v":"a trait you like"},"KGW Min","KGW Max","Diff","g/Ei","g/BE","Std BW min","Std BW max"]
[15,{"$f":"'Out prod'!B10","v":0},{"$f":"IF('In prod (weekly)'!P3>0,'In prod (weekly)'!P3,IF('In prod (weekly)'!Q3>0,'In prod (weekly)'!Q3*7*('Out prod'!B10+'Out prod'!S10)/1000, ))","v":0},{"$f":"IF('In prod (weekly)'!Q3>0,'In prod (weekly)'!Q3,IF('In prod (weekly)'!P3>0,'In prod (weekly)'!P3*1000/7/('Out prod'!S10+'Out prod'!B10), ))","v":0},{"$f":"IF(C10>0,SUM(C$10:C10), )","v":0},{"$f":"IF('In prod (weekly)'!S3>0,'In prod (weekly)'!S3,IF('In prod (weekly)'!R3>0,'In prod (weekly)'!R3*1000/7/('Out prod'!B10+'Out prod'!S10), ))","v":0},{"$f":"IF(D10>0,IF(F10>0,F10/D10, ), )","v":0},{"$f":"IF(E10>0,(E10/'Out prod'!AA10)*1000, )","v":0},{"$f":"IF(E10>0,E10/'Out prod'!AB10*1000, )","v":0},{"$f":"'In prod (weekly)'!N3/10","v":0},113,"-",125,{"$f":"'In prod (weekly)'!O3/10","v":0},{"$f":"'In prod (weekly)'!T3","v":0},{"$f":"IF(K10>0,K10,U10/10)","v":{"v":113,"d":"113.0"}},{"$f":"IF(M10>0,M10,V10/10)","v":{"v":125,"d":"125.0"}},{"$f":"Q10-P10","v":{"v":12,"d":"12.0"}},null,null,1130.5,1249.5]
[16,{"$f":"'Out prod'!B11","v":0},{"$f":"IF('In prod (weekly)'!P4>0,'In prod (weekly)'!P4,IF('In prod (weekly)'!Q4>0,'In prod (weekly)'!Q4*7*('Out prod'!B11+'Out prod'!S11)/1000, ))","v":0},{"$f":"IF('In prod (weekly)'!Q4>0,'In prod (weekly)'!Q4,IF('In prod (weekly)'!P4>0,'In prod (weekly)'!P4*1000/7/('Out prod'!S11+'Out prod'!B11), ))","v":0},{"$f":"IF(C11>0,SUM(C$10:C11), )","v":0},{"$f":"IF('In prod (weekly)'!S4>0,'In prod (weekly)'!S4,IF('In prod (weekly)'!R4>0,'In prod (weekly)'!R4*1000/7/('Out prod'!B11+'Out prod'!S11), ))","v":0},{"$f":"IF(D11>0,IF(F11>0,F11/D11, ), )","v":0},{"$f":"IF(E11>0,(E11/'Out prod'!AA11)*1000, )","v":0},{"$f":"IF(E11>0,(E11/'Out prod'!AB11)*1000, )","v":0},{"$f":"'In prod (weekly)'!N4/10","v":0},121,"-",133,{"$f":"'In prod (weekly)'!O4/10","v":0},{"$f":"'In prod (weekly)'!T4","v":0},{"$f":"IF(K11>0,K11,U11/10)","v":{"v":121,"d":"121.0"}},{"$f":"IF(M11>0,M11,V11/10)","v":{"v":133,"d":"133.0"}},{"$f":"Q11-P11","v":{"v":12,"d":"12.0"}},{"$f":"IF(H11<>0,H11,S10)","v":{"v":0,"d":"0.0"}},{"v":0,"d":"0.0"},1206.5,1333.5]
[17,{"$f":"'Out prod'!B12","v":0},{"$f":"IF('In prod (weekly)'!P5>0,'In prod (weekly)'!P5,IF('In prod (weekly)'!Q5>0,'In prod (weekly)'!Q5*7*('Out prod'!B12+'Out prod'!S12)/1000, ))","v":0},{"$f":"IF('In prod (weekly)'!Q5>0,'In prod (weekly)'!Q5,IF('In prod (weekly)'!P5>0,'In prod (weekly)'!P5*1000/7/('Out prod'!S12+'Out prod'!B12), ))","v":0},{"$f":"IF(C12>0,SUM(C$10:C12), )","v":0},{"$f":"IF('In prod (weekly)'!S5>0,'In prod (weekly)'!S5,IF('In prod (weekly)'!R5>0,'In prod (weekly)'!R5*1000/7/('Out prod'!B12+'Out prod'!S12), ))","v":0},0,{"$f":"IF(E12>0,(E12/'Out prod'!AA12)*1000, )","v":0},{"$f":"IF(E12>0,(E12/'Out prod'!AB12)*1000, )","v":0},{"$f":"'In prod (weekly)'!N5/10","v":0},128,"-",142,{"$f":"'In prod (weekly)'!O5/10","v":0},{"$f":"'In prod (weekly)'!T5","v":0},{"v":128,"d":"128.0"},{"v":142,"d":"142.0"},{"$f":"Q12-P12","v":{"v":14,"d":"14.0"}},{"v":0,"d":"0.0"},{"v":0,"d":"0.0"},1282.5,1417.5]
[18,{"$f":"'Out prod'!B13","v":0},{"$f":"IF('In prod (weekly)'!P6>0,'In prod (weekly)'!P6,IF('In prod (weekly)'!Q6>0,'In prod (weekly)'!Q6*7*('Out prod'!B13+'Out prod'!S13)/1000, ))","v":0},{"$f":"IF('In prod (weekly)'!Q6>0,'In prod (weekly)'!Q6,IF('In prod (weekly)'!P6>0,'In prod (weekly)'!P6*1000/7/('Out prod'!S13+'Out prod'!B13), ))","v":0},{"$f":"IF(C13>0,SUM(C$10:C13), )","v":0},{"$f":"IF('In prod (weekly)'!S6>0,'In prod (weekly)'!S6,IF('In prod (weekly)'!R6>0,'In prod (weekly)'!R6*1000/7/('Out prod'!B13+'Out prod'!S13), ))","v":0},0,{"$f":"IF(E13>0,(E13/'Out prod'!AA13)*1000, )","v":0},{"$f":"IF(E13>0,(E13/'Out prod'!AB13)*1000, )","v":0},{"$f":"'In prod (weekly)'!N6/10","v":0},137,"-",151,{"$f":"'In prod (weekly)'!O6/10","v":0},{"$f":"'In prod (weekly)'!T6","v":0},{"v":137,"d":"137.0"},{"v":151,"d":"151.0"},{"$f":"Q13-P13","v":{"v":14,"d":"14.0"}},{"v":0,"d":"0.0"},{"v":0,"d":"0.0"},1368,1512]
[19,{"$f":"'Out prod'!B14","v":0},{"$f":"IF('In prod (weekly)'!P7>0,'In prod (weekly)'!P7,IF('In prod (weekly)'!Q7>0,'In prod (weekly)'!Q7*7*('Out prod'!B14+'Out prod'!S14)/1000, ))","v":0},{"$f":"IF('In prod (weekly)'!Q7>0,'In prod (weekly)'!Q7,IF('In prod (weekly)'!P7>0,'In prod (weekly)'!P7*1000/7/('Out prod'!S14+'Out prod'!B14), ))","v":0},{"$f":"IF(C14>0,SUM(C$10:C14), )","v":0},{"$f":"IF('In prod (weekly)'!S7>0,'In prod (weekly)'!S7,IF('In prod (weekly)'!R7>0,'In prod (weekly)'!R7*1000/7/('Out prod'!B14+'Out prod'!S14), ))","v":0},0,{"$f":"IF(E14>0,(E14/'Out prod'!AA14)*1000, )","v":0},{"$f":"IF(E14>0,(E14/'Out prod'!AB14)*1000, )","v":0},{"$f":"'In prod (weekly)'!N7/10","v":0},145,"-",161,{"$f":"'In prod (weekly)'!O7/10","v":0},{"$f":"'In prod (weekly)'!T7","v":0},{"v":145,"d":"145.0"},{"v":161,"d":"161.0"},{"$f":"Q14-P14","v":{"v":16,"d":"16.0"}},{"v":0,"d":"0.0"},{"v":0,"d":"0.0"},1453.5,1606.5]
[20,{"$f":"'Out prod'!B15","v":0},{"$f":"IF('In prod (weekly)'!P8>0,'In prod (weekly)'!P8,IF('In prod (weekly)'!Q8>0,'In prod (weekly)'!Q8*7*('Out prod'!B15+'Out prod'!S15)/1000, ))","v":0},{"$f":"IF('In prod (weekly)'!Q8>0,'In prod (weekly)'!Q8,IF('In prod (weekly)'!P8>0,'In prod (weekly)'!P8*1000/7/('Out prod'!S15+'Out prod'!B15), ))","v":0},{"$f":"IF(C15>0,SUM(C$10:C15), )","v":0},{"$f":"IF('In prod (weekly)'!S8>0,'In prod (weekly)'!S8,IF('In prod (weekly)'!R8>0,'In prod (weekly)'!R8*1000/7/('Out prod'!B15+'Out prod'!S15), ))","v":0},0,{"$f":"IF(E15>0,(E15/'Out prod'!AA15)*1000, )","v":0},{"$f":"IF(E15>0,(E15/'Out prod'!AB15)*1000, )","v":0},{"$f":"'In prod (weekly)'!N8/10","v":0},152,"-",168,{"$f":"'In prod (weekly)'!O8/10","v":0},{"$f":"'In prod (weekly)'!T8","v":0},{"v":152,"d":"152.0"},{"v":168,"d":"168.0"},{"$f":"Q15-P15","v":{"v":16,"d":"16.0"}},{"v":0,"d":"0.0"},{"v":0,"d":"0.0"},1520,1680]
[21,{"$f":"'Out prod'!B16","v":0},{"$f":"IF('In prod (weekly)'!P9>0,'In prod (weekly)'!P9,IF('In prod (weekly)'!Q9>0,'In prod (weekly)'!Q9*7*('Out prod'!B16+'Out prod'!S16)/1000, ))","v":0},{"$f":"IF('In prod (weekly)'!Q9>0,'In prod (weekly)'!Q9,IF('In prod (weekly)'!P9>0,'In prod (weekly)'!P9*1000/7/('Out prod'!S16+'Out prod'!B16), ))","v":0},{"$f":"IF(C16>0,SUM(C$10:C16), )","v":0},{"$f":"IF('In prod (weekly)'!S9>0,'In prod (weekly)'!S9,IF('In prod (weekly)'!R9>0,'In prod (weekly)'!R9*1000/7/('Out prod'!B16+'Out prod'!S16), ))","v":0},0,{"$f":"IF(E16>0,(E16/'Out prod'!AA16)*1000, )","v":0},{"$f":"IF(E16>0,(E16/'Out prod'!AB16)*1000, )","v":0},{"$f":"'In prod (weekly)'!N9/10","v":0},{"$nulls":3},{"$f":"'In prod (weekly)'!O9/10","v":0},{"$f":"'In prod (weekly)'!T9","v":0},{"v":156.75,"d":"156.8"},{"v":173.25,"d":"173.3"},16.5,{"v":0,"d":"0.0"},{"v":0,"d":"0.0"},1567.5,1732.5]
[22,{"$f":"'Out prod'!B17","v":0},{"$f":"IF('In prod (weekly)'!P10>0,'In prod (weekly)'!P10,IF('In prod (weekly)'!Q10>0,'In prod (weekly)'!Q10*7*('Out prod'!B17+'Out prod'!S17)/1000, ))","v":0},{"$f":"IF('In prod (weekly)'!Q10>0,'In prod (weekly)'!Q10,IF('In prod (weekly)'!P10>0,'In prod (weekly)'!P10*1000/7/('Out prod'!S17+'Out prod'!B17), ))","v":0},{"$f":"IF(C17>0,SUM(C$10:C17), )","v":0},{"$f":"IF('In prod (weekly)'!S10>0,'In prod (weekly)'!S10,IF('In prod (weekly)'!R10>0,'In prod (weekly)'!R10*1000/7/('Out prod'!B17+'Out prod'!S17), ))","v":0},0,{"$f":"IF(E17>0,(E17/'Out prod'!AA17)*1000, )","v":0},{"$f":"IF(E17>0,(E17/'Out prod'!AB17)*1000, )","v":0},{"$f":"'In prod (weekly)'!N10/10","v":0},{"$nulls":3},{"$f":"'In prod (weekly)'!O10/10","v":0},{"$f":"'In prod (weekly)'!T10","v":0},{"v":161.025,"d":"161.0"},{"v":177.975,"d":"178.0"},{"v":16.94999999999999,"d":"17.0"},{"v":0,"d":"0.0"},{"v":0,"d":"0.0"},1610.25,1779.75]
[23,{"$f":"'Out prod'!B18","v":0},{"$f":"IF('In prod (weekly)'!P11>0,'In prod (weekly)'!P11,IF('In prod (weekly)'!Q11>0,'In prod (weekly)'!Q11*7*('Out prod'!B18+'Out prod'!S18)/1000, ))","v":0},{"$f":"IF('In prod (weekly)'!Q11>0,'In prod (weekly)'!Q11,IF('In prod (weekly)'!P11>0,'In prod (weekly)'!P11*1000/7/('Out prod'!S18+'Out prod'!B18), ))","v":0},{"$f":"IF(C18>0,SUM(C$10:C18), )","v":0},{"$f":"IF('In prod (weekly)'!S11>0,'In prod (weekly)'!S11,IF('In prod (weekly)'!R11>0,'In prod (weekly)'!R11*1000/7/('Out prod'!B18+'Out prod'!S18), ))","v":0},0,{"$f":"IF(E18>0,(E18/'Out prod'!AA18)*1000, )","v":0},{"$f":"IF(E18>0,(E18/'Out prod'!AB18)*1000, )","v":0},{"$f":"'In prod (weekly)'!N11/10","v":0},{"$nulls":3},{"$f":"'In prod (weekly)'!O11/10","v":0},{"$f":"'In prod (weekly)'!T11","v":0},{"v":164.825,"d":"164.8"},{"v":182.175,"d":"182.2"},{"v":17.350000000000023,"d":"17.4"},{"v":0,"d":"0.0"},{"v":0,"d":"0.0"},1648.25,1821.75]
[24,{"$f":"'Out prod'!B19","v":0},{"$f":"IF('In prod (weekly)'!P12>0,'In prod (weekly)'!P12,IF('In prod (weekly)'!Q12>0,'In prod (weekly)'!Q12*7*('Out prod'!B19+'Out prod'!S19)/1000, ))","v":0},{"$f":"IF('In prod (weekly)'!Q12>0,'In prod (weekly)'!Q12,IF('In prod (weekly)'!P12>0,'In prod (weekly)'!P12*1000/7/('Out prod'!S19+'Out prod'!B19), ))","v":0},{"$f":"IF(C19>0,SUM(C$10:C19), )","v":0},{"$f":"IF('In prod (weekly)'!S12>0,'In prod (weekly)'!S12,IF('In prod (weekly)'!R12>0,'In prod (weekly)'!R12*1000/7/('Out prod'!B19+'Out prod'!S19), ))","v":0},0,{"$f":"IF(E19>0,(E19/'Out prod'!AA19)*1000, )","v":0},{"$f":"IF(E19>0,(E19/'Out prod'!AB19)*1000, )","v":0},{"$f":"'In prod (weekly)'!N12/10","v":0},{"$nulls":3},{"$f":"'In prod (weekly)'!O12/10","v":0},{"$f":"'In prod (weekly)'!T12","v":0},{"v":168.435,"d":"168.4"},{"v":186.16500000000002,"d":"186.2"},{"v":17.730000000000018,"d":"17.7"},{"v":0,"d":"0.0"},{"v":0,"d":"0.0"},1684.35,1861.65]
[25,{"$f":"'Out prod'!B20","v":0},{"$f":"IF('In prod (weekly)'!P13>0,'In prod (weekly)'!P13,IF('In prod (weekly)'!Q13>0,'In prod (weekly)'!Q13*7*('Out prod'!B20+'Out prod'!S20)/1000, ))","v":0},{"$f":"IF('In prod (weekly)'!Q13>0,'In prod (weekly)'!Q13,IF('In prod (weekly)'!P13>0,'In prod (weekly)'!P13*1000/7/('Out prod'!S20+'Out prod'!B20), ))","v":0},{"$f":"IF(C20>0,SUM(C$10:C20), )","v":0},{"$f":"IF('In prod (weekly)'!S13>0,'In prod (weekly)'!S13,IF('In prod (weekly)'!R13>0,'In prod (weekly)'!R13*1000/7/('Out prod'!B20+'Out prod'!S20), ))","v":0},0,{"$f":"IF(E20>0,(E20/'Out prod'!AA20)*1000, )","v":0},{"$f":"IF(E20>0,(E20/'Out prod'!AB20)*1000, )","v":0},{"$f":"'In prod (weekly)'!N13/10","v":0},{"$nulls":3},{"$f":"'In prod (weekly)'!O13/10","v":0},{"$f":"'In prod (weekly)'!T13","v":0},{"v":171.76,"d":"171.8"},{"v":189.84,"d":"189.8"},{"v":18.080000000000013,"d":"18.1"},{"v":0,"d":"0.0"},{"v":0,"d":"0.0"},1717.6,1898.4]
[26,{"$f":"'Out prod'!B21","v":0},{"$f":"IF('In prod (weekly)'!P14>0,'In prod (weekly)'!P14,IF('In prod (weekly)'!Q14>0,'In prod (weekly)'!Q14*7*('Out prod'!B21+'Out prod'!S21)/1000, ))","v":0},{"$f":"IF('In prod (weekly)'!Q14>0,'In prod (weekly)'!Q14,IF('In prod (weekly)'!P14>0,'In prod (weekly)'!P14*1000/7/('Out prod'!S21+'Out prod'!B21), ))","v":0},{"$f":"IF(C21>0,SUM(C$10:C21), )","v":0},{"$f":"IF('In prod (weekly)'!S14>0,'In prod (weekly)'!S14,IF('In prod (weekly)'!R14>0,'In prod (weekly)'!R14*1000/7/('Out prod'!B21+'Out prod'!S21), ))","v":0},0,{"$f":"IF(E21>0,(E21/'Out prod'!AA21)*1000, )","v":0},{"$f":"IF(E21>0,(E21/'Out prod'!AB21)*1000, )","v":0},{"$f":"'In prod (weekly)'!N14/10","v":0},{"$nulls":3},{"$f":"'In prod (weekly)'!O14/10","v":0},{"$f":"'In prod (weekly)'!T14","v":0},{"v":173.66,"d":"173.7"},{"v":191.94,"d":"191.9"},{"v":18.28,"d":"18.3"},{"v":0,"d":"0.0"},{"v":0,"d":"0.0"},1736.6,1919.4]
[27,{"$f":"'Out prod'!B22","v":0},{"$f":"IF('In prod (weekly)'!P15>0,'In prod (weekly)'!P15,IF('In prod (weekly)'!Q15>0,'In prod (weekly)'!Q15*7*('Out prod'!B22+'Out prod'!S22)/1000, ))","v":0},{"$f":"IF('In prod (weekly)'!Q15>0,'In prod (weekly)'!Q15,IF('In prod (weekly)'!P15>0,'In prod (weekly)'!P15*1000/7/('Out prod'!S22+'Out prod'!B22), ))","v":0},{"$f":"IF(C22>0,SUM(C$10:C22), )","v":0},{"$f":"IF('In prod (weekly)'!S15>0,'In prod (weekly)'!S15,IF('In prod (weekly)'!R15>0,'In prod (weekly)'!R15*1000/7/('Out prod'!B22+'Out prod'!S22), ))","v":0},0,{"$f":"IF(E22>0,(E22/'Out prod'!AA22)*1000, )","v":0},{"$f":"IF(E22>0,(E22/'Out prod'!AB22)*1000, )","v":0},{"$f":"'In prod (weekly)'!N15/10","v":0},{"$nulls":3},{"$f":"'In prod (weekly)'!O15/10","v":0},{"$f":"'In prod (weekly)'!T15","v":0},{"v":175.08499999999998,"d":"175.1"},{"v":193.51500000000001,"d":"193.5"},{"v":18.430000000000035,"d":"18.4"},{"v":0,"d":"0.0"},{"v":0,"d":"0.0"},1750.85,1935.15]
[28,{"$f":"'Out prod'!B23","v":0},{"$f":"IF('In prod (weekly)'!P16>0,'In prod (weekly)'!P16,IF('In prod (weekly)'!Q16>0,'In prod (weekly)'!Q16*7*('Out prod'!B23+'Out prod'!S23)/1000, ))","v":0},{"$f":"IF('In prod (weekly)'!Q16>0,'In prod (weekly)'!Q16,IF('In prod (weekly)'!P16>0,'In prod (weekly)'!P16*1000/7/('Out prod'!S23+'Out prod'!B23), ))","v":0},{"$f":"IF(C23>0,SUM(C$10:C23), )","v":0},{"$f":"IF('In prod (weekly)'!S16>0,'In prod (weekly)'!S16,IF('In prod (weekly)'!R16>0,'In prod (weekly)'!R16*1000/7/('Out prod'!B23+'Out prod'!S23), ))","v":0},0,{"$f":"IF(E23>0,(E23/'Out prod'!AA23)*1000, )","v":0},{"$f":"IF(E23>0,(E23/'Out prod'!AB23)*1000, )","v":0},{"$f":"'In prod (weekly)'!N16/10","v":0},{"$nulls":3},{"$f":"'In prod (weekly)'!O16/10","v":0},{"$f":"'In prod (weekly)'!T16","v":0},{"v":176.225,"d":"176.2"},{"v":194.775,"d":"194.8"},{"v":18.55000000000001,"d":"18.6"},{"v":0,"d":"0.0"},{"v":0,"d":"0.0"},1762.25,1947.75]
[29,{"$f":"'Out prod'!B24","v":0},{"$f":"IF('In prod (weekly)'!P17>0,'In prod (weekly)'!P17,IF('In prod (weekly)'!Q17>0,'In prod (weekly)'!Q17*7*('Out prod'!B24+'Out prod'!S24)/1000, ))","v":0},{"$f":"IF('In prod (weekly)'!Q17>0,'In prod (weekly)'!Q17,IF('In prod (weekly)'!P17>0,'In prod (weekly)'!P17*1000/7/('Out prod'!S24+'Out prod'!B24), ))","v":0},{"$f":"IF(C24>0,SUM(C$10:C24), )","v":0},{"$f":"IF('In prod (weekly)'!S17>0,'In prod (weekly)'!S17,IF('In prod (weekly)'!R17>0,'In prod (weekly)'!R17*1000/7/('Out prod'!B24+'Out prod'!S24), ))","v":0},0,{"$f":"IF(E24>0,(E24/'Out prod'!AA24)*1000, )","v":0},{"$f":"IF(E24>0,(E24/'Out prod'!AB24)*1000, )","v":0},{"$f":"'In prod (weekly)'!N17/10","v":0},{"$nulls":3},{"$f":"'In prod (weekly)'!O17/10","v":0},{"$f":"'In prod (weekly)'!T17","v":0},{"v":176.89000000000001,"d":"176.9"},{"v":195.51,"d":"195.5"},{"v":18.619999999999976,"d":"18.6"},{"v":0,"d":"0.0"},{"v":0,"d":"0.0"},1768.9,1955.1]
[30,{"$f":"'Out prod'!B25","v":0},{"$f":"IF('In prod (weekly)'!P18>0,'In prod (weekly)'!P18,IF('In prod (weekly)'!Q18>0,'In prod (weekly)'!Q18*7*('Out prod'!B25+'Out prod'!S25)/1000, ))","v":0},{"$f":"IF('In prod (weekly)'!Q18>0,'In prod (weekly)'!Q18,IF('In prod (weekly)'!P18>0,'In prod (weekly)'!P18*1000/7/('Out prod'!S25+'Out prod'!B25), ))","v":0},{"$f":"IF(C25>0,SUM(C$10:C25), )","v":0},{"$f":"IF('In prod (weekly)'!S18>0,'In prod (weekly)'!S18,IF('In prod (weekly)'!R18>0,'In prod (weekly)'!R18*1000/7/('Out prod'!B25+'Out prod'!S25), ))","v":0},0,{"$f":"IF(E25>0,(E25/'Out prod'!AA25)*1000, )","v":0},{"$f":"IF(E25>0,(E25/'Out prod'!AB25)*1000, )","v":0},{"$f":"'In prod (weekly)'!N18/10","v":0},178,"-",196,{"$f":"'In prod (weekly)'!O18/10","v":0},{"$f":"'In prod (weekly)'!T18","v":0},{"v":178,"d":"178.0"},{"v":196,"d":"196.0"},{"v":18,"d":"18.0"},{"v":0,"d":"0.0"},{"v":0,"d":"0.0"},1776.5,1963.5]
[31,{"$f":"'Out prod'!B26","v":0},{"$f":"IF('In prod (weekly)'!P19>0,'In prod (weekly)'!P19,IF('In prod (weekly)'!Q19>0,'In prod (weekly)'!Q19*7*('Out prod'!B26+'Out prod'!S26)/1000, ))","v":0},{"$f":"IF('In prod (weekly)'!Q19>0,'In prod (weekly)'!Q19,IF('In prod (weekly)'!P19>0,'In prod (weekly)'!P19*1000/7/('Out prod'!S26+'Out prod'!B26), ))","v":0},{"$f":"IF(C26>0,SUM(C$10:C26), )","v":0},{"$f":"IF('In prod (weekly)'!S19>0,'In prod (weekly)'!S19,IF('In prod (weekly)'!R19>0,'In prod (weekly)'!R19*1000/7/('Out prod'!B26+'Out prod'!S26), ))","v":0},0,{"$f":"IF(E26>0,(E26/'Out prod'!AA26)*1000, )","v":0},{"$f":"IF(E26>0,(E26/'Out prod'!AB26)*1000, )","v":0},{"$f":"'In prod (weekly)'!N19/10","v":0},{"$nulls":3},{"$f":"'In prod (weekly)'!O19/10","v":0},{"$f":"'In prod (weekly)'!T19","v":0},{"v":177.935,"d":"177.9"},{"v":196.66500000000002,"d":"196.7"},{"v":18.730000000000018,"d":"18.7"},{"v":0,"d":"0.0"},{"v":0,"d":"0.0"},1779.35,1966.65]
[32,{"$f":"'Out prod'!B27","v":0},{"$f":"IF('In prod (weekly)'!P20>0,'In prod (weekly)'!P20,IF('In prod (weekly)'!Q20>0,'In prod (weekly)'!Q20*7*('Out prod'!B27+'Out prod'!S27)/1000, ))","v":0},{"$f":"IF('In prod (weekly)'!Q20>0,'In prod (weekly)'!Q20,IF('In prod (weekly)'!P20>0,'In prod (weekly)'!P20*1000/7/('Out prod'!S27+'Out prod'!B27), ))","v":0},{"$f":"IF(C27>0,SUM(C$10:C27), )","v":0},{"$f":"IF('In prod (weekly)'!S20>0,'In prod (weekly)'!S20,IF('In prod (weekly)'!R20>0,'In prod (weekly)'!R20*1000/7/('Out prod'!B27+'Out prod'!S27), ))","v":0},{"$f":"IF(D27>0,IF(F27>0,F27/D27, ), )","v":0},{"$f":"IF(E27>0,(E27/'Out prod'!AA27)*1000, )","v":0},{"$f":"IF(E27>0,(E27/'Out prod'!AB27)*1000, )","v":0},{"$f":"'In prod (weekly)'!N20/10","v":0},{"$nulls":3},{"$f":"'In prod (weekly)'!O20/10","v":0},{"$f":"'In prod (weekly)'!T20","v":0},{"v":178.22,"d":"178.2"},{"v":196.98,"d":"197.0"},{"v":18.75999999999999,"d":"18.8"},{"$f":"IF(H27<>0,H27,S26)","v":{"v":0,"d":"0.0"}},{"v":0,"d":"0.0"},1782.2,1969.8]
[33,{"$f":"'Out prod'!B28","v":0},{"$f":"IF('In prod (weekly)'!P21>0,'In prod (weekly)'!P21,IF('In prod (weekly)'!Q21>0,'In prod (weekly)'!Q21*7*('Out prod'!B28+'Out prod'!S28)/1000, ))","v":0},{"$f":"IF('In prod (weekly)'!Q21>0,'In prod (weekly)'!Q21,IF('In prod (weekly)'!P21>0,'In prod (weekly)'!P21*1000/7/('Out prod'!S28+'Out prod'!B28), ))","v":0},{"$f":"IF(C28>0,SUM(C$10:C28), )","v":0},{"$f":"IF('In prod (weekly)'!S21>0,'In prod (weekly)'!S21,IF('In prod (weekly)'!R21>0,'In prod (weekly)'!R21*1000/7/('Out prod'!B28+'Out prod'!S28), ))","v":0},0,{"$f":"IF(E28>0,(E28/'Out prod'!AA28)*1000, )","v":0},{"$f":"IF(E28>0,(E28/'Out prod'!AB28)*1000, )","v":0},{"$f":"'In prod (weekly)'!N21/10","v":0},{"$nulls":3},{"$f":"'In prod (weekly)'!O21/10","v":0},{"$f":"'In prod (weekly)'!T21","v":0},{"v":178.505,"d":"178.5"},{"v":197.29500000000002,"d":"197.3"},{"v":18.79000000000002,"d":"18.8"},{"v":0,"d":"0.0"},{"v":0,"d":"0.0"},1785.05,1972.95]
[34,{"$f":"'Out prod'!B29","v":0},{"$f":"IF('In prod (weekly)'!P22>0,'In prod (weekly)'!P22,IF('In prod (weekly)'!Q22>0,'In prod (weekly)'!Q22*7*('Out prod'!B29+'Out prod'!S29)/1000, ))","v":0},{"$f":"IF('In prod (weekly)'!Q22>0,'In prod (weekly)'!Q22,IF('In prod (weekly)'!P22>0,'In prod (weekly)'!P22*1000/7/('Out prod'!S29+'Out prod'!B29), ))","v":0},{"$f":"IF(C29>0,SUM(C$10:C29), )","v":0},{"$f":"IF('In prod (weekly)'!S22>0,'In prod (weekly)'!S22,IF('In prod (weekly)'!R22>0,'In prod (weekly)'!R22*1000/7/('Out prod'!B29+'Out prod'!S29), ))","v":0},0,{"$f":"IF(E29>0,(E29/'Out prod'!AA29)*1000, )","v":0},{"$f":"IF(E29>0,(E29/'Out prod'!AB29)*1000, )","v":0},{"$f":"'In prod (weekly)'!N22/10","v":0},{"$nulls":3},{"$f":"'In prod (weekly)'!O22/10","v":0},{"$f":"'In prod (weekly)'!T22","v":0},{"v":178.79000000000002,"d":"178.8"},{"v":197.60999999999999,"d":"197.6"},{"v":18.819999999999965,"d":"18.8"},{"v":0,"d":"0.0"},{"v":0,"d":"0.0"},1787.9,1976.1]
[35,{"$f":"'Out prod'!B30","v":0},{"$f":"IF('In prod (weekly)'!P23>0,'In prod (weekly)'!P23,IF('In prod (weekly)'!Q23>0,'In prod (weekly)'!Q23*7*('Out prod'!B30+'Out prod'!S30)/1000, ))","v":0},{"$f":"IF('In prod (weekly)'!Q23>0,'In prod (weekly)'!Q23,IF('In prod (weekly)'!P23>0,'In prod (weekly)'!P23*1000/7/('Out prod'!S30+'Out prod'!B30), ))","v":0},{"$f":"IF(C30>0,SUM(C$10:C30), )","v":0},{"$f":"IF('In prod (weekly)'!S23>0,'In prod (weekly)'!S23,IF('In prod (weekly)'!R23>0,'In prod (weekly)'!R23*1000/7/('Out prod'!B30+'Out prod'!S30), ))","v":0},0,{"$f":"IF(E30>0,(E30/'Out prod'!AA30)*1000, )","v":0},{"$f":"IF(E30>0,(E30/'Out prod'!AB30)*1000, )","v":0},{"$f":"'In prod (weekly)'!N23/10","v":0},{"$nulls":3},{"$f":"'In prod (weekly)'!O23/10","v":0},{"$f":"'In prod (weekly)'!T23","v":0},{"v":179.075,"d":"179.1"},{"v":197.925,"d":"197.9"},{"v":18.850000000000023,"d":"18.9"},{"v":0,"d":"0.0"},{"v":0,"d":"0.0"},1790.75,1979.25]
[36,{"$f":"'Out prod'!B31","v":0},{"$f":"IF('In prod (weekly)'!P24>0,'In prod (weekly)'!P24,IF('In prod (weekly)'!Q24>0,'In prod (weekly)'!Q24*7*('Out prod'!B31+'Out prod'!S31)/1000, ))","v":0},{"$f":"IF('In prod (weekly)'!Q24>0,'In prod (weekly)'!Q24,IF('In prod (weekly)'!P24>0,'In prod (weekly)'!P24*1000/7/('Out prod'!S31+'Out prod'!B31), ))","v":0},{"$f":"IF(C31>0,SUM(C$10:C31), )","v":0},{"$f":"IF('In prod (weekly)'!S24>0,'In prod (weekly)'!S24,IF('In prod (weekly)'!R24>0,'In prod (weekly)'!R24*1000/7/('Out prod'!B31+'Out prod'!S31), ))","v":0},0,{"$f":"IF(E31>0,(E31/'Out prod'!AA31)*1000, )","v":0},{"$f":"IF(E31>0,(E31/'Out prod'!AB31)*1000, )","v":0},{"$f":"'In prod (weekly)'!N24/10","v":0},{"$nulls":3},{"$f":"'In prod (weekly)'!O24/10","v":0},{"$f":"'In prod (weekly)'!T24","v":0},{"v":179.35999999999999,"d":"179.4"},{"v":198.24,"d":"198.2"},{"v":18.880000000000024,"d":"18.9"},{"v":0,"d":"0.0"},{"v":0,"d":"0.0"},1793.6,1982.4]
[37,{"$f":"'Out prod'!B32","v":0},{"$f":"IF('In prod (weekly)'!P25>0,'In prod (weekly)'!P25,IF('In prod (weekly)'!Q25>0,'In prod (weekly)'!Q25*7*('Out prod'!B32+'Out prod'!S32)/1000, ))","v":0},{"$f":"IF('In prod (weekly)'!Q25>0,'In prod (weekly)'!Q25,IF('In prod (weekly)'!P25>0,'In prod (weekly)'!P25*1000/7/('Out prod'!S32+'Out prod'!B32), ))","v":0},{"$f":"IF(C32>0,SUM(C$10:C32), )","v":0},{"$f":"IF('In prod (weekly)'!S25>0,'In prod (weekly)'!S25,IF('In prod (weekly)'!R25>0,'In prod (weekly)'!R25*1000/7/('Out prod'!B32+'Out prod'!S32), ))","v":0},0,{"$f":"IF(E32>0,(E32/'Out prod'!AA32)*1000, )","v":0},{"$f":"IF(E32>0,(E32/'Out prod'!AB32)*1000, )","v":0},{"$f":"'In prod (weekly)'!N25/10","v":0},{"$nulls":3},{"$f":"'In prod (weekly)'!O25/10","v":0},{"$f":"'In prod (weekly)'!T25","v":0},{"v":179.645,"d":"179.6"},{"v":198.555,"d":"198.6"},{"v":18.909999999999997,"d":"18.9"},{"v":0,"d":"0.0"},{"v":0,"d":"0.0"},1796.45,1985.55]
[38,{"$f":"'Out prod'!B33","v":0},{"$f":"IF('In prod (weekly)'!P26>0,'In prod (weekly)'!P26,IF('In prod (weekly)'!Q26>0,'In prod (weekly)'!Q26*7*('Out prod'!B33+'Out prod'!S33)/1000, ))","v":0},{"$f":"IF('In prod (weekly)'!Q26>0,'In prod (weekly)'!Q26,IF('In prod (weekly)'!P26>0,'In prod (weekly)'!P26*1000/7/('Out prod'!S33+'Out prod'!B33), ))","v":0},{"$f":"IF(C33>0,SUM(C$10:C33), )","v":0},{"$f":"IF('In prod (weekly)'!S26>0,'In prod (weekly)'!S26,IF('In prod (weekly)'!R26>0,'In prod (weekly)'!R26*1000/7/('Out prod'!B33+'Out prod'!S33), ))","v":0},0,{"$f":"IF(E33>0,(E33/'Out prod'!AA33)*1000, )","v":0},{"$f":"IF(E33>0,(E33/'Out prod'!AB33)*1000, )","v":0},{"$f":"'In prod (weekly)'!N26/10","v":0},{"$nulls":3},{"$f":"'In prod (weekly)'!O26/10","v":0},{"$f":"'In prod (weekly)'!T26","v":0},{"v":179.93,"d":"179.9"},{"v":198.87,"d":"198.9"},{"v":18.939999999999998,"d":"18.9"},{"v":0,"d":"0.0"},{"v":0,"d":"0.0"},1799.3,1988.7]
[39,{"$f":"'Out prod'!B34","v":0},{"$f":"IF('In prod (weekly)'!P27>0,'In prod (weekly)'!P27,IF('In prod (weekly)'!Q27>0,'In prod (weekly)'!Q27*7*('Out prod'!B34+'Out prod'!S34)/1000, ))","v":0},{"$f":"IF('In prod (weekly)'!Q27>0,'In prod (weekly)'!Q27,IF('In prod (weekly)'!P27>0,'In prod (weekly)'!P27*1000/7/('Out prod'!S34+'Out prod'!B34), ))","v":0},{"$f":"IF(C34>0,SUM(C$10:C34), )","v":0},{"$f":"IF('In prod (weekly)'!S27>0,'In prod (weekly)'!S27,IF('In prod (weekly)'!R27>0,'In prod (weekly)'!R27*1000/7/('Out prod'!B34+'Out prod'!S34), ))","v":0},0,{"$f":"IF(E34>0,(E34/'Out prod'!AA34)*1000, )","v":0},{"$f":"IF(E34>0,(E34/'Out prod'!AB34)*1000, )","v":0},{"$f":"'In prod (weekly)'!N27/10","v":0},{"$nulls":3},{"$f":"'In prod (weekly)'!O27/10","v":0},{"$f":"'In prod (weekly)'!T27","v":0},{"v":180.215,"d":"180.2"},{"v":199.185,"d":"199.2"},{"v":18.97,"d":"19.0"},{"v":0,"d":"0.0"},{"v":0,"d":"0.0"},1802.15,1991.85]
[40,{"$f":"'Out prod'!B35","v":0},{"$f":"IF('In prod (weekly)'!P28>0,'In prod (weekly)'!P28,IF('In prod (weekly)'!Q28>0,'In prod (weekly)'!Q28*7*('Out prod'!B35+'Out prod'!S35)/1000, ))","v":0},{"$f":"IF('In prod (weekly)'!Q28>0,'In prod (weekly)'!Q28,IF('In prod (weekly)'!P28>0,'In prod (weekly)'!P28*1000/7/('Out prod'!S35+'Out prod'!B35), ))","v":0},{"$f":"IF(C35>0,SUM(C$10:C35), )","v":0},{"$f":"IF('In prod (weekly)'!S28>0,'In prod (weekly)'!S28,IF('In prod (weekly)'!R28>0,'In prod (weekly)'!R28*1000/7/('Out prod'!B35+'Out prod'!S35), ))","v":0},0,{"$f":"IF(E35>0,(E35/'Out prod'!AA35)*1000, )","v":0},{"$f":"IF(E35>0,(E35/'Out prod'!AB35)*1000, )","v":0},{"$f":"'In prod (weekly)'!N28/10","v":0},180,"-",200,{"$f":"'In prod (weekly)'!O28/10","v":0},{"$f":"'In prod (weekly)'!T28","v":0},{"v":180,"d":"180.0"},{"v":200,"d":"200.0"},{"v":20,"d":"20.0"},{"v":0,"d":"0.0"},{"v":0,"d":"0.0"},1805,1995]
[41,{"$f":"'Out prod'!B36","v":0},{"$f":"IF('In prod (weekly)'!P29>0,'In prod (weekly)'!P29,IF('In prod (weekly)'!Q29>0,'In prod (weekly)'!Q29*7*('Out prod'!B36+'Out prod'!S36)/1000, ))","v":0},{"$f":"IF('In prod (weekly)'!Q29>0,'In prod (weekly)'!Q29,IF('In prod (weekly)'!P29>0,'In prod (weekly)'!P29*1000/7/('Out prod'!S36+'Out prod'!B36), ))","v":0},{"$f":"IF(C36>0,SUM(C$10:C36), )","v":0},{"$f":"IF('In prod (weekly)'!S29>0,'In prod (weekly)'!S29,IF('In prod (weekly)'!R29>0,'In prod (weekly)'!R29*1000/7/('Out prod'!B36+'Out prod'!S36), ))","v":0},0,{"$f":"IF(E36>0,(E36/'Out prod'!AA36)*1000, )","v":0},{"$f":"IF(E36>0,(E36/'Out prod'!AB36)*1000, )","v":0},{"$f":"'In prod (weekly)'!N29/10","v":0},{"$nulls":3},{"$f":"'In prod (weekly)'!O29/10","v":0},{"$f":"'In prod (weekly)'!T29","v":0},{"v":180.69,"d":"180.7"},{"v":199.70999999999998,"d":"199.7"},{"v":19.019999999999982,"d":"19.0"},{"v":0,"d":"0.0"},{"v":0,"d":"0.0"},1806.9,1997.1]
[42,{"$f":"'Out prod'!B37","v":0},{"$f":"IF('In prod (weekly)'!P30>0,'In prod (weekly)'!P30,IF('In prod (weekly)'!Q30>0,'In prod (weekly)'!Q30*7*('Out prod'!B37+'Out prod'!S37)/1000, ))","v":0},{"$f":"IF('In prod (weekly)'!Q30>0,'In prod (weekly)'!Q30,IF('In prod (weekly)'!P30>0,'In prod (weekly)'!P30*1000/7/('Out prod'!S37+'Out prod'!B37), ))","v":0},{"$f":"IF(C37>0,SUM(C$10:C37), )","v":0},{"$f":"IF('In prod (weekly)'!S30>0,'In prod (weekly)'!S30,IF('In prod (weekly)'!R30>0,'In prod (weekly)'!R30*1000/7/('Out prod'!B37+'Out prod'!S37), ))","v":0},0,{"$f":"IF(E37>0,(E37/'Out prod'!AA37)*1000, )","v":0},{"$f":"IF(E37>0,(E37/'Out prod'!AB37)*1000, )","v":0},{"$f":"'In prod (weekly)'!N30/10","v":0},{"$nulls":3},{"$f":"'In prod (weekly)'!O30/10","v":0},{"$f":"'In prod (weekly)'!T30","v":0},{"v":180.88,"d":"180.9"},{"v":199.92000000000002,"d":"199.9"},{"v":19.04000000000002,"d":"19.0"},{"v":0,"d":"0.0"},{"v":0,"d":"0.0"},1808.8,1999.2]
[43,{"$f":"'Out prod'!B38","v":0},{"$f":"IF('In prod (weekly)'!P31>0,'In prod (weekly)'!P31,IF('In prod (weekly)'!Q31>0,'In prod (weekly)'!Q31*7*('Out prod'!B38+'Out prod'!S38)/1000, ))","v":0},{"$f":"IF('In prod (weekly)'!Q31>0,'In prod (weekly)'!Q31,IF('In prod (weekly)'!P31>0,'In prod (weekly)'!P31*1000/7/('Out prod'!S38+'Out prod'!B38), ))","v":0},{"$f":"IF(C38>0,SUM(C$10:C38), )","v":0},{"$f":"IF('In prod (weekly)'!S31>0,'In prod (weekly)'!S31,IF('In prod (weekly)'!R31>0,'In prod (weekly)'!R31*1000/7/('Out prod'!B38+'Out prod'!S38), ))","v":0},0,{"$f":"IF(E38>0,(E38/'Out prod'!AA38)*1000, )","v":0},{"$f":"IF(E38>0,(E38/'Out prod'!AB38)*1000, )","v":0},{"$f":"'In prod (weekly)'!N31/10","v":0},{"$nulls":3},{"$f":"'In prod (weekly)'!O31/10","v":0},{"$f":"'In prod (weekly)'!T31","v":0},{"v":181.07,"d":"181.1"},{"v":200.13,"d":"200.1"},{"v":19.060000000000002,"d":"19.1"},{"v":0,"d":"0.0"},{"v":0,"d":"0.0"},1810.7,2001.3]
[44,{"$f":"'Out prod'!B39","v":0},{"$f":"IF('In prod (weekly)'!P32>0,'In prod (weekly)'!P32,IF('In prod (weekly)'!Q32>0,'In prod (weekly)'!Q32*7*('Out prod'!B39+'Out prod'!S39)/1000, ))","v":0},{"$f":"IF('In prod (weekly)'!Q32>0,'In prod (weekly)'!Q32,IF('In prod (weekly)'!P32>0,'In prod (weekly)'!P32*1000/7/('Out prod'!S39+'Out prod'!B39), ))","v":0},{"$f":"IF(C39>0,SUM(C$10:C39), )","v":0},{"$f":"IF('In prod (weekly)'!S32>0,'In prod (weekly)'!S32,IF('In prod (weekly)'!R32>0,'In prod (weekly)'!R32*1000/7/('Out prod'!B39+'Out prod'!S39), ))","v":0},0,{"$f":"IF(E39>0,(E39/'Out prod'!AA39)*1000, )","v":0},{"$f":"IF(E39>0,(E39/'Out prod'!AB39)*1000, )","v":0},{"$f":"'In prod (weekly)'!N32/10","v":0},{"$nulls":3},{"$f":"'In prod (weekly)'!O32/10","v":0},{"$f":"'In prod (weekly)'!T32","v":0},{"v":181.26,"d":"181.3"},{"v":200.34,"d":"200.3"},{"v":19.080000000000013,"d":"19.1"},{"v":0,"d":"0.0"},{"v":0,"d":"0.0"},1812.6,2003.4]
[45,{"$f":"'Out prod'!B40","v":0},{"$f":"IF('In prod (weekly)'!P33>0,'In prod (weekly)'!P33,IF('In prod (weekly)'!Q33>0,'In prod (weekly)'!Q33*7*('Out prod'!B40+'Out prod'!S40)/1000, ))","v":0},{"$f":"IF('In prod (weekly)'!Q33>0,'In prod (weekly)'!Q33,IF('In prod (weekly)'!P33>0,'In prod (weekly)'!P33*1000/7/('Out prod'!S40+'Out prod'!B40), ))","v":0},{"$f":"IF(C40>0,SUM(C$10:C40), )","v":0},{"$f":"IF('In prod (weekly)'!S33>0,'In prod (weekly)'!S33,IF('In prod (weekly)'!R33>0,'In prod (weekly)'!R33*1000/7/('Out prod'!B40+'Out prod'!S40), ))","v":0},0,{"$f":"IF(E40>0,(E40/'Out prod'!AA40)*1000, )","v":0},{"$f":"IF(E40>0,(E40/'Out prod'!AB40)*1000, )","v":0},{"$f":"'In prod (weekly)'!N33/10","v":0},{"$nulls":3},{"$f":"'In prod (weekly)'!O33/10","v":0},{"$f":"'In prod (weekly)'!T33","v":0},{"v":181.45,"d":"181.5"},{"v":200.55,"d":"200.6"},{"v":19.100000000000023,"d":"19.1"},{"v":0,"d":"0.0"},{"v":0,"d":"0.0"},1814.5,2005.5]
[46,{"$f":"'Out prod'!B41","v":0},{"$f":"IF('In prod (weekly)'!P34>0,'In prod (weekly)'!P34,IF('In prod (weekly)'!Q34>0,'In prod (weekly)'!Q34*7*('Out prod'!B41+'Out prod'!S41)/1000, ))","v":0},{"$f":"IF('In prod (weekly)'!Q34>0,'In prod (weekly)'!Q34,IF('In prod (weekly)'!P34>0,'In prod (weekly)'!P34*1000/7/('Out prod'!S41+'Out prod'!B41), ))","v":0},{"$f":"IF(C41>0,SUM(C$10:C41), )","v":0},{"$f":"IF('In prod (weekly)'!S34>0,'In prod (weekly)'!S34,IF('In prod (weekly)'!R34>0,'In prod (weekly)'!R34*1000/7/('Out prod'!B41+'Out prod'!S41), ))","v":0},0,{"$f":"IF(E41>0,(E41/'Out prod'!AA41)*1000, )","v":0},{"$f":"IF(E41>0,(E41/'Out prod'!AB41)*1000, )","v":0},{"$f":"'In prod (weekly)'!N34/10","v":0},{"$nulls":3},{"$f":"'In prod (weekly)'!O34/10","v":0},{"$f":"'In prod (weekly)'!T34","v":0},{"v":181.64000000000001,"d":"181.6"},{"v":200.76,"d":"200.8"},{"v":19.119999999999976,"d":"19.1"},{"v":0,"d":"0.0"},{"v":0,"d":"0.0"},1816.4,2007.6]
[47,{"$f":"'Out prod'!B42","v":0},{"$f":"IF('In prod (weekly)'!P35>0,'In prod (weekly)'!P35,IF('In prod (weekly)'!Q35>0,'In prod (weekly)'!Q35*7*('Out prod'!B42+'Out prod'!S42)/1000, ))","v":0},{"$f":"IF('In prod (weekly)'!Q35>0,'In prod (weekly)'!Q35,IF('In prod (weekly)'!P35>0,'In prod (weekly)'!P35*1000/7/('Out prod'!S42+'Out prod'!B42), ))","v":0},{"$f":"IF(C42>0,SUM(C$10:C42), )","v":0},{"$f":"IF('In prod (weekly)'!S35>0,'In prod (weekly)'!S35,IF('In prod (weekly)'!R35>0,'In prod (weekly)'!R35*1000/7/('Out prod'!B42+'Out prod'!S42), ))","v":0},0,{"$f":"IF(E42>0,(E42/'Out prod'!AA42)*1000, )","v":0},{"$f":"IF(E42>0,(E42/'Out prod'!AB42)*1000, )","v":0},{"$f":"'In prod (weekly)'!N35/10","v":0},{"$nulls":3},{"$f":"'In prod (weekly)'!O35/10","v":0},{"$f":"'In prod (weekly)'!T35","v":0},{"v":181.82999999999998,"d":"181.8"},{"v":200.97,"d":"201.0"},{"v":19.140000000000015,"d":"19.1"},{"v":0,"d":"0.0"},{"v":0,"d":"0.0"},1818.3,2009.7]
[48,{"$f":"'Out prod'!B43","v":0},{"$f":"IF('In prod (weekly)'!P36>0,'In prod (weekly)'!P36,IF('In prod (weekly)'!Q36>0,'In prod (weekly)'!Q36*7*('Out prod'!B43+'Out prod'!S43)/1000, ))","v":0},{"$f":"IF('In prod (weekly)'!Q36>0,'In prod (weekly)'!Q36,IF('In prod (weekly)'!P36>0,'In prod (weekly)'!P36*1000/7/('Out prod'!S43+'Out prod'!B43), ))","v":0},{"$f":"IF(C43>0,SUM(C$10:C43), )","v":0},{"$f":"IF('In prod (weekly)'!S36>0,'In prod (weekly)'!S36,IF('In prod (weekly)'!R36>0,'In prod (weekly)'!R36*1000/7/('Out prod'!B43+'Out prod'!S43), ))","v":0},{"$f":"IF(D43>0,IF(F43>0,F43/D43, ), )","v":0},{"$f":"IF(E43>0,(E43/'Out prod'!AA43)*1000, )","v":0},{"$f":"IF(E43>0,(E43/'Out prod'!AB43)*1000, )","v":0},{"$f":"'In prod (weekly)'!N36/10","v":0},{"$nulls":3},{"$f":"'In prod (weekly)'!O36/10","v":0},{"$f":"'In prod (weekly)'!T36","v":0},{"v":182.02,"d":"182.0"},{"v":201.18,"d":"201.2"},{"v":19.159999999999997,"d":"19.2"},{"$f":"IF(H43<>0,H43,S42)","v":{"v":0,"d":"0.0"}},{"v":0,"d":"0.0"},1820.2,2011.8]
[49,{"$f":"'Out prod'!B44","v":0},{"$f":"IF('In prod (weekly)'!P37>0,'In prod (weekly)'!P37,IF('In prod (weekly)'!Q37>0,'In prod (weekly)'!Q37*7*('Out prod'!B44+'Out prod'!S44)/1000, ))","v":0},{"$f":"IF('In prod (weekly)'!Q37>0,'In prod (weekly)'!Q37,IF('In prod (weekly)'!P37>0,'In prod (weekly)'!P37*1000/7/('Out prod'!S44+'Out prod'!B44), ))","v":0},{"$f":"IF(C44>0,SUM(C$10:C44), )","v":0},{"$f":"IF('In prod (weekly)'!S37>0,'In prod (weekly)'!S37,IF('In prod (weekly)'!R37>0,'In prod (weekly)'!R37*1000/7/('Out prod'!B44+'Out prod'!S44), ))","v":0},0,{"$f":"IF(E44>0,(E44/'Out prod'!AA44)*1000, )","v":0},{"$f":"IF(E44>0,(E44/'Out prod'!AB44)*1000, )","v":0},{"$f":"'In prod (weekly)'!N37/10","v":0},{"$nulls":3},{"$f":"'In prod (weekly)'!O37/10","v":0},{"$f":"'In prod (weekly)'!T37","v":0},{"v":182.20999999999998,"d":"182.2"},{"v":201.39000000000001,"d":"201.4"},{"v":19.180000000000035,"d":"19.2"},{"v":0,"d":"0.0"},{"v":0,"d":"0.0"},1822.1,2013.9]
[50,{"$f":"'Out prod'!B45","v":0},{"$f":"IF('In prod (weekly)'!P38>0,'In prod (weekly)'!P38,IF('In prod (weekly)'!Q38>0,'In prod (weekly)'!Q38*7*('Out prod'!B45+'Out prod'!S45)/1000, ))","v":0},{"$f":"IF('In prod (weekly)'!Q38>0,'In prod (weekly)'!Q38,IF('In prod (weekly)'!P38>0,'In prod (weekly)'!P38*1000/7/('Out prod'!S45+'Out prod'!B45), ))","v":0},{"$f":"IF(C45>0,SUM(C$10:C45), )","v":0},{"$f":"IF('In prod (weekly)'!S38>0,'In prod (weekly)'!S38,IF('In prod (weekly)'!R38>0,'In prod (weekly)'!R38*1000/7/('Out prod'!B45+'Out prod'!S45), ))","v":0},0,{"$f":"IF(E45>0,(E45/'Out prod'!AA45)*1000, )","v":0},{"$f":"IF(E45>0,(E45/'Out prod'!AB45)*1000, )","v":0},{"$f":"'In prod (weekly)'!N38/10","v":0},182,"-",202,{"$f":"'In prod (weekly)'!O38/10","v":0},{"$f":"'In prod (weekly)'!T38","v":0},{"v":182,"d":"182.0"},{"v":202,"d":"202.0"},{"v":20,"d":"20.0"},{"v":0,"d":"0.0"},{"v":0,"d":"0.0"},1824,2016]
[51,{"$f":"'Out prod'!B46","v":0},{"$f":"IF('In prod (weekly)'!P39>0,'In prod (weekly)'!P39,IF('In prod (weekly)'!Q39>0,'In prod (weekly)'!Q39*7*('Out prod'!B46+'Out prod'!S46)/1000, ))","v":0},{"$f":"IF('In prod (weekly)'!Q39>0,'In prod (weekly)'!Q39,IF('In prod (weekly)'!P39>0,'In prod (weekly)'!P39*1000/7/('Out prod'!S46+'Out prod'!B46), ))","v":0},{"$f":"IF(C46>0,SUM(C$10:C46), )","v":0},{"$f":"IF('In prod (weekly)'!S39>0,'In prod (weekly)'!S39,IF('In prod (weekly)'!R39>0,'In prod (weekly)'!R39*1000/7/('Out prod'!B46+'Out prod'!S46), ))","v":0},0,{"$f":"IF(E46>0,(E46/'Out prod'!AA46)*1000, )","v":0},{"$f":"IF(E46>0,(E46/'Out prod'!AB46)*1000, )","v":0},{"$f":"'In prod (weekly)'!N39/10","v":0},{"$nulls":3},{"$f":"'In prod (weekly)'!O39/10","v":0},{"$f":"'In prod (weekly)'!T39","v":0},{"v":182.6375,"d":"182.6"},{"v":201.8625,"d":"201.9"},{"v":19.225000000000023,"d":"19.2"},{"v":0,"d":"0.0"},{"v":0,"d":"0.0"},1826.375,2018.625]
[52,{"$f":"'Out prod'!B47","v":0},{"$f":"IF('In prod (weekly)'!P40>0,'In prod (weekly)'!P40,IF('In prod (weekly)'!Q40>0,'In prod (weekly)'!Q40*7*('Out prod'!B47+'Out prod'!S47)/1000, ))","v":0},{"$f":"IF('In prod (weekly)'!Q40>0,'In prod (weekly)'!Q40,IF('In prod (weekly)'!P40>0,'In prod (weekly)'!P40*1000/7/('Out prod'!S47+'Out prod'!B47), ))","v":0},{"$f":"IF(C47>0,SUM(C$10:C47), )","v":0},{"$f":"IF('In prod (weekly)'!S40>0,'In prod (weekly)'!S40,IF('In prod (weekly)'!R40>0,'In prod (weekly)'!R40*1000/7/('Out prod'!B47+'Out prod'!S47), ))","v":0},0,{"$f":"IF(E47>0,(E47/'Out prod'!AA47)*1000, )","v":0},{"$f":"IF(E47>0,(E47/'Out prod'!AB47)*1000, )","v":0},{"$f":"'In prod (weekly)'!N40/10","v":0},{"$nulls":3},{"$f":"'In prod (weekly)'!O40/10","v":0},{"$f":"'In prod (weekly)'!T40","v":0},{"v":182.875,"d":"182.9"},{"v":202.125,"d":"202.1"},{"v":19.25,"d":"19.3"},{"v":0,"d":"0.0"},{"v":0,"d":"0.0"},1828.75,2021.25]
[53,{"$f":"'Out prod'!B48","v":0},{"$f":"IF('In prod (weekly)'!P41>0,'In prod (weekly)'!P41,IF('In prod (weekly)'!Q41>0,'In prod (weekly)'!Q41*7*('Out prod'!B48+'Out prod'!S48)/1000, ))","v":0},{"$f":"IF('In prod (weekly)'!Q41>0,'In prod (weekly)'!Q41,IF('In prod (weekly)'!P41>0,'In prod (weekly)'!P41*1000/7/('Out prod'!S48+'Out prod'!B48), ))","v":0},{"$f":"IF(C48>0,SUM(C$10:C48), )","v":0},{"$f":"IF('In prod (weekly)'!S41>0,'In prod (weekly)'!S41,IF('In prod (weekly)'!R41>0,'In prod (weekly)'!R41*1000/7/('Out prod'!B48+'Out prod'!S48), ))","v":0},0,{"$f":"IF(E48>0,(E48/'Out prod'!AA48)*1000, )","v":0},{"$f":"IF(E48>0,(E48/'Out prod'!AB48)*1000, )","v":0},{"$f":"'In prod (weekly)'!N41/10","v":0},{"$nulls":3},{"$f":"'In prod (weekly)'!O41/10","v":0},{"$f":"'In prod (weekly)'!T41","v":0},{"v":183.1125,"d":"183.1"},{"v":202.3875,"d":"202.4"},{"v":19.274999999999977,"d":"19.3"},{"v":0,"d":"0.0"},{"v":0,"d":"0.0"},1831.125,2023.875]
[54,{"$f":"'Out prod'!B49","v":0},{"$f":"IF('In prod (weekly)'!P42>0,'In prod (weekly)'!P42,IF('In prod (weekly)'!Q42>0,'In prod (weekly)'!Q42*7*('Out prod'!B49+'Out prod'!S49)/1000, ))","v":0},{"$f":"IF('In prod (weekly)'!Q42>0,'In prod (weekly)'!Q42,IF('In prod (weekly)'!P42>0,'In prod (weekly)'!P42*1000/7/('Out prod'!S49+'Out prod'!B49), ))","v":0},{"$f":"IF(C49>0,SUM(C$10:C49), )","v":0},{"$f":"IF('In prod (weekly)'!S42>0,'In prod (weekly)'!S42,IF('In prod (weekly)'!R42>0,'In prod (weekly)'!R42*1000/7/('Out prod'!B49+'Out prod'!S49), ))","v":0},0,{"$f":"IF(E49>0,(E49/'Out prod'!AA49)*1000, )","v":0},{"$f":"IF(E49>0,(E49/'Out prod'!AB49)*1000, )","v":0},{"$f":"'In prod (weekly)'!N42/10","v":0},{"$nulls":3},{"$f":"'In prod (weekly)'!O42/10","v":0},{"$f":"'In prod (weekly)'!T42","v":0},{"v":183.35,"d":"183.4"},{"v":202.65,"d":"202.7"},{"v":19.30000000000001,"d":"19.3"},{"v":0,"d":"0.0"},{"v":0,"d":"0.0"},1833.5,2026.5]
[55,{"$f":"'Out prod'!B50","v":0},{"$f":"IF('In prod (weekly)'!P43>0,'In prod (weekly)'!P43,IF('In prod (weekly)'!Q43>0,'In prod (weekly)'!Q43*7*('Out prod'!B50+'Out prod'!S50)/1000, ))","v":0},{"$f":"IF('In prod (weekly)'!Q43>0,'In prod (weekly)'!Q43,IF('In prod (weekly)'!P43>0,'In prod (weekly)'!P43*1000/7/('Out prod'!S50+'Out prod'!B50), ))","v":0},{"$f":"IF(C50>0,SUM(C$10:C50), )","v":0},{"$f":"IF('In prod (weekly)'!S43>0,'In prod (weekly)'!S43,IF('In prod (weekly)'!R43>0,'In prod (weekly)'!R43*1000/7/('Out prod'!B50+'Out prod'!S50), ))","v":0},0,{"$f":"IF(E50>0,(E50/'Out prod'!AA50)*1000, )","v":0},{"$f":"IF(E50>0,(E50/'Out prod'!AB50)*1000, )","v":0},{"$f":"'In prod (weekly)'!N43/10","v":0},{"$nulls":3},{"$f":"'In prod (weekly)'!O43/10","v":0},{"$f":"'In prod (weekly)'!T43","v":0},{"v":183.5875,"d":"183.6"},{"v":202.9125,"d":"202.9"},{"v":19.32499999999999,"d":"19.3"},{"v":0,"d":"0.0"},{"v":0,"d":"0.0"},1835.875,2029.125]
[56,{"$f":"'Out prod'!B51","v":0},{"$f":"IF('In prod (weekly)'!P44>0,'In prod (weekly)'!P44,IF('In prod (weekly)'!Q44>0,'In prod (weekly)'!Q44*7*('Out prod'!B51+'Out prod'!S51)/1000, ))","v":0},{"$f":"IF('In prod (weekly)'!Q44>0,'In prod (weekly)'!Q44,IF('In prod (weekly)'!P44>0,'In prod (weekly)'!P44*1000/7/('Out prod'!S51+'Out prod'!B51), ))","v":0},{"$f":"IF(C51>0,SUM(C$10:C51), )","v":0},{"$f":"IF('In prod (weekly)'!S44>0,'In prod (weekly)'!S44,IF('In prod (weekly)'!R44>0,'In prod (weekly)'!R44*1000/7/('Out prod'!B51+'Out prod'!S51), ))","v":0},0,{"$f":"IF(E51>0,(E51/'Out prod'!AA51)*1000, )","v":0},{"$f":"IF(E51>0,(E51/'Out prod'!AB51)*1000, )","v":0},{"$f":"'In prod (weekly)'!N44/10","v":0},{"$nulls":3},{"$f":"'In prod (weekly)'!O44/10","v":0},{"$f":"'In prod (weekly)'!T44","v":0},{"v":183.825,"d":"183.8"},{"v":203.175,"d":"203.2"},{"v":19.350000000000023,"d":"19.4"},{"v":0,"d":"0.0"},{"v":0,"d":"0.0"},1838.25,2031.75]
[57,{"$f":"'Out prod'!B52","v":0},{"$f":"IF('In prod (weekly)'!P45>0,'In prod (weekly)'!P45,IF('In prod (weekly)'!Q45>0,'In prod (weekly)'!Q45*7*('Out prod'!B52+'Out prod'!S52)/1000, ))","v":0},{"$f":"IF('In prod (weekly)'!Q45>0,'In prod (weekly)'!Q45,IF('In prod (weekly)'!P45>0,'In prod (weekly)'!P45*1000/7/('Out prod'!S52+'Out prod'!B52), ))","v":0},{"$f":"IF(C52>0,SUM(C$10:C52), )","v":0},{"$f":"IF('In prod (weekly)'!S45>0,'In prod (weekly)'!S45,IF('In prod (weekly)'!R45>0,'In prod (weekly)'!R45*1000/7/('Out prod'!B52+'Out prod'!S52), ))","v":0},0,{"$f":"IF(E52>0,(E52/'Out prod'!AA52)*1000, )","v":0},{"$f":"IF(E52>0,(E52/'Out prod'!AB52)*1000, )","v":0},{"$f":"'In prod (weekly)'!N45/10","v":0},{"$nulls":3},{"$f":"'In prod (weekly)'!O45/10","v":0},{"$f":"'In prod (weekly)'!T45","v":0},{"v":184.0625,"d":"184.1"},{"v":203.4375,"d":"203.4"},{"v":19.375,"d":"19.4"},{"v":0,"d":"0.0"},{"v":0,"d":"0.0"},1840.625,2034.375]
[58,{"$f":"'Out prod'!B53","v":0},{"$f":"IF('In prod (weekly)'!P46>0,'In prod (weekly)'!P46,IF('In prod (weekly)'!Q46>0,'In prod (weekly)'!Q46*7*('Out prod'!B53+'Out prod'!S53)/1000, ))","v":0},{"$f":"IF('In prod (weekly)'!Q46>0,'In prod (weekly)'!Q46,IF('In prod (weekly)'!P46>0,'In prod (weekly)'!P46*1000/7/('Out prod'!S53+'Out prod'!B53), ))","v":0},{"$f":"IF(C53>0,SUM(C$10:C53), )","v":0},{"$f":"IF('In prod (weekly)'!S46>0,'In prod (weekly)'!S46,IF('In prod (weekly)'!R46>0,'In prod (weekly)'!R46*1000/7/('Out prod'!B53+'Out prod'!S53), ))","v":0},0,{"$f":"IF(E53>0,(E53/'Out prod'!AA53)*1000, )","v":0},{"$f":"IF(E53>0,(E53/'Out prod'!AB53)*1000, )","v":0},{"$f":"'In prod (weekly)'!N46/10","v":0},{"$nulls":3},{"$f":"'In prod (weekly)'!O46/10","v":0},{"$f":"'In prod (weekly)'!T46","v":0},184.3,203.7,{"v":19.399999999999977,"d":"19.4"},{"v":0,"d":"0.0"},{"v":0,"d":"0.0"},1843,2037]
[59,{"$f":"'Out prod'!B54","v":0},{"$f":"IF('In prod (weekly)'!P47>0,'In prod (weekly)'!P47,IF('In prod (weekly)'!Q47>0,'In prod (weekly)'!Q47*7*('Out prod'!B54+'Out prod'!S54)/1000, ))","v":0},{"$f":"IF('In prod (weekly)'!Q47>0,'In prod (weekly)'!Q47,IF('In prod (weekly)'!P47>0,'In prod (weekly)'!P47*1000/7/('Out prod'!S54+'Out prod'!B54), ))","v":0},{"$f":"IF(C54>0,SUM(C$10:C54), )","v":0},{"$f":"IF('In prod (weekly)'!S47>0,'In prod (weekly)'!S47,IF('In prod (weekly)'!R47>0,'In prod (weekly)'!R47*1000/7/('Out prod'!B54+'Out prod'!S54), ))","v":0},0,{"$f":"IF(E54>0,(E54/'Out prod'!AA54)*1000, )","v":0},{"$f":"IF(E54>0,(E54/'Out prod'!AB54)*1000, )","v":0},{"$f":"'In prod (weekly)'!N47/10","v":0},{"$nulls":3},{"$f":"'In prod (weekly)'!O47/10","v":0},{"$f":"'In prod (weekly)'!T47","v":0},{"v":184.5375,"d":"184.5"},{"v":203.9625,"d":"204.0"},{"v":19.42500000000001,"d":"19.4"},{"v":0,"d":"0.0"},{"v":0,"d":"0.0"},1845.375,2039.625]
[60,{"$f":"'Out prod'!B55","v":0},{"$f":"IF('In prod (weekly)'!P48>0,'In prod (weekly)'!P48,IF('In prod (weekly)'!Q48>0,'In prod (weekly)'!Q48*7*('Out prod'!B55+'Out prod'!S55)/1000, ))","v":0},{"$f":"IF('In prod (weekly)'!Q48>0,'In prod (weekly)'!Q48,IF('In prod (weekly)'!P48>0,'In prod (weekly)'!P48*1000/7/('Out prod'!S55+'Out prod'!B55), ))","v":0},{"$f":"IF(C55>0,SUM(C$10:C55), )","v":0},{"$f":"IF('In prod (weekly)'!S48>0,'In prod (weekly)'!S48,IF('In prod (weekly)'!R48>0,'In prod (weekly)'!R48*1000/7/('Out prod'!B55+'Out prod'!S55), ))","v":0},0,{"$f":"IF(E55>0,(E55/'Out prod'!AA55)*1000, )","v":0},{"$f":"IF(E55>0,(E55/'Out prod'!AB55)*1000, )","v":0},{"$f":"'In prod (weekly)'!N48/10","v":0},185,"-",204,{"$f":"'In prod (weekly)'!O48/10","v":0},{"$f":"'In prod (weekly)'!T48","v":0},{"v":185,"d":"185.0"},{"v":204,"d":"204.0"},{"v":19,"d":"19.0"},{"v":0,"d":"0.0"},{"v":0,"d":"0.0"},1847.8687499999999,2042.3812500000001]
[61,{"$f":"'Out prod'!B56","v":0},{"$f":"IF('In prod (weekly)'!P49>0,'In prod (weekly)'!P49,IF('In prod (weekly)'!Q49>0,'In prod (weekly)'!Q49*7*('Out prod'!B56+'Out prod'!S56)/1000, ))","v":0},{"$f":"IF('In prod (weekly)'!Q49>0,'In prod (weekly)'!Q49,IF('In prod (weekly)'!P49>0,'In prod (weekly)'!P49*1000/7/('Out prod'!S56+'Out prod'!B56), ))","v":0},{"$f":"IF(C56>0,SUM(C$10:C56), )","v":0},{"$f":"IF('In prod (weekly)'!S49>0,'In prod (weekly)'!S49,IF('In prod (weekly)'!R49>0,'In prod (weekly)'!R49*1000/7/('Out prod'!B56+'Out prod'!S56), ))","v":0},0,{"$f":"IF(E56>0,(E56/'Out prod'!AA56)*1000, )","v":0},{"$f":"IF(E56>0,(E56/'Out prod'!AB56)*1000, )","v":0},{"$f":"'In prod (weekly)'!N49/10","v":0},{"$nulls":3},{"$f":"'In prod (weekly)'!O49/10","v":0},{"$f":"'In prod (weekly)'!T49","v":0},{"v":185.024375,"d":"185.0"},{"v":204.500625,"d":"204.5"},{"v":19.47625000000002,"d":"19.5"},{"v":0,"d":"0.0"},{"v":0,"d":"0.0"},1850.2437499999999,2045.0062500000001]
[62,{"$f":"'Out prod'!B57","v":0},{"$f":"IF('In prod (weekly)'!P50>0,'In prod (weekly)'!P50,IF('In prod (weekly)'!Q50>0,'In prod (weekly)'!Q50*7*('Out prod'!B57+'Out prod'!S57)/1000, ))","v":0},{"$f":"IF('In prod (weekly)'!Q50>0,'In prod (weekly)'!Q50,IF('In prod (weekly)'!P50>0,'In prod (weekly)'!P50*1000/7/('Out prod'!S57+'Out prod'!B57), ))","v":0},{"$f":"IF(C57>0,SUM(C$10:C57), )","v":0},{"$f":"IF('In prod (weekly)'!S50>0,'In prod (weekly)'!S50,IF('In prod (weekly)'!R50>0,'In prod (weekly)'!R50*1000/7/('Out prod'!B57+'Out prod'!S57), ))","v":0},0,{"$f":"IF(E57>0,(E57/'Out prod'!AA57)*1000, )","v":0},{"$f":"IF(E57>0,(E57/'Out prod'!AB57)*1000, )","v":0},{"$f":"'In prod (weekly)'!N50/10","v":0},{"$nulls":3},{"$f":"'In prod (weekly)'!O50/10","v":0},{"$f":"'In prod (weekly)'!T50","v":0},{"v":185.26187499999997,"d":"185.3"},{"v":204.763125,"d":"204.8"},{"v":19.501250000000027,"d":"19.5"},{"v":0,"d":"0.0"},{"v":0,"d":"0.0"},1852.6187499999999,2047.6312500000001]
[63,{"$f":"'Out prod'!B58","v":0},{"$f":"IF('In prod (weekly)'!P51>0,'In prod (weekly)'!P51,IF('In prod (weekly)'!Q51>0,'In prod (weekly)'!Q51*7*('Out prod'!B58+'Out prod'!S58)/1000, ))","v":0},{"$f":"IF('In prod (weekly)'!Q51>0,'In prod (weekly)'!Q51,IF('In prod (weekly)'!P51>0,'In prod (weekly)'!P51*1000/7/('Out prod'!S58+'Out prod'!B58), ))","v":0},{"$f":"IF(C58>0,SUM(C$10:C58), )","v":0},{"$f":"IF('In prod (weekly)'!S51>0,'In prod (weekly)'!S51,IF('In prod (weekly)'!R51>0,'In prod (weekly)'!R51*1000/7/('Out prod'!B58+'Out prod'!S58), ))","v":0},0,{"$f":"IF(E58>0,(E58/'Out prod'!AA58)*1000, )","v":0},{"$f":"IF(E58>0,(E58/'Out prod'!AB58)*1000, )","v":0},{"$f":"'In prod (weekly)'!N51/10","v":0},{"$nulls":3},{"$f":"'In prod (weekly)'!O51/10","v":0},{"$f":"'In prod (weekly)'!T51","v":0},{"v":185.499375,"d":"185.5"},{"v":205.025625,"d":"205.0"},{"v":19.526250000000005,"d":"19.5"},{"v":0,"d":"0.0"},{"v":0,"d":"0.0"},1854.9937499999999,2050.25625]
[64,{"$f":"'Out prod'!B59","v":0},{"$f":"IF('In prod (weekly)'!P52>0,'In prod (weekly)'!P52,IF('In prod (weekly)'!Q52>0,'In prod (weekly)'!Q52*7*('Out prod'!B59+'Out prod'!S59)/1000, ))","v":0},{"$f":"IF('In prod (weekly)'!Q52>0,'In prod (weekly)'!Q52,IF('In prod (weekly)'!P52>0,'In prod (weekly)'!P52*1000/7/('Out prod'!S59+'Out prod'!B59), ))","v":0},{"$f":"IF(C59>0,SUM(C$10:C59), )","v":0},{"$f":"IF('In prod (weekly)'!S52>0,'In prod (weekly)'!S52,IF('In prod (weekly)'!R52>0,'In prod (weekly)'!R52*1000/7/('Out prod'!B59+'Out prod'!S59), ))","v":0},{"$f":"IF(D59>0,IF(F59>0,F59/D59, ), )","v":0},{"$f":"IF(E59>0,(E59/'Out prod'!AA59)*1000, )","v":0},{"$f":"IF(E59>0,(E59/'Out prod'!AB59)*1000, )","v":0},{"$f":"'In prod (weekly)'!N52/10","v":0},{"$nulls":3},{"$f":"'In prod (weekly)'!O52/10","v":0},{"$f":"'In prod (weekly)'!T52","v":0},{"v":185.736875,"d":"185.7"},{"v":205.28812499999998,"d":"205.3"},{"v":19.551249999999982,"d":"19.6"},{"$f":"IF(H59<>0,H59,S58)","v":{"v":0,"d":"0.0"}},{"v":0,"d":"0.0"},1857.3687499999999,2052.88125]
[65,{"$f":"'Out prod'!B60","v":0},{"$f":"IF('In prod (weekly)'!P53>0,'In prod (weekly)'!P53,IF('In prod (weekly)'!Q53>0,'In prod (weekly)'!Q53*7*('Out prod'!B60+'Out prod'!S60)/1000, ))","v":0},{"$f":"IF('In prod (weekly)'!Q53>0,'In prod (weekly)'!Q53,IF('In prod (weekly)'!P53>0,'In prod (weekly)'!P53*1000/7/('Out prod'!S60+'Out prod'!B60), ))","v":0},{"$f":"IF(C60>0,SUM(C$10:C60), )","v":0},{"$f":"IF('In prod (weekly)'!S53>0,'In prod (weekly)'!S53,IF('In prod (weekly)'!R53>0,'In prod (weekly)'!R53*1000/7/('Out prod'!B60+'Out prod'!S60), ))","v":0},0,{"$f":"IF(E60>0,(E60/'Out prod'!AA60)*1000, )","v":0},{"$f":"IF(E60>0,(E60/'Out prod'!AB60)*1000, )","v":0},{"$f":"'In prod (weekly)'!N53/10","v":0},{"$nulls":3},{"$f":"'In prod (weekly)'!O53/10","v":0},{"$f":"'In prod (weekly)'!T53","v":0},{"v":185.97437499999998,"d":"186.0"},{"v":205.550625,"d":"205.6"},{"v":19.576250000000016,"d":"19.6"},{"v":0,"d":"0.0"},{"v":0,"d":"0.0"},1859.7437499999999,2055.50625]
[66,{"$f":"'Out prod'!B61","v":0},{"$f":"IF('In prod (weekly)'!P54>0,'In prod (weekly)'!P54,IF('In prod (weekly)'!Q54>0,'In prod (weekly)'!Q54*7*('Out prod'!B61+'Out prod'!S61)/1000, ))","v":0},{"$f":"IF('In prod (weekly)'!Q54>0,'In prod (weekly)'!Q54,IF('In prod (weekly)'!P54>0,'In prod (weekly)'!P54*1000/7/('Out prod'!S61+'Out prod'!B61), ))","v":0},{"$f":"IF(C61>0,SUM(C$10:C61), )","v":0},{"$f":"IF('In prod (weekly)'!S54>0,'In prod (weekly)'!S54,IF('In prod (weekly)'!R54>0,'In prod (weekly)'!R54*1000/7/('Out prod'!B61+'Out prod'!S61), ))","v":0},0,{"$f":"IF(E61>0,(E61/'Out prod'!AA61)*1000, )","v":0},{"$f":"IF(E61>0,(E61/'Out prod'!AB61)*1000, )","v":0},{"$f":"'In prod (weekly)'!N54/10","v":0},{"$nulls":3},{"$f":"'In prod (weekly)'!O54/10","v":0},{"$f":"'In prod (weekly)'!T54","v":0},{"v":186.211875,"d":"186.2"},{"v":205.81312499999999,"d":"205.8"},{"v":19.601249999999993,"d":"19.6"},{"v":0,"d":"0.0"},{"v":0,"d":"0.0"},1862.1187499999999,2058.13125]
[67,{"$f":"'Out prod'!B62","v":0},{"$f":"IF('In prod (weekly)'!P55>0,'In prod (weekly)'!P55,IF('In prod (weekly)'!Q55>0,'In prod (weekly)'!Q55*7*('Out prod'!B62+'Out prod'!S62)/1000, ))","v":0},{"$f":"IF('In prod (weekly)'!Q55>0,'In prod (weekly)'!Q55,IF('In prod (weekly)'!P55>0,'In prod (weekly)'!P55*1000/7/('Out prod'!S62+'Out prod'!B62), ))","v":0},{"$f":"IF(C62>0,SUM(C$10:C62), )","v":0},{"$f":"IF('In prod (weekly)'!S55>0,'In prod (weekly)'!S55,IF('In prod (weekly)'!R55>0,'In prod (weekly)'!R55*1000/7/('Out prod'!B62+'Out prod'!S62), ))","v":0},0,{"$f":"IF(E62>0,(E62/'Out prod'!AA62)*1000, )","v":0},{"$f":"IF(E62>0,(E62/'Out prod'!AB62)*1000, )","v":0},{"$f":"'In prod (weekly)'!N55/10","v":0},{"$nulls":3},{"$f":"'In prod (weekly)'!O55/10","v":0},{"$f":"'In prod (weekly)'!T55","v":0},{"v":186.44937499999997,"d":"186.4"},{"v":206.075625,"d":"206.1"},{"v":19.626250000000027,"d":"19.6"},{"v":0,"d":"0.0"},{"v":0,"d":"0.0"},1864.4937499999999,2060.75625]
[68,{"$f":"'Out prod'!B63","v":0},{"$f":"IF('In prod (weekly)'!P56>0,'In prod (weekly)'!P56,IF('In prod (weekly)'!Q56>0,'In prod (weekly)'!Q56*7*('Out prod'!B63+'Out prod'!S63)/1000, ))","v":0},{"$f":"IF('In prod (weekly)'!Q56>0,'In prod (weekly)'!Q56,IF('In prod (weekly)'!P56>0,'In prod (weekly)'!P56*1000/7/('Out prod'!S63+'Out prod'!B63), ))","v":0},{"$f":"IF(C63>0,SUM(C$10:C63), )","v":0},{"$f":"IF('In prod (weekly)'!S56>0,'In prod (weekly)'!S56,IF('In prod (weekly)'!R56>0,'In prod (weekly)'!R56*1000/7/('Out prod'!B63+'Out prod'!S63), ))","v":0},0,{"$f":"IF(E63>0,(E63/'Out prod'!AA63)*1000, )","v":0},{"$f":"IF(E63>0,(E63/'Out prod'!AB63)*1000, )","v":0},{"$f":"'In prod (weekly)'!N56/10","v":0},{"$nulls":3},{"$f":"'In prod (weekly)'!O56/10","v":0},{"$f":"'In prod (weekly)'!T56","v":0},{"v":186.686875,"d":"186.7"},{"v":206.338125,"d":"206.3"},{"v":19.651250000000005,"d":"19.7"},{"v":0,"d":"0.0"},{"v":0,"d":"0.0"},1866.8687499999999,2063.38125]
[69,{"$f":"'Out prod'!B64","v":0},{"$f":"IF('In prod (weekly)'!P57>0,'In prod (weekly)'!P57,IF('In prod (weekly)'!Q57>0,'In prod (weekly)'!Q57*7*('Out prod'!B64+'Out prod'!S64)/1000, ))","v":0},{"$f":"IF('In prod (weekly)'!Q57>0,'In prod (weekly)'!Q57,IF('In prod (weekly)'!P57>0,'In prod (weekly)'!P57*1000/7/('Out prod'!S64+'Out prod'!B64), ))","v":0},{"$f":"IF(C64>0,SUM(C$10:C64), )","v":0},{"$f":"IF('In prod (weekly)'!S57>0,'In prod (weekly)'!S57,IF('In prod (weekly)'!R57>0,'In prod (weekly)'!R57*1000/7/('Out prod'!B64+'Out prod'!S64), ))","v":0},0,{"$f":"IF(E64>0,(E64/'Out prod'!AA64)*1000, )","v":0},{"$f":"IF(E64>0,(E64/'Out prod'!AB64)*1000, )","v":0},{"$f":"'In prod (weekly)'!N57/10","v":0},{"$nulls":3},{"$f":"'In prod (weekly)'!O57/10","v":0},{"$f":"'In prod (weekly)'!T57","v":0},{"v":186.924375,"d":"186.9"},{"v":206.60062499999998,"d":"206.6"},{"v":19.676249999999982,"d":"19.7"},{"v":0,"d":"0.0"},{"v":0,"d":"0.0"},1869.2437499999999,2066.00625]
[70,{"$f":"'Out prod'!B65","v":0},{"$f":"IF('In prod (weekly)'!P58>0,'In prod (weekly)'!P58,IF('In prod (weekly)'!Q58>0,'In prod (weekly)'!Q58*7*('Out prod'!B65+'Out prod'!S65)/1000, ))","v":0},{"$f":"IF('In prod (weekly)'!Q58>0,'In prod (weekly)'!Q58,IF('In prod (weekly)'!P58>0,'In prod (weekly)'!P58*1000/7/('Out prod'!S65+'Out prod'!B65), ))","v":0},{"$f":"IF(C65>0,SUM(C$10:C65), )","v":0},{"$f":"IF('In prod (weekly)'!S58>0,'In prod (weekly)'!S58,IF('In prod (weekly)'!R58>0,'In prod (weekly)'!R58*1000/7/('Out prod'!B65+'Out prod'!S65), ))","v":0},0,{"$f":"IF(E65>0,(E65/'Out prod'!AA65)*1000, )","v":0},{"$f":"IF(E65>0,(E65/'Out prod'!AB65)*1000, )","v":0},{"$f":"'In prod (weekly)'!N58/10","v":0},187,"-",207,{"$f":"'In prod (weekly)'!O58/10","v":0},{"$f":"'In prod (weekly)'!T58","v":0},{"v":187,"d":"187.0"},{"v":207,"d":"207.0"},{"v":20,"d":"20.0"},{"v":0,"d":"0.0"},{"v":0,"d":"0.0"},1871.025,2067.975]
[71,{"$f":"'Out prod'!B66","v":0},{"$f":"IF('In prod (weekly)'!P59>0,'In prod (weekly)'!P59,IF('In prod (weekly)'!Q59>0,'In prod (weekly)'!Q59*7*('Out prod'!B66+'Out prod'!S66)/1000, ))","v":0},{"$f":"IF('In prod (weekly)'!Q59>0,'In prod (weekly)'!Q59,IF('In prod (weekly)'!P59>0,'In prod (weekly)'!P59*1000/7/('Out prod'!S66+'Out prod'!B66), ))","v":0},{"$f":"IF(C66>0,SUM(C$10:C66), )","v":0},{"$f":"IF('In prod (weekly)'!S59>0,'In prod (weekly)'!S59,IF('In prod (weekly)'!R59>0,'In prod (weekly)'!R59*1000/7/('Out prod'!B66+'Out prod'!S66), ))","v":0},0,{"$f":"IF(E66>0,(E66/'Out prod'!AA66)*1000, )","v":0},{"$f":"IF(E66>0,(E66/'Out prod'!AB66)*1000, )","v":0},{"$f":"'In prod (weekly)'!N59/10","v":0},{"$nulls":3},{"$f":"'In prod (weekly)'!O59/10","v":0},{"$f":"'In prod (weekly)'!T59","v":0},{"v":187.2925,"d":"187.3"},{"v":207.0075,"d":"207.0"},{"v":19.715000000000003,"d":"19.7"},{"v":0,"d":"0.0"},{"v":0,"d":"0.0"},1872.925,2070.075]
[72,{"$f":"'Out prod'!B67","v":0},{"$f":"IF('In prod (weekly)'!P60>0,'In prod (weekly)'!P60,IF('In prod (weekly)'!Q60>0,'In prod (weekly)'!Q60*7*('Out prod'!B67+'Out prod'!S67)/1000, ))","v":0},{"$f":"IF('In prod (weekly)'!Q60>0,'In prod (weekly)'!Q60,IF('In prod (weekly)'!P60>0,'In prod (weekly)'!P60*1000/7/('Out prod'!S67+'Out prod'!B67), ))","v":0},{"$f":"IF(C67>0,SUM(C$10:C67), )","v":0},{"$f":"IF('In prod (weekly)'!S60>0,'In prod (weekly)'!S60,IF('In prod (weekly)'!R60>0,'In prod (weekly)'!R60*1000/7/('Out prod'!B67+'Out prod'!S67), ))","v":0},0,{"$f":"IF(E67>0,(E67/'Out prod'!AA67)*1000, )","v":0},{"$f":"IF(E67>0,(E67/'Out prod'!AB67)*1000, )","v":0},{"$f":"'In prod (weekly)'!N60/10","v":0},{"$nulls":3},{"$f":"'In prod (weekly)'!O60/10","v":0},{"$f":"'In prod (weekly)'!T60","v":0},{"v":187.48250000000002,"d":"187.5"},{"v":207.21750000000003,"d":"207.2"},{"v":19.735000000000014,"d":"19.7"},{"v":0,"d":"0.0"},{"v":0,"d":"0.0"},1874.825,2072.175]
[73,{"$f":"'Out prod'!B68","v":0},{"$f":"IF('In prod (weekly)'!P61>0,'In prod (weekly)'!P61,IF('In prod (weekly)'!Q61>0,'In prod (weekly)'!Q61*7*('Out prod'!B68+'Out prod'!S68)/1000, ))","v":0},{"$f":"IF('In prod (weekly)'!Q61>0,'In prod (weekly)'!Q61,IF('In prod (weekly)'!P61>0,'In prod (weekly)'!P61*1000/7/('Out prod'!S68+'Out prod'!B68), ))","v":0},{"$f":"IF(C68>0,SUM(C$10:C68), )","v":0},{"$f":"IF('In prod (weekly)'!S61>0,'In prod (weekly)'!S61,IF('In prod (weekly)'!R61>0,'In prod (weekly)'!R61*1000/7/('Out prod'!B68+'Out prod'!S68), ))","v":0},0,{"$f":"IF(E68>0,(E68/'Out prod'!AA68)*1000, )","v":0},{"$f":"IF(E68>0,(E68/'Out prod'!AB68)*1000, )","v":0},{"$f":"'In prod (weekly)'!N61/10","v":0},{"$nulls":3},{"$f":"'In prod (weekly)'!O61/10","v":0},{"$f":"'In prod (weekly)'!T61","v":0},{"v":0,"d":"0.0"},{"v":0,"d":"0.0"},{"v":0,"d":"0.0"},{"v":0,"d":"0.0"},{"v":0,"d":"0.0"}]
[74,{"$f":"'Out prod'!B69","v":0},{"$f":"IF('In prod (weekly)'!P62>0,'In prod (weekly)'!P62,IF('In prod (weekly)'!Q62>0,'In prod (weekly)'!Q62*7*('Out prod'!B69+'Out prod'!S69)/1000, ))","v":0},{"$f":"IF('In prod (weekly)'!Q62>0,'In prod (weekly)'!Q62,IF('In prod (weekly)'!P62>0,'In prod (weekly)'!P62*1000/7/('Out prod'!S69+'Out prod'!B69), ))","v":0},{"$f":"IF(C69>0,SUM(C$10:C69), )","v":0},{"$f":"IF('In prod (weekly)'!S62>0,'In prod (weekly)'!S62,IF('In prod (weekly)'!R62>0,'In prod (weekly)'!R62*1000/7/('Out prod'!B69+'Out prod'!S69), ))","v":0},0,{"$f":"IF(E69>0,(E69/'Out prod'!AA69)*1000, )","v":0},{"$f":"IF(E69>0,(E69/'Out prod'!AB69)*1000, )","v":0},{"$f":"'In prod (weekly)'!N62/10","v":0},{"$nulls":3},{"$f":"'In prod (weekly)'!O62/10","v":0},{"$f":"'In prod (weekly)'!T62","v":0},{"v":0,"d":"0.0"},{"v":0,"d":"0.0"},{"v":0,"d":"0.0"},{"v":0,"d":"0.0"},{"v":0,"d":"0.0"}]
[75,{"$f":"'Out prod'!B70","v":0},{"$f":"IF('In prod (weekly)'!P63>0,'In prod (weekly)'!P63,IF('In prod (weekly)'!Q63>0,'In prod (weekly)'!Q63*7*('Out prod'!B70+'Out prod'!S70)/1000, ))","v":0},{"$f":"IF('In prod (weekly)'!Q63>0,'In prod (weekly)'!Q63,IF('In prod (weekly)'!P63>0,'In prod (weekly)'!P63*1000/7/('Out prod'!S70+'Out prod'!B70), ))","v":0},{"$f":"IF(C70>0,SUM(C$10:C70), )","v":0},{"$f":"IF('In prod (weekly)'!S63>0,'In prod (weekly)'!S63,IF('In prod (weekly)'!R63>0,'In prod (weekly)'!R63*1000/7/('Out prod'!B70+'Out prod'!S70), ))","v":0},0,{"$f":"IF(E70>0,(E70/'Out prod'!AA70)*1000, )","v":0},{"$f":"IF(E70>0,(E70/'Out prod'!AB70)*1000, )","v":0},{"$f":"'In prod (weekly)'!N63/10","v":0},{"$nulls":3},{"$f":"'In prod (weekly)'!O63/10","v":0},{"$f":"'In prod (weekly)'!T63","v":0},{"v":0,"d":"0.0"},{"v":0,"d":"0.0"},{"v":0,"d":"0.0"},{"v":0,"d":"0.0"},{"v":0,"d":"0.0"}]
[76,{"$f":"'Out prod'!B71","v":0},{"$f":"IF('In prod (weekly)'!P64>0,'In prod (weekly)'!P64,IF('In prod (weekly)'!Q64>0,'In prod (weekly)'!Q64*7*('Out prod'!B71+'Out prod'!S71)/1000, ))","v":0},{"$f":"IF('In prod (weekly)'!Q64>0,'In prod (weekly)'!Q64,IF('In prod (weekly)'!P64>0,'In prod (weekly)'!P64*1000/7/('Out prod'!S71+'Out prod'!B71), ))","v":0},{"$f":"IF(C71>0,SUM(C$10:C71), )","v":0},{"$f":"IF('In prod (weekly)'!S64>0,'In prod (weekly)'!S64,IF('In prod (weekly)'!R64>0,'In prod (weekly)'!R64*1000/7/('Out prod'!B71+'Out prod'!S71), ))","v":0},0,{"$f":"IF(E71>0,(E71/'Out prod'!AA71)*1000, )","v":0},{"$f":"IF(E71>0,(E71/'Out prod'!AB71)*1000, )","v":0},{"$f":"'In prod (weekly)'!N64/10","v":0},{"$nulls":3},{"$f":"'In prod (weekly)'!O64/10","v":0},{"$f":"'In prod (weekly)'!T64","v":0},{"v":0,"d":"0.0"},{"v":0,"d":"0.0"},{"v":0,"d":"0.0"},{"v":0,"d":"0.0"},{"v":0,"d":"0.0"}]
[77,{"$f":"'Out prod'!B72","v":0},{"$f":"IF('In prod (weekly)'!P65>0,'In prod (weekly)'!P65,IF('In prod (weekly)'!Q65>0,'In prod (weekly)'!Q65*7*('Out prod'!B72+'Out prod'!S72)/1000, ))","v":0},{"$f":"IF('In prod (weekly)'!Q65>0,'In prod (weekly)'!Q65,IF('In prod (weekly)'!P65>0,'In prod (weekly)'!P65*1000/7/('Out prod'!S72+'Out prod'!B72), ))","v":0},{"$f":"IF(C72>0,SUM(C$10:C72), )","v":0},{"$f":"IF('In prod (weekly)'!S65>0,'In prod (weekly)'!S65,IF('In prod (weekly)'!R65>0,'In prod (weekly)'!R65*1000/7/('Out prod'!B72+'Out prod'!S72), ))","v":0},0,{"$f":"IF(E72>0,(E72/'Out prod'!AA72)*1000, )","v":0},{"$f":"IF(E72>0,(E72/'Out prod'!AB72)*1000, )","v":0},{"$f":"'In prod (weekly)'!N65/10","v":0},{"$nulls":3},{"$f":"'In prod (weekly)'!O65/10","v":0},{"$f":"'In prod (weekly)'!T65","v":0},{"v":0,"d":"0.0"},{"v":0,"d":"0.0"},{"v":0,"d":"0.0"},{"v":0,"d":"0.0"},{"v":0,"d":"0.0"}]
[78,{"$f":"'Out prod'!B73","v":0},{"$f":"IF('In prod (weekly)'!P66>0,'In prod (weekly)'!P66,IF('In prod (weekly)'!Q66>0,'In prod (weekly)'!Q66*7*('Out prod'!B73+'Out prod'!S73)/1000, ))","v":0},{"$f":"IF('In prod (weekly)'!Q66>0,'In prod (weekly)'!Q66,IF('In prod (weekly)'!P66>0,'In prod (weekly)'!P66*1000/7/('Out prod'!S73+'Out prod'!B73), ))","v":0},{"$f":"IF(C73>0,SUM(C$10:C73), )","v":0},{"$f":"IF('In prod (weekly)'!S66>0,'In prod (weekly)'!S66,IF('In prod (weekly)'!R66>0,'In prod (weekly)'!R66*1000/7/('Out prod'!B73+'Out prod'!S73), ))","v":0},0,{"$f":"IF(E73>0,(E73/'Out prod'!AA73)*1000, )","v":0},{"$f":"IF(E73>0,(E73/'Out prod'!AB73)*1000, )","v":0},{"$f":"'In prod (weekly)'!N66/10","v":0},{"$nulls":3},{"$f":"'In prod (weekly)'!O66/10","v":0},{"$f":"'In prod (weekly)'!T66","v":0},{"v":0,"d":"0.0"},{"v":0,"d":"0.0"},{"v":0,"d":"0.0"},{"v":0,"d":"0.0"},{"v":0,"d":"0.0"}]
[79,{"$f":"'Out prod'!B74","v":0},{"$f":"IF('In prod (weekly)'!P67>0,'In prod (weekly)'!P67,IF('In prod (weekly)'!Q67>0,'In prod (weekly)'!Q67*7*('Out prod'!B74+'Out prod'!S74)/1000, ))","v":0},{"$f":"IF('In prod (weekly)'!Q67>0,'In prod (weekly)'!Q67,IF('In prod (weekly)'!P67>0,'In prod (weekly)'!P67*1000/7/('Out prod'!S74+'Out prod'!B74), ))","v":0},{"$f":"IF(C74>0,SUM(C$10:C74), )","v":0},{"$f":"IF('In prod (weekly)'!S67>0,'In prod (weekly)'!S67,IF('In prod (weekly)'!R67>0,'In prod (weekly)'!R67*1000/7/('Out prod'!B74+'Out prod'!S74), ))","v":0},0,{"$f":"IF(E74>0,(E74/'Out prod'!AA74)*1000, )","v":0},{"$f":"IF(E74>0,(E74/'Out prod'!AB74)*1000, )","v":0},{"$f":"'In prod (weekly)'!N67/10","v":0},{"$nulls":3},{"$f":"'In prod (weekly)'!O67/10","v":0},{"$f":"'In prod (weekly)'!T67","v":0},{"v":0,"d":"0.0"},{"v":0,"d":"0.0"},{"v":0,"d":"0.0"},{"v":0,"d":"0.0"},{"v":0,"d":"0.0"}]
[80,{"$f":"'Out prod'!B75","v":0},{"$f":"IF('In prod (weekly)'!P68>0,'In prod (weekly)'!P68,IF('In prod (weekly)'!Q68>0,'In prod (weekly)'!Q68*7*('Out prod'!B75+'Out prod'!S75)/1000, ))","v":0},{"$f":"IF('In prod (weekly)'!Q68>0,'In prod (weekly)'!Q68,IF('In prod (weekly)'!P68>0,'In prod (weekly)'!P68*1000/7/('Out prod'!S75+'Out prod'!B75), ))","v":0},{"$f":"IF(C75>0,SUM(C$10:C75), )","v":0},{"$f":"IF('In prod (weekly)'!S68>0,'In prod (weekly)'!S68,IF('In prod (weekly)'!R68>0,'In prod (weekly)'!R68*1000/7/('Out prod'!B75+'Out prod'!S75), ))","v":0},{"$f":"IF(D75>0,IF(F75>0,F75/D75, ), )","v":0},{"$f":"IF(E75>0,(E75/'Out prod'!AA75)*1000, )","v":0},{"$f":"IF(E75>0,(E75/'Out prod'!AB75)*1000, )","v":0},{"$f":"'In prod (weekly)'!N68/10","v":0},{"$nulls":3},{"$f":"'In prod (weekly)'!O68/10","v":0},{"$f":"'In prod (weekly)'!T68","v":0},{"$f":"IF(K75>0,K75,U75/10)","v":{"v":0,"d":"0.0"}},{"$f":"IF(M75>0,M75,V75/10)","v":{"v":0,"d":"0.0"}},{"v":0,"d":"0.0"},{"$f":"IF(H75<>0,H75,S74)","v":{"v":0,"d":"0.0"}},{"v":0,"d":"0.0"}]

{"sheet":"Translation","index":12,"n_rows":113,"n_cols":2,"rows_kept":113}
["English Version","Translation"]
[]
["Field data","Field data"]
["LOHMANN BROWN Parent Stock","LOHMANN BROWN Parent Stock"]
[]
["Rearing Period","Rearing Period"]
["Production Period","Production Period"]
["Country:","Country:"]
["Owner:","Owner:"]
["Farm:","Farm:"]
["Flock:","Flock:"]
["Hatch Date:","Hatch Date:"]
["Date of Housing:","Date of Housing:"]
["No. of Females Housed:","No. of Females Housed:"]
["No. of Males Housed:","No. of Males Housed:"]
["Remarks:","Remarks:"]
["Date 18 wks + 0:","Date 18 wks + 0:"]
["No. of hens with 18 weeks:","No. of hens with 18 weeks:"]
["No. of males with 18 weeks:","No. of males with 18 weeks:"]
[]
["alternative","alternative"]
["Date","Date"]
["Age (days)","Age (days)"]
["Week of Age","Week of Age"]
["Wk of Age","Wk of Age"]
["Wk","Wk"]
["No. of dead females","No. of dead females"]
["% fem. mortality / week","% fem. mortality / week"]
["No. of dead males","No. of dead males"]
["% male mortality / week","% male mortality / week"]
["Female Body Wt (g) ","Female Body Wt (g) "]
["Male Body Wt (g) ","Male Body Wt (g) "]
["Feed cons. (kg/day)","Feed cons. (kg/day)"]
["Feed cons. (kg/wk)","Feed cons. (kg/wk)"]
["Feed cons. (g/bd/d)","Feed cons. (g/bd/d)"]
["Water cons. (l/day)","Water cons. (l/day)"]
["Water cons. (l/wk)","Water cons. (l/wk)"]
["Water cons. (ml/bd/d)","Water cons. (ml/bd/d)"]
["Uniformity (%)","Uniformity (%)"]
["a trait you like","a trait you like"]
[]
["Act. No. of fem. chicks","Act. No. of fem. chicks"]
["Act. No. of male chicks","Act. No. of male chicks"]
["Fem. Mort. (%)","Fem. Mort. (%)"]
["Male Mort. (%)","Male Mort. (%)"]
["Std. Female Body Wt (g)","Std. Female Body Wt (g)"]
["Act. Fem. Body Wt (g) ","Act. Fem. Body Wt (g) "]
["Act. Male Body Wt (g) ","Act. Male Body Wt (g) "]
["Std. Feed cons. (g)","Std. Feed cons. (g)"]
["Act. Feed cons. (g/bd/d)","Act. Feed cons. (g/bd/d)"]
["Std. Water cons. (ml)","Std. Water cons. (ml)"]
["Act. Water cons. (ml/bd/d)","Act. Water cons. (ml/bd/d)"]
["Water / Feed","Water / Feed"]
[]
["No. of eggs/ week","No. of eggs/ week"]
["% prod. /HD","% prod. /HD"]
["No. of hatching eggs/wk","No. of hatching eggs/wk"]
["% hatching eggs / wk","% hatching eggs / wk"]
["No. of eggs set","No. of eggs set"]
["No. of fem. chicks hatched","No. of fem. chicks hatched"]
["% fem. hatch","% fem. hatch"]
[]
["Flock Data","Flock Data"]
["Rate of Lay","Rate of Lay"]
["Egg Number","Egg Number"]
["Hatching Eggs","Hatching Eggs"]
["Hatchability","Hatchability"]
["Saleable Chicks","Saleable Chicks"]
["Age","Age"]
["Standard","Standard"]
["Act. hen number","Act. hen number"]
["Act. fem. Liveability","Act. fem. Liveability"]
["Standard Liveability","Standard Liveability"]
["Act. number of males","Act. number of males"]
["Act. M. Liveability","Act. M. Liveability"]
["per H.D.","per H.D."]
["per H.H.","per H.H."]
["% Hatching eggs","% Hatching eggs"]
["Std. Hatching eggs (%)","Std. Hatching eggs (%)"]
[]
["Feed and water consumption","Feed and water consumption"]
["Feed conversion","Feed conversion"]
["Body weight","Body weight"]
["kg per week","kg per week"]
["per day (g/bird)","per day (g/bird)"]
["cumul. cons.","cumul. cons."]
["Water cons./ day (ml/bird)","Water cons./ day (ml/bird)"]
["g / egg","g / egg"]
["g / hatching egg","g / hatching egg"]
["actual (g/10) females","actual (g/10) females"]
["standard (g/10)","standard (g/10)"]
["actual (g/10) males","actual (g/10) males"]
[]
["Mortality % cum.","Mortality % cum."]
["Fem. Mort (%)","Fem. Mort (%)"]
["Male Mort. (%)","Male Mort. (%)"]
["Act. Fem. Body Wt (g)","Act. Fem. Body Wt (g)"]
["Act. Male Body Wt (g)","Act. Male Body Wt (g)"]
[]
["Egg Production per HD","Egg Production per HD"]
["Hatchability","Hatchability"]
["Act. Prod.","Act. Prod."]
["Act. A1-Hatch","Act. A1-Hatch"]
["No. Eggs / HH","No. Eggs / HH"]
["No. Chx / HH","No. Chx / HH"]
["Liveability","Liveability"]
["Body weight (g)","Body weight (g)"]
["Body weight (g/10) - Feed and Water consumption (g/hen/day)","Body weight (g/10) - Feed and Water consumption (g/hen/day)"]
["Fem. Body Weight","Fem. Body Weight"]
["Male Body Weight","Male Body Weight"]
["Feed consumption","Feed consumption"]
["Water consumption","Water consumption"]
["additional trait","additional trait"]

{"sheet":"Tabelle6","index":13,"n_rows":0,"n_cols":0,"rows_kept":0,"hidden":true}

{"sheet":"Tabelle7","index":14,"n_rows":0,"n_cols":0,"rows_kept":0,"hidden":true}

{"sheet":"Tabelle8","index":15,"n_rows":0,"n_cols":0,"rows_kept":0,"hidden":true}

{"sheet":"Tabelle9","index":16,"n_rows":0,"n_cols":0,"rows_kept":0,"hidden":true}

{"sheet":"Tabelle10","index":17,"n_rows":0,"n_cols":0,"rows_kept":0,"hidden":true}

{"sheet":"Tabelle11","index":18,"n_rows":0,"n_cols":0,"rows_kept":0,"hidden":true}

{"sheet":"Tabelle12","index":19,"n_rows":0,"n_cols":0,"rows_kept":0,"hidden":true}

{"sheet":"Tabelle13","index":20,"n_rows":0,"n_cols":0,"rows_kept":0,"hidden":true}

{"sheet":"Tabelle14","index":21,"n_rows":0,"n_cols":0,"rows_kept":0,"hidden":true}

{"sheet":"Tabelle15","index":22,"n_rows":0,"n_cols":0,"rows_kept":0,"hidden":true}

{"sheet":"Tabelle16","index":23,"n_rows":0,"n_cols":0,"rows_kept":0,"hidden":true}

{"sheet":"Tabelle17","index":24,"n_rows":0,"n_cols":0,"rows_kept":0,"hidden":true}

{"sheet":"Tabelle18","index":25,"n_rows":0,"n_cols":0,"rows_kept":0,"hidden":true}

{"sheet":"Tabelle19","index":26,"n_rows":0,"n_cols":0,"rows_kept":0,"hidden":true}

{"sheet":"Tabelle20","index":27,"n_rows":0,"n_cols":0,"rows_kept":0,"hidden":true}

{"sheet":"Tabelle21","index":28,"n_rows":0,"n_cols":0,"rows_kept":0,"hidden":true}

{"sheet":"Tabelle22","index":29,"n_rows":0,"n_cols":0,"rows_kept":0,"hidden":true}

{"sheet":"Tabelle23","index":30,"n_rows":0,"n_cols":0,"rows_kept":0,"hidden":true}

{"sheet":"Tabelle24","index":31,"n_rows":0,"n_cols":0,"rows_kept":0,"hidden":true}

{"sheet":"Tabelle25","index":32,"n_rows":0,"n_cols":0,"rows_kept":0,"hidden":true}

{"sheet":"Tabelle26","index":33,"n_rows":0,"n_cols":0,"rows_kept":0,"hidden":true}

{"sheet":"Tabelle27","index":34,"n_rows":0,"n_cols":0,"rows_kept":0,"hidden":true}

{"sheet":"Tabelle28","index":35,"n_rows":0,"n_cols":0,"rows_kept":0,"hidden":true}

{"sheet":"Tabelle29","index":36,"n_rows":0,"n_cols":0,"rows_kept":0,"hidden":true}

{"sheet":"Tabelle30","index":37,"n_rows":0,"n_cols":0,"rows_kept":0,"hidden":true}

{"sheet":"Tabelle31","index":38,"n_rows":0,"n_cols":0,"rows_kept":0,"hidden":true}

{"sheet":"Tabelle32","index":39,"n_rows":0,"n_cols":0,"rows_kept":0,"hidden":true}

{"sheet":"Tabelle33","index":40,"n_rows":0,"n_cols":0,"rows_kept":0,"hidden":true}

{"sheet":"Tabelle34","index":41,"n_rows":0,"n_cols":0,"rows_kept":0,"hidden":true}

{"sheet":"Tabelle35","index":42,"n_rows":0,"n_cols":0,"rows_kept":0,"hidden":true}

{"sheet":"Tabelle36","index":43,"n_rows":0,"n_cols":0,"rows_kept":0,"hidden":true}

{"sheet":"Tabelle37","index":44,"n_rows":0,"n_cols":0,"rows_kept":0,"hidden":true}

{"sheet":"Tabelle38","index":45,"n_rows":0,"n_cols":0,"rows_kept":0,"hidden":true}

{"sheet":"Tabelle39","index":46,"n_rows":0,"n_cols":0,"rows_kept":0,"hidden":true}

{"sheet":"Tabelle40","index":47,"n_rows":0,"n_cols":0,"rows_kept":0,"hidden":true}

{"sheet":"Tabelle41","index":48,"n_rows":0,"n_cols":0,"rows_kept":0,"hidden":true}

{"sheet":"Tabelle42","index":49,"n_rows":0,"n_cols":0,"rows_kept":0,"hidden":true}

{"sheet":"Tabelle43","index":50,"n_rows":0,"n_cols":0,"rows_kept":0,"hidden":true}

{"sheet":"Tabelle44","index":51,"n_rows":0,"n_cols":0,"rows_kept":0,"hidden":true}

{"sheet":"Tabelle45","index":52,"n_rows":0,"n_cols":0,"rows_kept":0,"hidden":true}

{"sheet":"Tabelle46","index":53,"n_rows":0,"n_cols":0,"rows_kept":0,"hidden":true}

{"sheet":"Tabelle47","index":54,"n_rows":0,"n_cols":0,"rows_kept":0,"hidden":true}

{"sheet":"Tabelle48","index":55,"n_rows":0,"n_cols":0,"rows_kept":0,"hidden":true}

{"sheet":"Tabelle49","index":56,"n_rows":0,"n_cols":0,"rows_kept":0,"hidden":true}

{"sheet":"Tabelle50","index":57,"n_rows":0,"n_cols":0,"rows_kept":0,"hidden":true}

{"sheet":"Tabelle51","index":58,"n_rows":0,"n_cols":0,"rows_kept":0,"hidden":true}

{"sheet":"Tabelle52","index":59,"n_rows":0,"n_cols":0,"rows_kept":0,"hidden":true}

{"sheet":"Tabelle53","index":60,"n_rows":0,"n_cols":0,"rows_kept":0,"hidden":true}

{"sheet":"Tabelle54","index":61,"n_rows":0,"n_cols":0,"rows_kept":0,"hidden":true}

{"sheet":"Tabelle55","index":62,"n_rows":0,"n_cols":0,"rows_kept":0,"hidden":true}

{"sheet":"Tabelle56","index":63,"n_rows":0,"n_cols":0,"rows_kept":0,"hidden":true}

{"sheet":"Tabelle57","index":64,"n_rows":0,"n_cols":0,"rows_kept":0,"hidden":true}

{"sheet":"Tabelle58","index":65,"n_rows":0,"n_cols":0,"rows_kept":0,"hidden":true}

{"sheet":"Tabelle59","index":66,"n_rows":0,"n_cols":0,"rows_kept":0,"hidden":true}

{"sheet":"Tabelle60","index":67,"n_rows":0,"n_cols":0,"rows_kept":0,"hidden":true}

{"sheet":"Tabelle61","index":68,"n_rows":0,"n_cols":0,"rows_kept":0,"hidden":true}

{"sheet":"Tabelle62","index":69,"n_rows":0,"n_cols":0,"rows_kept":0,"hidden":true}

{"sheet":"Tabelle63","index":70,"n_rows":0,"n_cols":0,"rows_kept":0,"hidden":true}

{"sheet":"Tabelle64","index":71,"n_rows":0,"n_cols":0,"rows_kept":0,"hidden":true}

{"sheet":"Tabelle65","index":72,"n_rows":0,"n_cols":0,"rows_kept":0,"hidden":true}

{"sheet":"Tabelle66","index":73,"n_rows":0,"n_cols":0,"rows_kept":0,"hidden":true}

{"sheet":"Tabelle67","index":74,"n_rows":0,"n_cols":0,"rows_kept":0,"hidden":true}

{"sheet":"Tabelle68","index":75,"n_rows":0,"n_cols":0,"rows_kept":0,"hidden":true}

{"sheet":"Tabelle69","index":76,"n_rows":0,"n_cols":0,"rows_kept":0,"hidden":true}

{"sheet":"Tabelle70","index":77,"n_rows":0,"n_cols":0,"rows_kept":0,"hidden":true}

{"sheet":"Tabelle71","index":78,"n_rows":0,"n_cols":0,"rows_kept":0,"hidden":true}

{"sheet":"Tabelle72","index":79,"n_rows":0,"n_cols":0,"rows_kept":0,"hidden":true}

{"sheet":"Tabelle73","index":80,"n_rows":0,"n_cols":0,"rows_kept":0,"hidden":true}

{"sheet":"Tabelle74","index":81,"n_rows":0,"n_cols":0,"rows_kept":0,"hidden":true}

{"sheet":"Tabelle75","index":82,"n_rows":0,"n_cols":0,"rows_kept":0,"hidden":true}

{"sheet":"Tabelle76","index":83,"n_rows":0,"n_cols":0,"rows_kept":0,"hidden":true}

{"sheet":"Tabelle77","index":84,"n_rows":0,"n_cols":0,"rows_kept":0,"hidden":true}

{"sheet":"Tabelle78","index":85,"n_rows":0,"n_cols":0,"rows_kept":0,"hidden":true}

{"sheet":"Tabelle79","index":86,"n_rows":0,"n_cols":0,"rows_kept":0,"hidden":true}

{"sheet":"Tabelle80","index":87,"n_rows":0,"n_cols":0,"rows_kept":0,"hidden":true}

{"sheet":"Tabelle81","index":88,"n_rows":0,"n_cols":0,"rows_kept":0,"hidden":true}

{"sheet":"Tabelle82","index":89,"n_rows":0,"n_cols":0,"rows_kept":0,"hidden":true}

{"sheet":"Tabelle83","index":90,"n_rows":0,"n_cols":0,"rows_kept":0,"hidden":true}

{"sheet":"Tabelle84","index":91,"n_rows":0,"n_cols":0,"rows_kept":0,"hidden":true}

{"sheet":"Tabelle85","index":92,"n_rows":0,"n_cols":0,"rows_kept":0,"hidden":true}

{"sheet":"Tabelle86","index":93,"n_rows":0,"n_cols":0,"rows_kept":0,"hidden":true}

{"sheet":"Tabelle87","index":94,"n_rows":0,"n_cols":0,"rows_kept":0,"hidden":true}

{"sheet":"Tabelle88","index":95,"n_rows":0,"n_cols":0,"rows_kept":0,"hidden":true}

{"sheet":"Tabelle89","index":96,"n_rows":0,"n_cols":0,"rows_kept":0,"hidden":true}

{"sheet":"Tabelle90","index":97,"n_rows":0,"n_cols":0,"rows_kept":0,"hidden":true}

{"sheet":"Tabelle91","index":98,"n_rows":0,"n_cols":0,"rows_kept":0,"hidden":true}

{"sheet":"Tabelle92","index":99,"n_rows":0,"n_cols":0,"rows_kept":0,"hidden":true}

{"sheet":"Tabelle93","index":100,"n_rows":0,"n_cols":0,"rows_kept":0,"hidden":true}

{"sheet":"Tabelle94","index":101,"n_rows":0,"n_cols":0,"rows_kept":0,"hidden":true}

{"sheet":"Tabelle95","index":102,"n_rows":0,"n_cols":0,"rows_kept":0,"hidden":true}

{"sheet":"Tabelle96","index":103,"n_rows":0,"n_cols":0,"rows_kept":0,"hidden":true}

{"sheet":"Tabelle97","index":104,"n_rows":0,"n_cols":0,"rows_kept":0,"hidden":true}

{"sheet":"Tabelle98","index":105,"n_rows":0,"n_cols":0,"rows_kept":0,"hidden":true}

{"sheet":"Tabelle99","index":106,"n_rows":0,"n_cols":0,"rows_kept":0,"hidden":true}

{"sheet":"Tabelle100","index":107,"n_rows":0,"n_cols":0,"rows_kept":0,"hidden":true}